{"text_format":"1","workbook":"xlsx","n_sheets":32,"sheets":["Information","Contents","Sector Definitions","International Exports - Table","International Exports-Detailed","International- Top Destinations","International Exports - Chart","Rest of the UK Exports - Table","Rest of the UK Exports -Detail","RUK Exports - Chart","Food and Drink - Chart","Engineering - Chart","Energy - Chart","Financial & Business - Chart","Technology... - Chart","Chemical Sciences - Chart","Wholesale & Retail - Chart","Life Sciences - Chart","Transport & Storage - Chart","Education - Chart","Sustainable Tourism - Chart","Textiles - Chart","Forest and Timber - Chart","Services & Accommodation- Chart","Construction-Chart","Real Estate - Chart","Business Base by Size","Business Base by Sub-Sector","Enterprises by Size&Sector","Employment by Size&Sector","Turnover by Size&Sector","Chart Data - Sectors"],"not_rendered":{"charts":36,"images":1,"macros":1,"external_links":0,"defined_names":1,"comments":0,"pivot_tables":0},"unopened":[{"sheet":"International Exports - Chart","index":6,"reason":"not_a_worksheet"},{"sheet":"RUK Exports - Chart","index":9,"reason":"not_a_worksheet"},{"sheet":"Food and Drink - Chart","index":10,"reason":"not_a_worksheet"},{"sheet":"Engineering - Chart","index":11,"reason":"not_a_worksheet"},{"sheet":"Energy - Chart","index":12,"reason":"not_a_worksheet"},{"sheet":"Financial & Business - Chart","index":13,"reason":"not_a_worksheet"},{"sheet":"Technology... - Chart","index":14,"reason":"not_a_worksheet"},{"sheet":"Chemical Sciences - Chart","index":15,"reason":"not_a_worksheet"},{"sheet":"Wholesale & Retail - Chart","index":16,"reason":"not_a_worksheet"},{"sheet":"Life Sciences - Chart","index":17,"reason":"not_a_worksheet"},{"sheet":"Transport & Storage - Chart","index":18,"reason":"not_a_worksheet"},{"sheet":"Education - Chart","index":19,"reason":"not_a_worksheet"},{"sheet":"Sustainable Tourism - Chart","index":20,"reason":"not_a_worksheet"},{"sheet":"Textiles - Chart","index":21,"reason":"not_a_worksheet"},{"sheet":"Forest and Timber - Chart","index":22,"reason":"not_a_worksheet"},{"sheet":"Services & Accommodation- Chart","index":23,"reason":"not_a_worksheet"},{"sheet":"Construction-Chart","index":24,"reason":"not_a_worksheet"},{"sheet":"Real Estate - Chart","index":25,"reason":"not_a_worksheet"}],"bounds":{"document_bytes":16777216,"sheet_cells":100000,"rows_first":2000,"rows_last":500,"rows_between":2000,"halvings":0,"cell_chars":16384,"cell_head_chars":4096},"cells_cut":0,"cells_raw":0,"read":"whole","date_system":"1900"}

{"sheet":"Information","index":0,"n_rows":31,"n_cols":5,"rows_kept":31,"cut":false,"hidden":false,"merged":[]}
[]
[null,"Scotland's Export Performance Monitor",null,null,"Contents page"]
[]
[]
[null,"Introduction"]
[null,"This analysis has been produced to support the development of our new export growth plan - Scotland: A Trading Nation:\n"]
[null,"https://www.gov.scot/publications/scotland-a-trading-nation/"]
[null,"It's based on the existing export data from latest version of Export Statistics Scotland (ESS) but presented with the aim to be more accessible and user friendly.  By using new sector definitions and including more detailed sub-sector breakdowns, it can help users to understand current and past export performance in Scotland.  As well as detailed information on international and rest of the UK exports for each sector and sub-sector, this tool has been supplemented with data on number of businesses, size of businesses, turnover and employment."]
[]
[null,"Sectors"]
[null,"The sector and sub-sector definitions used in this analysis, which are based on the Standard Industrial Classification (SIC) of the reporting company, were developed in collaboration with our partner organisations, Scottish Enterprise and Scottish Development International to try and give a more detailed analysis than is currently provided from the published ESS data.  The ESS data excludes exports of oil and gas extracted from the UK Continental Shelf.  However exports of services provided to the oil and gas sector are included and cross over a number of key sectors, including energy (energy support) and engineering.  For some sectors current export data may not capture all export activity and work will continue to improve this data going forward. "]
[]
[null,"Destination Country"]
[null,"This analysis provides the top 10 export destination countries for each sector and sub-sector.  However the current ESS methodology means that destination country data should be treated as indicative only, particularly for the smaller sectors and sub-sectors."]
[]
[null,"Methodology and Sources"]
[null,"All of the export data in this analysis is based on the data produced for ESS 2017. For further information on the methodology and data sources please refer to the ESS publication below."]
[null,"https://www2.gov.scot/Resource/0054/00545619.pdf"]
[]
[null,"Growth Comparison with Inflation"]
[null,"This analysis includes comparisons with inflation for each sector and sub-sector.  This is to help assess whether export growth has outperformed what we might have expected if the nominal value had increased in line with inflation, and to highlight the sectors and sub-sectors that have demonstrated strong performance.  The inflation rate used is the Consumer Price Inflation taken from the ONS website."]
[null,"https://www.ons.gov.uk/economy/inflationandpriceindices/datasets/consumerpriceinflation"]
[]
[null,"Business Statistics"]
[null,"The business statistics are sourced from the Inter-Departmental Business Register (IDBR).  The IDBR, maintained by the Office for National Statistics, is a database of all enterprises registered for VAT and/or PAYE, covering 99 per cent of economic activity in the UK.  Those excluded are small businesses with no employees and an annual turnover below the VAT threshold (£83,000 as at March 2017).  Although the IDBR is not usually the preferred source for sectoral employment or turnover, IDBR employment and turnover data has been used here for consistency with the IDBR business counts and to provide a breakdown by business size.  Note that business size here has been defined according to the number of employees that the business employs in Scotland (rather than UK-wide). Further information on business statistics, including methodology, can be found via the link below."]
[null,"https://www2.gov.scot/Topics/Statistics/Browse/Business"]
[]
[null,"Feedback"]
[null,"This tool has been published as experimental analysis.  We plan to develop this analysis and publish further versions.  To help with this,  we would welcome any feedback you may have and would be particularly interested in knowing how you make use of this data.  Please email any comments to:"]
[null,"exports.statistics@gov.scot"]
[null,"Version 2"]

{"sheet":"Contents","index":1,"n_rows":36,"n_cols":4,"rows_kept":36,"cut":false,"hidden":false,"merged":[]}
[]
[null,"Scotland's Export Performance Monitor"]
[]
[null,"Contents"]
[]
[null,"Sheet Name","Description"]
[null,"Sector Definitions","Lists the Standard Industrial Classification codes for each of the sectors and sub-sectors.","Link"]
[null,"International Exports - Table","For each broad sector, provides value of international exports for 2002 to 2017 and proportion of total international exports. Also includes percentage change over 5, 10 and 14 year periods comparing against inflation.","Link"]
[null,"International Exports-Detailed","For each sub-sector, provides value of international exports for 2002 to 2017 and proportion of total international exports. Also includes percentage change over 5, 10 and 14 year periods comparing against inflation.","Link"]
[null,"International- Top Destinations","Tables for each sector and sub-sector detailing their top ten export destination countries.","Link"]
[null,"International Exports - Chart","A chart which allows  comparison of international exports between sectors."]
[null,"Rest of the UK Exports - Table","For each broad sector, provides value of exports to the rest of the UK for 2002 to 2017 and proportion of total RUK exports. Also includes percentage change over 5, 10 and 15 year periods comparing against inflation.","Link"]
[null,"Rest of the UK Exports -Detail","For each sub-sector, provides value of exports to the rest of the UK for 2002 to 2017 and proportion of total RUK exports. Also includes percentage change over 5, 10 and 15 year periods comparing against inflation.","Link"]
[null,"RUK Exports - Chart","A chart which allows  comparison of exports to the rest of the UK between sectors.","Link"]
[null,"Food and Drink - Chart","A chart which breaks down Food and Drink by its sub-sector categories for both international and rest of UK exports."]
[null,"Engineering and Advanced Manufacturing - Chart","A chart which breaks down Engineering and Advanced Manufacturing by its sub-sector categories for both international and rest of UK exports."]
[null,"Energy - Chart","A chart which breaks down Energy by its sub-sector categories for both international and rest of UK exports."]
[null,"Financial and Business Services - Chart","A chart which breaks down Financial and Business Services by its sub-sector categories for both international and rest of UK exports."]
[null,"Technology, Digital and Media - Chart","A chart which breaks down Technology, Digital and Media by its sub-sector categories for both international and rest of UK exports."]
[null,"Chemical Sciences - Chart","A chart which breaks down Chemical Sciences for both international and rest of UK exports."]
[null,"Wholesale and Retail - Chart","A chart which breaks down Wholesale and Retail by its sub-sector categories for both international and rest of UK exports."]
[null,"Life Sciences - Chart","A chart which breaks down Life Sciences by its sub-sector categories for both international and rest of UK exports."]
[null,"Transportation and Storage - Chart","A chart which breaks down Transportation and Storage by its sub-sector categories for both international and rest of UK exports."]
[null,"Education - Chart","A chart which breaks down Education both international and rest of UK exports."]
[null,"Sustainable Tourism - Chart","A chart which breaks down Sustainable Tourism for both international and rest of UK exports."]
[null,"Textiles - Chart","A chart which breaks down Textiles for both international and rest of UK exports."]
[null,"Forest and Timber - Chart","A chart which breaks down Forest and Timber Technologies for both international and rest of UK exports."]
[null,"Services & Accommodation - Chart","A chart which breaks down Other Services and Accommodation for both international and rest of UK exports."]
[null,"Construction - Chart","A chart which breaks down Construction for both international and rest of UK exports."]
[null,"Real Estate - Chart","A chart which breaks down Real Estate for both international and rest of UK exports."]
[null,"Business Base by Size","Overview of businesses including Number of Enterprises, Employment and Turnover split by employment size. This covers all private sector VAT/PAYE registered companies and SE/HIE account managed companies.","Link"]
[null,"Business Base by Sub-Sector","Overview of businesses including Number of Enterprises, Employment and Turnover split by sub-sector. This covers all private sector VAT/PAYE registered companies and SE/HIE account managed companies.","Link"]
[null,"Enterprises by Size&Sector","A table showing the number of enterprises by size (based on number of employees) for each sector and sub-sector.","Link"]
[null,"Employment by Size&Sector","A table showing total employment by size of enterprise for each sector and sub-sector.","Link"]
[null,"Turnover by Size&Sector","A table showing total turnover by size of enterprise for each sector and sub-sector.","Link"]
[null,null,null,"Version 2"]

{"sheet":"Sector Definitions","index":2,"n_rows":121,"n_cols":4,"rows_kept":121,"cut":false,"hidden":false,"merged":[[57,2,58,2],[42,2,44,2],[63,0,65,0],[67,0,69,0],[71,0,75,0],[71,1,73,1],[71,2,73,2],[74,1,75,1],[7,0,10,0],[7,1,9,1],[7,2,9,2],[29,0,36,0],[30,1,36,1],[30,2,36,2],[14,2,17,2],[18,1,19,1],[18,2,19,2],[12,1,13,1],[14,1,17,1],[12,2,13,2],[12,0,27,0],[20,1,21,1],[20,2,21,2],[22,1,27,1],[22,2,27,2],[74,2,75,2],[79,0,92,0],[79,1,92,1],[79,2,92,2],[38,0,49,0],[42,1,44,1],[60,0,61,0],[60,1,61,1],[60,2,61,2],[45,1,49,1],[45,2,49,2],[51,0,58,0],[53,1,56,1],[53,2,56,2],[57,1,58,1],[94,0,96,0],[94,1,96,1],[94,2,96,2],[116,0,118,0],[116,1,118,1],[116,2,118,2],[98,0,100,0],[98,1,100,1],[98,2,100,2],[102,0,114,0],[102,1,114,1],[102,2,114,2]]}
["Sector Definitions ",null,null,"Contents page"]
[]
["The sector definitions relates are based on the Standard Industrial Classification (SIC) of the reporting company. Further information on SIC can be found using the link below."]
["https://www.ons.gov.uk/methodology/classificationsandstandards/ukstandardindustrialclassificationofeconomicactivities/uksic2007"]
["Note, each sector and sub-sector name is followed by G, to denote goods, or S to denote services. This is based on the main activity for that particular sector."]
[]
["Sector","Sub-Sector","Goods (G) / Services (S)","SIC Codes Included"]
["Food and Drink","Food","Goods (G)","01: Crop and Animal Production, Hunting and Related Service Activities"]
[null,null,null,"03: Fishing and Aquaculture"]
[null,null,null,"10: Manufacture of Food Products"]
[null,"Drink","Goods (G)","11: Manufacture of Beverages"]
[]
["Engineering and Advanced Manufacturing","Metal Manufacturing","Goods (G)","24: Manufacture of Basic Metals"]
[null,null,null,"25: Manufacture of Fabricated and Metal Products, except Machinery and Equipment "]
[null,"Advanced Manufacturing","Goods (G)","22: Manufacture of rubber and plastic products"]
[null,null,null,"23: Manufacture of other non-metallic mineral products"]
[null,null,null,"27: Manufacture of Electrical Equipment"]
[null,null,null,"28: Manufacture of Machinery and Equipment (not elsewhere classified)"]
[null,"Transport Equipment","Goods (G)","29: Manufacture of Motor Vehicles, Trailers and Semi-Trailers"]
[null,null,null,"30: Manufacture of Other Transport Equipment"]
[null,"Engineering Services","Services (S)","71: Architectural and engineering activities; technical testing and analysis"]
[null,null,null,"33: Repair and installation of machinery and equipment"]
[null,"Other Manufacturing","Goods (G)","31: Manufacture of furniture"]
[null,null,null,"32.1: Manufacture of jewellery, bijouterie and related articles"]
[null,null,null,"32.2: Manufacture of musical instruments"]
[null,null,null,"32.3: Manufacture of sports goods"]
[null,null,null,"32.4: Manufacture of games and toys"]
[null,null,null,"32.9: Manufacturing n.e.c"]
[]
["Energy","Energy Support","Services (S)","09: Mining Support Service Activities"]
[null,"Mining and Utilities","Goods (G)","05: Mining of coal and lignite"]
[null,null,null,"08: Other mining and quarrying"]
[null,null,null,"35: Electricity, gas, steam and air conditioning supply"]
[null,null,null,"36: Water collection, treatment and supply"]
[null,null,null,"37: Sewerage"]
[null,null,null,"38: Waste collection, treatment and disposal activities; materials recovery"]
[null,null,null,"39: Remediation activities and other waste management services"]
[]
["Financial and Business Services","Financial Service Activities","Services (S)","64: Financial service activities, except insurance and pension funding"]
[null,"Insurance and Pensions","Services (S)","65: Insurance, reinsurance and pension funding, except compulsory social security"]
[null,"Financial Support Activities","Services (S)","66: Activities auxiliary to financial Services and insurance Activities"]
[null,"Legal and Accounting","Services (S)","69: Legal and accounting activities"]
[null,"Management Consultancy","Services (S)","70: Activities of head offices; management consultancy activities"]
[null,null,null,"73: Advertising and market research"]
[null,null,null,"74: Other professional, scientific and technical activities"]
[null,"Business Support Activities","Services (S)","77: Rental and leasing activities"]
[null,null,null,"78: Employment activities"]
[null,null,null,"80: Security and investigation activities"]
[null,null,null,"81: Services to buildings and landscape activities"]
[null,null,null,"82: Office administrative, office support and other business support activities"]
[]
["Technology, Digital and Media","Manufacture of Computer, Electronic and Optical Products","Goods (G)","26: Manufacture of Computer, Electronic and Optical Products"]
[null,"Digital Industries","Services (S)","62: Computer Programming, Consultancy and Related Activities"]
[null,"Publishing and Audio Visual","Services (S)","18: Printing and reproduction of recorded media"]
[null,null,null,"58: Publishing Activities"]
[null,null,null,"59: Motion Picture, Video and Television Programme Production, Sound Recording and Music Publishing Activities"]
[null,null,null,"60: Programming and Broadcasting Activities"]
[null,"IT and Telecommunications","Services (S)","61: Telecommunications"]
[null,null,null,"63: Information Service Activities"]
[]
["Chemical Sciences","Chemical Sciences","Goods (G)","19: Manufacture of coke and refined petroleum products"]
[null,null,null,"20: Manufacture of chemicals and chemical products"]
[]
["Wholesale and Retail Trade","Trade and Repair of Vehicles","Services (S)","45: Wholesale and Retail Trade and repair of motor vehicles and motorcycles *"]
[null,"Wholesale Trade","Services (S)","46: Wholesale Trade, except of motor vehicles and motorcycles *"]
[null,"Retail Trade","Services (S)","47: Retail Trade, except of motor vehicles and motorcycles *"]
[]
["Life Sciences","Pharmaceuticals","Goods (G)","21: Manufacture of basic pharmaceutical products and pharmaceutical preparations"]
[null,"Manufacture of Medical Equipment","Goods (G)","32.5: Manufacture of medical and dental instruments and supplies"]
[null,"Research","Services (S)","72: Scientific research and development"]
[]
["Transportation and Storage","Transportation","Services (S)","49: Land transport and transport via pipelines"]
[null,null,null,"50: Water transport"]
[null,null,null,"51: Air transport"]
[null,"Storage","Services (S)","52: Warehousing and support activities for transportation"]
[null,null,null,"53: Postal and courier activities"]
[]
["Education","Education","Services (S)","85: Education"]
[]
["Sustainable Tourism","Sustainable Tourism","Services (S)","55.1: Hotels and similar Accommodation"]
[null,null,null,"55.2: Holiday and other short-stay Accommodation"]
[null,null,null,"55.3: Camping grounds, recreational vehicle parks and trailer parks"]
[null,null,null,"56.1: Restaurants and mobile food Service Activities"]
[null,null,null,"56.3: Beverage serving Activities"]
[null,null,null,"79.12: Tour operator Activities"]
[null,null,null,"79.9: Other reservation Service and related Activities"]
[null,null,null,"91.02: Museum Activities"]
[null,null,null,"91.03: Operation of historical sites and buildings and similar visitor attractions"]
[null,null,null,"91.04: Botanical and zoological gardens and nature reserve Activities"]
[null,null,null,"93.11: Operation of sports facilities"]
[null,null,null,"93.199: Other sports Activities (not including Activities of racehorse owners) nec"]
[null,null,null,"93.21 Activities of amusement parks and theme parks"]
[null,null,null,"93.29: Other amusement and recreation Activities"]
[]
["Textiles","Textiles","Goods (G)","13: Manufacture of textiles"]
[null,null,null,"14: Manufacture of wearing apparel"]
[null,null,null,"15: Manufacture of leather and related products"]
[]
["Forest and Timber Technologies","Forest and Timber Technologies","Goods (G)","02: Forestry and logging"]
[null,null,null,"16: Manufacture of wood and of products of wood and cork, except furniture; manufacture of articles of straw and plaiting materials"]
[null,null,null,"17: Manufacture of paper and paper products"]
[]
["Other Services and Accommodation","Other Services and Accommodation","Services (S)","55.9: Other Accommodation"]
[null,null,null,"56.2: Event catering and other food service activities"]
[null,null,null,"79.11: Travel agency activities"]
[null,null,null,"87: Residential care activities"]
[null,null,null,"88:  Social work activities without Accommodation"]
[null,null,null,"90: Creative, arts and entertainment activities"]
[null,null,null,"91.01: Library and archive activities"]
[null,null,null,"92: Gambling and betting activities"]
[null,null,null,"93.12: Activities of sport clubs"]
[null,null,null,"93.13: Fitness facilities"]
[null,null,null,"93.19/1: Activities of racehorse owners"]
[null,null,null,"95: Repair of computers and personal and household goods"]
[null,null,null,"96: Other personal service activities"]
[]
["Construction","Construction","Services (S)","41: Construction of buildings"]
[null,null,null,"42: Civil Engineering "]
[null,null,null,"43: Specialised Construction Activities "]
[]
["Real Estate","Real Estate","Services (S)","68: Real Estate activities"]

{"sheet":"International Exports - Table","index":3,"n_rows":42,"n_cols":31,"rows_kept":42,"cut":false,"hidden":false,"merged":[[1,18,1,19],[0,25,0,30],[1,21,1,23],[1,25,1,26],[1,27,1,28],[1,29,1,30]]}
["International Exports by Sector, 2002 - 2017",null,null,null,null,null,null,null,null,null,null,null,null,null,null,"Contents page",null,null,null,null,null,null,null,null,null,"Growth Comparison (Actual vs Inflation)"]
["(£ million)",null,null,null,null,null,null,null,null,null,null,null,null,null,null,null,null,null,"Change 2017 - 2016",null,null,"Average Compound Growth rate",null,null,null,"2012 to 2017",null,"2007 to 2017",null,"2002 to 2017"]
["Sector",2002,2003,2004,2005,2006,2007,2008,2009,2010,2011,2012,2013,2014,2015,2016,2017,null,"Num","Per cent",null,"2012 to 2017","2007 to 2017","2002 to 2017",null,"Actual","Inflation","Actual","Inflation","Actual","Inflation"]
["Food and Drink",3095,3205,3140,3270,3305,3695,3995,4230,4680,5640,5805,5715,5560,5550,5780,6345,null,570,9.8311711965495263E-2,null,1.8001207668548291E-2,5.55072679570765E-2,4.8987807204492473E-2,null,9.3305331768407385E-2,7.6994082709999495E-2,0.71637539840472741,0.26541708858388002,1.0490690977539012,0.38885883187556547]
["Engineering and Advanced Manufacturing",3580,3405,3400,3590,3780,4385,4760,4750,4755,4785,5525,6155,6260,5985,6115,5700,null,-415,-6.7864457877794604E-2,null,6.32965486310888E-3,2.6600011114308986E-2,3.148676326078137E-2,null,3.2051463604913621E-2,null,0.30020743835588526,null,0.59204334526617974]
["Energy",745,675,810,965,1090,1435,1410,1820,2570,3080,3080,3135,3530,4130,3895,3780,null,-115,-2.9906095240102459E-2,null,4.1988594857998329E-2,0.10160779207740167,0.11432210015066158,null,0.22832934397633164,null,1.6319036831724234,null,4.0717887768604735]
["Financial and Business Services",1600,1355,1615,1715,1915,1595,1835,2465,2515,2915,2880,3090,3235,3135,3285,3355,null,70,2.1108884826066543E-2,null,3.1114154619150014E-2,7.7180392924473207E-2,5.048517389787488E-2,null,0.1655576076414158,null,1.1032185178457987,null,1.0933840461800672]
["Technology, Digital and Media",5920,4690,3705,2715,2460,2200,2270,2190,2180,2185,2170,2400,2055,2530,2415,3345,null,930,0.38506209235101396,null,9.0645273864819131E-2,4.2835785286306383E-2,-3.7298202189713803E-2,null,0.54318363391859092,null,0.52110522184357699,null,-0.43457273986802558]
["Chemical Sciences",1950,1985,2045,2155,2310,2510,2990,2320,2550,3345,2825,2755,2130,2580,2345,3160,null,815,0.34863023803946414,null,2.2900954047073263E-2,2.3420648482902484E-2,3.2680491249638344E-2,null,0.11987079365535158,null,0.26049680812685083,null,0.61990516521301875]
["Wholesale and Retail Trade",995,960,1095,1065,1395,1560,1605,1460,1365,1595,1850,1855,1690,1745,2015,1890,null,-125,-6.1200308324529162E-2,null,4.6260085591649514E-3,1.9561693888414222E-2,4.3866427720727241E-2,null,2.3345034603386772E-2,null,0.21376637368449569,null,0.90403073235652753]
["Life Sciences",745,875,790,800,805,935,925,835,1005,900,925,1015,1130,1280,1330,1570,null,240,0.18058979420190879,null,0.11149828666958173,5.2773701769219583E-2,5.0775128892349253E-2,null,0.69646142130450284,null,0.67243896577428286,null,1.1020680528140958]
["Transportation and Storage",570,680,745,580,695,675,900,870,785,915,835,1055,1135,1000,1245,1175,null,-70,-5.5817967875285923E-2,null,7.0272928482037811E-2,5.7165988015609681E-2,4.9169048227236889E-2,null,0.40434141129314072,null,0.74353962597529821,null,1.0543860070953861]
["Education",170,255,255,280,305,280,330,400,440,515,560,630,700,745,770,775,null,5,7.0188855992761034E-3,null,6.7329885833345537E-2,0.10664822370649496,0.10574156719291361,null,0.38513897760130056,null,1.7548370337724957,null,3.5165262571993425]
["Sustainable Tourism",175,280,265,285,320,280,280,280,265,305,285,290,390,360,330,335,null,5,2.1526354816735482E-2,null,3.2601836276924256E-2,1.8443190123077269E-2,4.4238590269751743E-2,null,0.17399018237715946,null,0.20051636865227906,null,0.91423864922304543]
["Textiles",395,390,395,375,390,340,340,295,290,350,370,360,360,375,340,325,null,-15,-4.9019974594817328E-2,null,-2.6678940613143354E-2,-3.7971521198653102E-3,-1.2857792900179632E-2,null,-0.12646441640023132,null,-3.732922119692228E-2,null,-0.17643890837832854]
["Forest and Timber Technologies",305,335,385,375,345,330,340,320,365,350,375,395,335,435,370,290,null,-85,-0.22396273654886001,null,-5.0124019656358376E-2,-1.2644402677047806E-2,-3.2958848414307296E-3,null,-0.22672400457156971,null,-0.1194866898567114,null,-4.8313802977530518E-2]
["Other Services and Accommodation",140,165,195,175,170,175,245,255,175,175,195,220,195,110,125,180,null,55,0.43818389840170768,null,-1.9667175851793228E-2,1.0826292508443469E-3,1.5204856456137783E-2,null,-9.454322828354933E-2,null,1.0879188943742735E-2,null,0.25402241549656046]
["Construction",85,265,180,230,180,155,185,150,115,95,90,105,140,110,140,140,null,0,7.758309031937749E-4,null,9.1209963043455078E-2,-1.0066912585823595E-2,3.582560864682649E-2,null,0.54718274322367466,null,-9.6228997123962268E-2,null,0.69550727558620862]
["Real Estate",20,45,20,20,35,35,45,55,50,40,40,45,65,75,50,75,null,25,0.46484300534931289,null,0.12508759993832341,8.3478942091007591E-2,9.2126797511961067E-2,null,0.80273417078725551,null,1.2294860036229909,null,2.7505585771401759]
[]
[]
["Total International Exports",20495,19560,19035,18595,19500,20580,22460,22695,24110,27195,27805,29215,28905,30135,30550,32440,null,1890,6.188764549153758E-2,null,3.1323337319086431E-2,4.6547705339643253E-2,3.1081272697560225E-2,null,0.16674037402977682,null,0.57612369453769019,null,0.58268134726500587]
[]
[]
["Proportion of Total International Exports by Sector, 2002 - 2017"]
["Sector",2002,2003,2004,2005,2006,2007,2008,2009,2010,2011,2012,2013,2014,2015,2016,2017]
["Food and Drink",0.15108745034059842,0.1637935014901776,0.1650450984511441,0.17576019304819554,0.16957274883022525,0.17962613658535434,0.17778039817669128,0.18643327028077344,0.1941337391738385,0.2073470035312556,0.20874893696308122,0.19556418303526771,0.19230119763045814,0.18413920027155042,0.18912305096316362,0.19561020674587476]
["Engineering and Advanced Manufacturing",0.17470100075676998,0.17406059894755888,0.17855748273661592,0.19307140196892625,0.19374790636668027,0.2130269003943342,0.2118559342236716,0.2092138080568284,0.19715393726648434,0.17604177119880554,0.19866880019057226,0.21060226269045951,0.21661858903070538,0.19864819244932147,0.20019641528651946,0.17573440550543548]
["Energy",3.6369241427393714E-2,3.4413595371857036E-2,4.2496947613392989E-2,5.1887210266821943E-2,5.5898439580955528E-2,6.9794664400738934E-2,6.2848388800750193E-2,8.0173209822352223E-2,0.1066217725947822,0.11332240521024114,0.11070349106614992,0.10722607821484029,0.12209888636252837,0.13698285760781481,0.12757533262925802,0.11654721957337806]
["Financial and Business Services",7.817145121709404E-2,6.9178937997475459E-2,8.4860056145530507E-2,9.2239421845771788E-2,9.8116486993394328E-2,7.7483548482873116E-2,8.1793696215003167E-2,0.10869585295361003,0.10427346075484992,0.10716186321948395,0.10350088985908965,0.10583414412130583,0.11187078280604806,0.10403677973836517,0.10752516397825036,0.1033959673104099]
["Technology, Digital and Media",0.28878064448903418,0.23974798296683256,0.19468954852451312,0.1460566728498584,0.12614908251497323,0.10690115087524339,0.10107029476601513,9.6404732156022008E-2,9.0433440702958431E-2,8.0288609230372357E-2,7.8002398616946647E-2,8.2213512198483996E-2,7.1109196885208822E-2,8.3900751031429452E-2,7.9097118913764142E-2,0.10316950337144512]
["Chemical Sciences",9.5235995446550398E-2,0.10141919604427525,0.10747827876673374,0.1159967711981805,0.11849560702217737,0.12188374209151069,0.13306975062819779,0.10227359421266685,0.10584504223715656,0.12305440994494646,0.10155552133270414,9.4275764184925379E-2,7.3703378788877477E-2,8.5597811899810028E-2,7.6750799285375371E-2,9.7475895071782143E-2]
["Wholesale and Retail Trade",4.8489805261917297E-2,4.908587881844946E-2,5.7476080922930377E-2,5.7197192992272716E-2,7.1411360208812696E-2,7.5750605093419326E-2,7.1569288412943341E-2,6.4345109160970415E-2,5.6566993577273746E-2,5.8661616132486334E-2,6.6509403028225708E-2,6.3470733947312424E-2,5.8427736857599027E-2,5.7881760427870084E-2,6.5983680994451399E-2,5.8335229377802618E-2]
["Life Sciences",3.6386884441837193E-2,4.4724337636962937E-2,4.1407928648560133E-2,4.3027768835138792E-2,4.1375019352037724E-2,4.5544735041736138E-2,4.1231485694315784E-2,3.6804171231623134E-2,4.1680241823474247E-2,3.316170829006948E-2,3.3237503645092988E-2,3.4827268299610463E-2,3.9088561034910353E-2,4.2473583704122957E-2,4.3468805169420102E-2,4.8327926186026542E-2]
["Transportation and Storage",2.7897377104047313E-2,3.4879818003092977E-2,3.9092364177102747E-2,3.1142451348449885E-2,3.5712418652119389E-2,3.2734854373474224E-2,4.0118555592199408E-2,3.8253968369472632E-2,3.257740953044478E-2,3.3671182188423479E-2,3.0085238684022023E-2,3.6064597723373767E-2,3.9222115861306188E-2,3.311405409481339E-2,4.0726282919555275E-2,3.6211952112949003E-2]
["Education",8.3668807349194015E-3,1.2995632806343591E-2,1.3352614106399052E-2,1.515024080999555E-2,1.5698808959138069E-2,1.3660576231021663E-2,1.4740043412243048E-2,1.7693162584160038E-2,1.8313067006140233E-2,1.8904575775656809E-2,2.0112011555914348E-2,2.1483807642602038E-2,2.4150063307468706E-2,2.4713058045265746E-2,2.517767286667762E-2,2.3876718200679811E-2]
["Sustainable Tourism",8.5591559039777387E-3,1.4389558898182352E-2,1.3964409647474947E-2,1.5337647870767171E-2,1.6298592108441288E-2,1.3591135608040089E-2,1.257685685779735E-2,1.2279100376187532E-2,1.1038926826576863E-2,1.1220724541624967E-2,1.0288292313627522E-2,1.0003160427187076E-2,1.3450234699573635E-2,1.1985371182742108E-2,1.0761245172365649E-2,1.0352220972612753E-2]
["Textiles",1.9250916537923889E-2,1.9847258086099041E-2,2.0686457553670427E-2,2.0165452254868058E-2,2.0079066268800485E-2,1.6400846216278499E-2,1.5228053269905107E-2,1.2915211689871716E-2,1.2096917757955452E-2,1.2944172658295269E-2,1.337973073799106E-2,1.2382220150672861E-2,1.2460517618078978E-2,1.2372272428380009E-2,1.1185642135756855E-2,1.0017370752544559E-2]
["Forest and Timber Technologies",1.4786493277201763E-2,1.7114452514678684E-2,2.0209819326210212E-2,2.0036772425475299E-2,1.7729530104153634E-2,1.5915483964404935E-2,1.5083929995420893E-2,1.4092959032978362E-2,1.5184538672170225E-2,1.2896184121669395E-2,1.3415447820938E-2,1.3469414828617131E-2,1.1612839435917554E-2,1.4398075314897457E-2,1.2166382583308341E-2,8.8913043542189485E-3]
["Other Services and Accommodation",6.9457467193449335E-3,8.4094239229285366E-3,1.0134358142449593E-2,9.4670347759406841E-3,8.6265510830852814E-3,8.580681859897776E-3,1.088056935306147E-2,1.1292771624834266E-2,7.1610840310644035E-3,6.3978307300493692E-3,7.0914862216568111E-3,7.4695691698052494E-3,6.76885082602568E-3,3.6506075590607158E-3,4.0634498469760945E-3,5.5033959258267628E-3]
["Construction",4.0272555226311662E-3,1.3547126183240044E-2,9.4348125958979463E-3,1.2364707519595192E-2,9.1941632546679603E-3,7.5239734507313782E-3,8.1420943830516016E-3,6.6967377691548027E-3,4.8519435896050289E-3,3.5298420728175984E-3,3.2534787401322525E-3,3.5104674216269085E-3,4.9080413758426592E-3,3.6781056540782556E-3,4.5778032069361861E-3,4.314349853851253E-3]
["Real Estate",9.4370081531402084E-4,2.3927003087266994E-3,1.1137426490441455E-3,1.0990599957645651E-3,1.8942186979787805E-3,1.5809653324474987E-3,2.0106602223928334E-3,2.432340671311877E-3,2.0674844493346113E-3,1.3961011543171436E-3,1.4473692269128184E-3,1.6028159459629009E-3,2.2090074813537336E-3,2.4275185884202843E-3,1.6211540493540635E-3,2.2363346818022089E-3]

{"sheet":"International Exports-Detailed","index":4,"n_rows":114,"n_cols":31,"rows_kept":114,"cut":false,"hidden":false,"merged":[[1,18,1,19],[0,25,0,30],[1,21,1,23],[1,25,1,26],[1,27,1,28],[1,29,1,30]]}
["International Exports by Sub-Sector, 2002 - 2017",null,null,null,null,null,null,null,null,null,null,null,null,null,null,"Contents page",null,null,null,null,null,null,null,null,null,"Overall Growth Comparison (Actual vs Inflation)"]
["(£ million)",null,null,null,null,null,null,null,null,null,null,null,null,null,null,null,null,null,"Change 2017 - 2016",null,null,"Average Annual Compound Growth rate",null,null,null,"2012 to 2017",null,"2007 to 2017",null,"2002 to 2017"]
["Sector",2002,2003,2004,2005,2006,2007,2008,2009,2010,2011,2012,2013,2014,2015,2016,2017,null,"Num","Per cent",null,"2012 to 2017","2007 to 2017","2002 to 2017",null,"Actual","Inflation","Actual","Inflation","Actual","Inflation"]
["Food and Drink",3095,3205,3140,3270,3305,3695,3995,4230,4680,5640,5805,5715,5560,5550,5780,6345,null,570,9.8311711965495263E-2,null,1.8001207668548291E-2,5.55072679570765E-2,4.8987807204492473E-2,null,9.3305331768407385E-2,7.6994082709999495E-2,0.71637539840472741,0.26541708858388002,1.0490690977539012,0.38885883187556503]
["Drink",2475,2600,2475,2570,2695,3035,3325,3430,3815,4710,4840,4730,4400,4340,4530,4910,null,375,8.2852359059146341E-2,null,2.762017982287146E-3,4.9178309976465551E-2,4.6744709538525386E-2,null,1.3886588343192896E-2,null,0.61619231335667313,null,0.98431958271027353]
["Food",625,605,665,695,610,660,670,800,865,930,965,985,1155,1210,1245,1440,null,195,0.15456615470242396,null,8.3344912507820057E-2,8.0896043224448766E-2,5.7277070072527136E-2,null,0.49222303880663754,null,1.1769039654512738,null,1.3058561037446395]
[]
["Engineering and Advanced Manufacturing",3580,3405,3400,3590,3780,4385,4760,4750,4755,4785,5525,6155,6260,5985,6115,5700,null,-415,-6.7864457877794604E-2,null,6.32965486310888E-3,2.6600011114308986E-2,3.148676326078137E-2,null,3.2051463604913621E-2,null,0.30020743835588526,null,0.59204334526617974]
["Advanced Manufacturing",1720,1735,1740,1720,1730,1810,1940,2020,1975,2160,2385,2580,2680,2465,2440,2205,null,-230,-9.4694037793698116E-2,null,-1.5556064010660342E-2,2.0020303670963635E-2,1.6774431485749419E-2,null,-7.5397761185388212E-2,null,0.21923708939392439,null,0.28342131926488556]
["Transport Equipment",700,765,800,835,940,1010,985,950,1065,930,1025,1250,1190,1160,1350,1490,null,140,0.10393620504327949,null,7.7784117681602538E-2,3.9366634100184816E-2,5.1842854356583867E-2,null,0.45431638642122496,null,0.47125417838340167,null,1.1343366109752084]
["Engineering Services",705,500,450,590,620,1015,1225,1205,1190,1215,1575,1825,1850,1680,1680,1405,null,-275,-0.16337429824428806,null,-2.286648821767312E-2,3.3031155583614025E-2,4.7017406524971994E-2,null,-0.10922188095166452,null,0.38399396933079522,null,0.99208803686991809]
["Metal Manufacturing",400,360,375,400,450,515,570,540,485,440,450,460,495,625,580,530,null,-50,-8.5078929180780971E-2,null,3.4871845419600866E-2,3.1654621205001732E-3,1.9235928270384672E-2,null,0.18695118607246286,null,3.2109355348454827E-2,null,0.33082473274160717]
["Other Manufacturing",60,45,35,50,40,30,35,35,35,40,90,45,45,60,70,70,null,0,-9.0335371001984965E-3,null,-4.9331222064762925E-2,7.8629357467931982E-2,1.0146710266653258E-2,null,-0.22349160602983487,null,1.1316817384078548,null,0.1635011241166453]
[]
["Energy",745,675,810,965,1090,1435,1410,1820,2570,3080,3080,3135,3530,4130,3895,3780,null,-115,-2.9906095240102459E-2,null,4.1988594857998329E-2,0.10160779207740167,0.11432210015066158,null,0.22832934397633164,null,1.6319036831724234,null,4.0717887768604735]
["Energy Support",620,560,695,825,920,1240,1200,1455,2255,2705,2610,2715,3105,3785,3560,3465,null,-100,-2.7539484997868291E-2,null,5.8212446626469072E-2,0.10834716904935471,0.12169099262240501,null,0.3269798458262243,null,1.7974231423784963,null,4.5988455396751622]
["Mining and Utilities",125,115,115,140,170,200,215,360,315,380,470,420,425,345,335,320,null,-20,-5.4988473008749317E-2,null,-7.468619623686823E-2,4.8098866679653574E-2,6.3061467781491354E-2,null,-0.32166347080989111,null,0.59964095164371867,null,1.5025090224858917]
[]
["Financial and Business Services",1600,1355,1615,1715,1915,1595,1835,2465,2515,2915,2880,3090,3235,3135,3285,3355,null,70,2.1108884826066543E-2,null,3.1114154619150014E-2,7.7180392924473207E-2,5.048517389787488E-2,null,0.1655576076414158,null,1.1032185178457987,null,1.0933840461800672]
["Financial Support Activities",370,310,270,275,310,425,535,670,775,860,865,950,970,1065,1105,1155,null,50,4.4821808879598635E-2,null,5.8984934064050254E-2,0.10551788671759876,7.914111895638043E-2,null,0.33183035080781864,null,1.7268279467733345,null,2.1345385424218617]
["Business Support Activities",325,285,300,355,475,575,650,645,555,565,880,985,1155,780,705,680,null,-25,-3.8756637216471046E-2,null,-5.0986538898037281E-2,1.6406353227382597E-2,5.0043596546832436E-2,null,-0.23022843717319497,null,0.17672155865007033,null,1.0802233285070408]
["Management Consultancy",375,255,235,240,275,290,340,440,380,565,485,495,560,685,775,680,null,-95,-0.11970302319084369,null,7.1010619610694103E-2,8.9653692858991274E-2,4.0311532180150378E-2,null,0.40918783529100033,null,1.3598529974040776,null,0.80905258955478487]
["Financial Service Activities",460,410,710,745,745,190,210,610,685,765,505,505,385,415,500,590,null,90,0.17743359502893608,null,3.1647318996769203E-2,0.11968584177637465,1.6736503812008641E-2,null,0.1685741348758476,null,2.0971473416355395,null,0.28270339488553708]
["Legal and Accounting",65,60,70,75,80,80,95,85,100,140,125,145,150,175,195,240,null,45,0.24565417638570541,null,0.13935891724670779,0.11418010560231373,9.0541363653713125E-2,null,0.92000685178361996,null,1.9481800013050914,null,2.6697133498302019]
["Insurance and Pensions",5,40,30,25,35,35,5,15,20,20,15,15,15,10,10,10,null,5,0.4061992704802333,null,-8.8456353611130023E-2,-0.10981110831401275,3.9029402951071601E-2,null,-0.3706570934460155,null,-0.68752037416463097,null,0.77589614321012745]
[]
["Technology, Digital and Media",5920,4690,3705,2715,2460,2200,2270,2190,2180,2185,2170,2400,2055,2530,2415,3345,null,930,0.38506209235101396,null,9.0645273864819131E-2,4.2835785286306383E-2,-3.7298202189713803E-2,null,0.54318363391859092,null,0.52110522184357699,null,-0.43457273986802558]
["Manufacture of Computer, Electronic and Optical Products",5570,4275,3230,2110,1810,1590,1495,1455,1390,1385,1395,1600,1120,1355,1335,1885,null,550,0.41136858902822215,null,6.2114584830033071E-2,1.7364583184043658E-2,-6.9647550250364509E-2,null,0.35162701299644405,null,0.18786243285863113,null,-0.66138001753066211]
["Digital Industries",220,225,235,315,400,345,470,385,450,445,450,485,545,690,605,895,null,290,0.48129279969407435,null,0.1464420554404875,9.9361677105776369E-2,9.7760017396597343E-2,null,0.98043478351153746,null,1.5787303832223754,null,3.0514560584731214]
["IT and Telecommunications",35,65,130,185,135,140,200,210,220,215,195,225,295,375,365,435,null,70,0.1989722475172957,null,0.17795877513434988,0.12220031405197584,0.1836427110398049,null,1.2680386901699414,null,2.1674069043371995,null,11.540343146180863]
["Publishing and Audio Visual",95,120,110,110,120,130,110,135,115,135,130,90,100,110,110,130,null,20,0.15803570208424023,null,7.4733222416267786E-4,1.5040470015585949E-3,2.1894825624903413E-2,null,3.7422503507973381E-3,null,1.5142676461325832E-2,null,0.3838626930867759]
[]
["Chemical Sciences",1950,1985,2045,2155,2310,2510,2990,2320,2550,3345,2825,2755,2130,2580,2345,3160,null,815,0.34863023803946414,null,2.2900954047073263E-2,2.3420648482902484E-2,3.2680491249638344E-2,null,0.11987079365535158,null,0.26049680812685083,null,0.61990516521301875]
[]
["Wholesale and Retail Trade",995,960,1095,1065,1395,1560,1605,1460,1365,1595,1850,1855,1690,1745,2015,1890,null,-125,-6.1200308324529162E-2,null,4.6260085591649514E-3,1.9561693888414222E-2,4.3866427720727241E-2,null,2.3345034603386772E-2,null,0.21376637368449569,null,0.90403073235652753]
["Wholesale Trade",805,750,930,905,1140,1335,1375,1215,1105,1280,1470,1490,1370,1415,1700,1605,null,-95,-5.5630093652267343E-2,null,1.7662735418039421E-2,1.8559859429786218E-2,4.6977152033126579E-2,null,9.1488990495295575E-2,null,0.20189234758895713,null,0.9909395041916107]
["Retail Trade",165,195,150,145,175,180,185,200,205,250,305,320,280,290,270,235,null,-35,-0.12418884148884568,null,-5.0206669620371125E-2,2.9175997954730359E-2,2.3571839499047842E-2,null,-0.22706036486218872,null,0.33320364415175585,null,0.41832231573697243]
["Trade and Repair of Vehicles",20,15,15,20,75,45,45,45,50,65,75,45,40,45,45,50,null,5,0.10247105652757682,null,-6.7835149905565162E-2,9.3728890434672252E-3,6.1261849523168488E-2,null,-0.2961767437233459,null,9.7782636928596345E-2,null,1.439710447345512]
[]
["Life Sciences",745,875,790,800,805,935,925,835,1005,900,925,1015,1130,1280,1330,1570,null,240,0.18058979420190879,null,0.11149828666958173,5.2773701769219583E-2,5.0775128892349253E-2,null,0.69646142130450284,null,0.67243896577428286,null,1.1020680528140958]
["Research",335,405,370,405,420,505,360,380,530,425,490,575,595,690,800,1010,null,210,0.26481519693999012,null,0.15615236573487379,7.2207292816875324E-2,7.6113321266446654E-2,null,1.0657385817415563,null,1.0081103212865674,null,2.0051773974677793]
["Pharmaceuticals",305,370,295,275,235,260,400,315,340,325,315,295,395,445,395,425,null,30,7.914326243603842E-2,null,6.2321286694541511E-2,4.9846088227496699E-2,2.2706175016333319E-2,null,0.35294274951209625,null,0.62650852437124338,null,0.40043569860743977]
["Manufacture of Medical Equipment",105,100,120,120,150,170,160,145,135,155,120,145,140,140,135,130,null,-5,-2.2589847788792916E-2,null,1.782944117936669E-2,-2.7056863391552555E-2,1.4756870730407545E-2,null,9.2383280520654809E-2,null,-0.23989325233215042,null,0.24574745298342582]
[]
["Transportation and Storage",570,680,745,580,695,675,900,870,785,915,835,1055,1135,1000,1245,1175,null,-70,-5.5817967875285923E-2,null,7.0272928482037811E-2,5.7165988015609681E-2,4.9169048227236889E-2,null,0.40434141129314072,null,0.74353962597529821,null,1.0543860070953861]
["Storage",380,480,505,330,375,315,450,385,400,560,430,715,705,735,895,890,null,-10,-9.3583299159054611E-3,null,0.15582606914537678,0.1088118344512865,5.8521020214976627E-2,null,1.0628251980225087,null,1.8091732585855063,null,1.3468876552305171]
["Transportation",195,205,240,250,325,360,450,485,385,355,405,335,430,265,350,285,null,-60,-0.17559555779088232,null,-6.7236969979103445E-2,-2.1876694174939537E-2,2.6578753815541312E-2,null,-0.29391558987645916,null,-0.19843993835470775,null,0.48212242104798597]
[]
["Education",170,255,255,280,305,280,330,400,440,515,560,630,700,745,770,775,null,5,7.0188855992761034E-3,null,6.7329885833345537E-2,0.10664822370649496,0.10574156719291361,null,0.38513897760130056,null,1.7548370337724957,null,3.5165262571993425]
["Sustainable Tourism",175,280,265,285,320,280,280,280,265,305,285,290,390,360,330,335,null,5,2.1526354816735482E-2,null,3.2601836276924256E-2,1.8443190123077269E-2,4.4238590269751743E-2,null,0.17399018237715946,null,0.20051636865227906,null,0.91423864922304543]
["Textiles",395,390,395,375,390,340,340,295,290,350,370,360,360,375,340,325,null,-15,-4.9019974594817328E-2,null,-2.6678940613143354E-2,-3.7971521198653102E-3,-1.2857792900179632E-2,null,-0.12646441640023132,null,-3.732922119692228E-2,null,-0.17643890837832854]
["Forest and Timber Technologies",305,335,385,375,345,330,340,320,365,350,375,395,335,435,370,290,null,-85,-0.22396273654886001,null,-5.0124019656358376E-2,-1.2644402677047806E-2,-3.2958848414307296E-3,null,-0.22672400457156971,null,-0.1194866898567114,null,-4.8313802977530518E-2]
["Other Services and Accommodation",140,165,195,175,170,175,245,255,175,175,195,220,195,110,125,180,null,55,0.43818389840170768,null,-1.9667175851793228E-2,1.0826292508443469E-3,1.5204856456137783E-2,null,-9.454322828354933E-2,null,1.0879188943742735E-2,null,0.25402241549656046]
["Construction",85,265,180,230,180,155,185,150,115,95,90,105,140,110,140,140,null,0,7.758309031937749E-4,null,9.1209963043455078E-2,-1.0066912585823595E-2,3.582560864682649E-2,null,0.54718274322367466,null,-9.6228997123962268E-2,null,0.69550727558620862]
["Real Estate",20,45,20,20,35,35,45,55,50,40,40,45,65,75,50,75,null,25,0.46484300534931289,null,0.12508759993832341,8.3478942091007591E-2,9.2126797511961067E-2,null,0.80273417078725551,null,1.2294860036229909,null,2.7505585771401759]
[]
[]
["Total International Exports",20495,19560,19035,18595,19500,20580,22460,22695,24110,27195,27805,29215,28905,30135,30550,32440,null,1890,6.188764549153758E-2,null,3.1323337319086431E-2,4.6547705339643253E-2,3.1081272697560225E-2,null,0.16674037402977682,null,0.57612369453769019,null,0.58268134726500587]
[]
[]
["Proportion of Total International Exports by Sub-Sector, 2002 - 2017"]
["Sector",2002,2003,2004,2005,2006,2007,2008,2009,2010,2011,2012,2013,2014,2015,2016,2017]
["Food and Drink",0.15108745034059842,0.1637935014901776,0.1650450984511441,0.17576019304819554,0.16957274883022525,0.17962613658535434,0.17778039817669128,0.18643327028077344,0.1941337391738385,0.2073470035312556,0.20874893696308122,0.19556418303526771,0.19230119763045814,0.18413920027155042,0.18912305096316362,0.19561020674587476]
["Drink",0.12066216892229771,0.13290253905899577,0.13006207662951449,0.13826679235553715,0.13829222460613713,0.14753209956234478,0.14795862841907609,0.15119150462312533,0.15820004802889723,0.17314142330601687,0.17409011419050915,0.16188923793348864,0.15228798334104837,0.14396669888522107,0.14835376854910404,0.15128269825038859]
["Food",3.0425281418300712E-2,3.0890962430670566E-2,3.498302182005357E-2,3.7493400691045176E-2,3.1280524224600911E-2,3.2094037021551988E-2,2.982176975627936E-2,3.5241765657207477E-2,3.5933691143696857E-2,3.4205580223767802E-2,3.4658822774370365E-2,3.3674945101094478E-2,4.0013214289409772E-2,4.0172501386329371E-2,4.0769282414059596E-2,4.4327508495486175E-2]
[]
["Engineering and Advanced Manufacturing",0.17470100075676998,0.17406059894755888,0.17855748273661592,0.19307140196892625,0.19374790636668027,0.2130269003943342,0.2118559342236716,0.2092138080568284,0.19715393726648434,0.17604177119880554,0.19866880019057226,0.21060226269045951,0.21661858903070538,0.19864819244932147,0.20019641528651946,0.17573440550543548]
["Engineering Services",3.4397890221488314E-2,2.5462519205509397E-2,2.3558097503736719E-2,3.1805519146183465E-2,3.1684860486820753E-2,4.9306360857388813E-2,5.453999442557407E-2,5.3163569596248232E-2,4.9311770843581668E-2,4.4734144370954895E-2,5.6708940776908953E-2,6.2391628996071188E-2,6.3989700016614429E-2,5.5673557242521696E-2,5.4953355413541127E-2,4.3295907746815653E-2]
["Advanced Manufacturing",8.3897683266896284E-2,8.8815211102414832E-2,9.1431845918558408E-2,9.2461557689888743E-2,8.8748937069915892E-2,8.7948384451413578E-2,8.6287283341046059E-2,8.9097177884286005E-2,8.1957929647439698E-2,7.9473482602937615E-2,8.5850933038645674E-2,8.8263762936552664E-2,9.2691319067264036E-2,8.1732161440422377E-2,7.9801107959347931E-2,6.8033957389931968E-2]
["Transport Equipment",3.4032773309889901E-2,3.907130074021483E-2,4.2003232609730407E-2,4.4803298487612636E-2,4.808509268308829E-2,4.9166507508527003E-2,4.3911174694405412E-2,4.1768695596604788E-2,4.4240002536035432E-2,3.4172764789693444E-2,3.681985720965579E-2,4.2768650120003159E-2,4.1256503024609245E-2,3.8422729026409683E-2,4.4147016838235596E-2,4.5895147607470634E-2]
["Metal Manufacturing",1.9506288844607745E-2,1.8428847809527065E-2,1.965155535339173E-2,2.144545838396467E-2,2.3131427373795484E-2,2.5047628520101048E-2,2.5455459614045824E-2,2.3695961854829247E-2,2.0123105676713458E-2,1.613291235627862E-2,1.6122908824282106E-2,1.5684664299564801E-2,1.7083585254961051E-2,2.0754424124406333E-2,1.9036932443648024E-2,1.6402197247895548E-2]
["Other Manufacturing",2.8663651164734911E-3,2.2827200909152903E-3,1.9127513501479645E-3,2.5555682596635132E-3,2.0975887567520691E-3,1.558019060207583E-3,1.6620221482885281E-3,1.4884031301036415E-3,1.5211285686457874E-3,1.5284670814047184E-3,3.1661603420148664E-3,1.4935563397737519E-3,1.5974816666684769E-3,2.0653206153954627E-3,2.2580026335798959E-3,2.1071955140615087E-3]
[]
["Energy",3.6369241427393714E-2,3.4413595371857036E-2,4.2496947613392989E-2,5.1887210266821943E-2,5.5898439580955528E-2,6.9794664400738934E-2,6.2848388800750193E-2,8.0173209822352223E-2,0.1066217725947822,0.11332240521024114,0.11070349106614992,0.10722607821484029,0.12209888636252837,0.13698285760781481,0.12757533262925802,0.11654721957337806]
["Energy Support",3.0178488405669852E-2,2.8601182636132122E-2,3.6458131547330554E-2,4.4335459425055339E-2,4.7147364729007421E-2,6.0149859865986158E-2,5.3355066583222976E-2,6.4216054710800829E-2,9.3580218237315882E-2,9.9425319459304065E-2,9.3866880455467261E-2,9.2870118405230531E-2,0.10739634313138877,0.12557601789769601,0.11657598043027032,0.10675850542890843]
["Mining and Utilities",6.1907530212359854E-3,5.812412736236173E-3,6.0388160660624288E-3,7.5517508423043438E-3,8.7510748498968779E-3,9.6448045342669205E-3,9.4933222175272239E-3,1.5957155111110767E-2,1.3041554356221905E-2,1.3897085749098446E-2,1.6836610608165041E-2,1.4355959807556037E-2,1.4702543231139608E-2,1.1406839709455101E-2,1.0999352197678345E-2,9.7887141453944105E-3]
[]
["Financial and Business Services",7.817145121709404E-2,6.9178937997475459E-2,8.4860056145530507E-2,9.2239421845771788E-2,9.8116486993394328E-2,7.7483548482873116E-2,8.1793696215003167E-2,0.10869585295361003,0.10427346075484992,0.10716186321948395,0.10350088985908965,0.10583414412130583,0.11187078280604806,0.10403677973836517,0.10752516397825036,0.1033959673104099]
["Financial Support Activities",1.7953952318969634E-2,1.5803916372456393E-2,1.4060982257654151E-2,1.4828781569594114E-2,1.5881018503491964E-2,2.0552883448749715E-2,2.3751879394273867E-2,2.9504341956775263E-2,3.2167339784276897E-2,3.1555305716845061E-2,3.1150535477455457E-2,3.2464547678901418E-2,3.3535172249385743E-2,3.5402796303730374E-2,3.6139033750202297E-2,3.5558235162034511E-2]
["Business Support Activities",1.589419250146917E-2,1.4455985675412408E-2,1.575904450957848E-2,1.8962488419660545E-2,2.4381480237410581E-2,2.7981534981573696E-2,2.9004113503391306E-2,2.8377995212519543E-2,2.2966688074815691E-2,2.083777391280682E-2,3.1664111807867393E-2,3.3706082538365031E-2,3.9974773534117124E-2,2.594656173536811E-2,2.3078105853456408E-2,2.0890794022734926E-2]
["Management Consultancy",1.8348224587485393E-2,1.2935712867703845E-2,1.2473345124879669E-2,1.2811501666127555E-2,1.4063010204240391E-2,1.4007386212894145E-2,1.5207727147865125E-2,1.9402134174867285E-2,1.567073304645511E-2,2.0692530673816479E-2,1.7364292642947851E-2,1.6955165947225535E-2,1.9384671879235059E-2,2.2702564407874326E-2,2.5298869401870691E-2,2.0972574966580036E-2]
["Financial Service Activities",2.2472288463844824E-2,2.0894605831013036E-2,3.7278597710140138E-2,4.0116021269554818E-2,3.8139420012039418E-2,9.2684794748612454E-3,9.3875212810350123E-3,2.6940083018758203E-2,2.8446306426994566E-2,2.8217003366671965E-2,1.8184359900531567E-2,1.7242758638274569E-2,1.3346265753782473E-2,1.3742372062844005E-2,1.642563644183374E-2,1.8212940181062433E-2]
["Legal and Accounting",3.2016089817010701E-3,3.113243378238087E-3,3.6611036753945981E-3,4.0826644436534965E-3,3.97699017506839E-3,3.9686541116123542E-3,4.2070011024936535E-3,3.7609108997455985E-3,4.188041081056167E-3,5.2030872131969179E-3,4.5110578381609293E-3,4.9884981953208681E-3,5.1156561443665982E-3,5.8807438629786234E-3,6.3283141030000692E-3,7.4234698231503398E-3]
["Insurance and Pensions",3.0118436589746404E-4,1.9754738708622844E-3,1.6269828655194286E-3,1.4379644763208865E-3,1.6745678594000306E-3,1.7046102540079278E-3,2.3545378687036501E-4,7.10387689842554E-4,8.3435234112704134E-4,6.5616233496998996E-4,6.2653219050798619E-4,4.7709112171234264E-4,5.1424324336196584E-4,3.6174136517151212E-4,2.5520442727829719E-4,3.3795315444691006E-4]
[]
["Technology, Digital and Media",0.28878064448903418,0.23974798296683256,0.19468954852451312,0.1460566728498584,0.12614908251497323,0.10690115087524339,0.10107029476601513,9.6404732156022008E-2,9.0433440702958431E-2,8.0288609230372357E-2,7.8002398616946647E-2,8.2213512198483996E-2,7.1109196885208822E-2,8.3900751031429452E-2,7.9097118913764142E-2,0.10316950337144512]
["Manufacture of Computer, Electronic and Optical Products",0.27173876058144197,0.21861642118248165,0.16973908482910005,0.11334851458023609,9.2698134997360376E-2,7.7142700777880269E-2,6.6517895242258276E-2,6.4203580651180578E-2,5.7760892635084951E-2,5.1009680917361654E-2,5.0186632167992573E-2,5.4837913748503858E-2,3.8775900184802189E-2,4.4901395146566561E-2,4.374302465592788E-2,5.8139419222535502E-2]
["Digital Industries",1.0767552072507508E-2,1.1585174907920694E-2,1.2236424212689785E-2,1.7057918365981781E-2,2.0464295794550523E-2,1.6846860916478083E-2,2.0821500201465171E-2,1.7014672814835412E-2,1.8768471383169758E-2,1.6370345367310236E-2,1.6238589777025077E-2,1.6637729898911387E-2,1.8771318932666793E-2,2.2941472785579453E-2,1.9759333252329824E-2,2.7563516910382131E-2]
["IT and Telecommunications",1.6995679328575834E-3,3.3938083376547972E-3,6.9060662666575161E-3,9.8338772718424335E-3,6.8258002011812461E-3,6.7010198385962835E-3,8.8450728940626788E-3,9.2151525256987804E-3,9.0967941112337098E-3,7.8720662906410343E-3,6.9275270839154754E-3,7.6980548049882811E-3,1.0144170283315839E-2,1.2362101387297594E-2,1.1926799051755168E-2,1.3466491606228979E-2]
["Publishing and Audio Visual",4.5747639010561784E-3,6.1525785422520017E-3,5.807973212913738E-3,5.8163626307226315E-3,6.1608515234195136E-3,6.2105693432604704E-3,4.8858264264478955E-3,5.9713261678322966E-3,4.8072825742996091E-3,5.0365166565303453E-3,4.6496495876538627E-3,3.0398137452247558E-3,3.4178074838012462E-3,3.6957817149724558E-3,3.6679619534239257E-3,4.0000756332232964E-3]
[]
["Chemical Sciences",9.5235995446550398E-2,0.10141919604427525,0.10747827876673374,0.1159967711981805,0.11849560702217737,0.12188374209151069,0.13306975062819779,0.10227359421266685,0.10584504223715656,0.12305440994494646,0.10155552133270414,9.4275764184925379E-2,7.3703378788877477E-2,8.5597811899810028E-2,7.6750799285375371E-2,9.7475895071782143E-2]
[]
["Wholesale and Retail Trade",4.8489805261917297E-2,4.908587881844946E-2,5.7476080922930377E-2,5.7197192992272716E-2,7.1411360208812696E-2,7.5750605093419326E-2,7.1569288412943341E-2,6.4345109160970415E-2,5.6566993577273746E-2,5.8661616132486334E-2,6.6509403028225708E-2,6.3470733947312424E-2,5.8427736857599027E-2,5.7881760427870084E-2,6.5983680994451399E-2,5.8335229377802618E-2]
["Wholesale Trade",3.9302822158516444E-2,3.8322574474674742E-2,4.8785028274697523E-2,4.8541321518632566E-2,5.8466444165792261E-2,6.4835526834588805E-2,6.1280182262119662E-2,5.3558431625105887E-2,4.5905854344571131E-2,4.714753826769183E-2,5.2849779928484643E-2,5.1014869197827099E-2,4.7409997555151413E-2,4.6906457223159878E-2,5.5593593216351517E-2,4.9441121800562669E-2]
["Retail Trade",8.1624607085308155E-3,1.0020487807415296E-2,7.8859275558252548E-3,7.7056395397943744E-3,9.0788607461282419E-3,8.6476153104121118E-3,8.3430484940442366E-3,8.7746424906899687E-3,8.5589778617785207E-3,9.2025573407669842E-3,1.1041579519815162E-2,1.0994074874929226E-2,9.6030578047217787E-3,9.5523120954565058E-3,8.8689182083187667E-3,7.3148016776980497E-3]
["Trade and Repair of Vehicles",1.0245223946260982E-3,7.4281653676842906E-4,8.0512509340574393E-4,9.5023193298538573E-4,3.8660552973024541E-3,2.2674629442400287E-3,1.9460576551764632E-3,2.0120350455711234E-3,2.1021613730810816E-3,2.3115205236965675E-3,2.6180435786311235E-3,1.461789876096401E-3,1.4146815002168754E-3,1.4229911092205106E-3,1.5211695706976651E-3,1.5793059000967728E-3]
[]
["Transportation and Storage",2.7897377104047313E-2,3.4879818003092977E-2,3.9092364177102747E-2,3.1142451348449885E-2,3.5712418652119389E-2,3.2734854373474224E-2,4.0118555592199408E-2,3.8253968369472632E-2,3.257740953044478E-2,3.3671182188423479E-2,3.0085238684022023E-2,3.6064597723373767E-2,3.9222115861306188E-2,3.311405409481339E-2,4.0726282919555275E-2,3.6211952112949003E-2]
["Storage",1.8461256803379993E-2,2.4425028260590415E-2,2.6459400353527191E-2,1.7625551054544029E-2,1.9170317928664707E-2,1.535931518507504E-2,2.0048154275123801E-2,1.6870990923831843E-2,1.6562540345323649E-2,2.05292309493912E-2,1.548359769997657E-2,2.4523372913322242E-2,2.433438572809284E-2,2.4382374805380379E-2,2.9344185274755342E-2,2.737537519271608E-2]
["Transportation",9.4361203006673201E-3,1.045478974250256E-2,1.2632963823575559E-2,1.3516900293905855E-2,1.6542100723454689E-2,1.737553918791333E-2,2.0070401317075603E-2,2.1382977445640793E-2,1.6014869185121131E-2,1.3141951239400004E-2,1.4601640984045454E-2,1.1541224809366949E-2,1.4887730131483451E-2,8.7316792897648623E-3,1.1382097644799933E-2,8.8365769202329216E-3]
[]
["Life Sciences",3.6386884441837193E-2,4.4724337636962937E-2,4.1407928648560133E-2,4.3027768835138792E-2,4.1375019352037724E-2,4.5544735041736138E-2,4.1231485694315784E-2,3.6804171231623134E-2,4.1680241823474247E-2,3.316170829006948E-2,3.3237503645092988E-2,3.4827268299610463E-2,3.9088561034910353E-2,4.2473583704122957E-2,4.3468805169420102E-2,4.8327926186026542E-2]
["Research",1.6402525336929159E-2,2.0595897384393092E-2,1.9558686149936354E-2,2.1781431577488391E-2,2.1439213311319469E-2,2.4445001977280532E-2,1.6116718375459232E-2,1.6735661346324638E-2,2.2059652008975673E-2,1.5542728560094249E-2,1.7590825184434642E-2,1.9702539287430109E-2,2.0600421652243146E-2,2.2946935978258799E-2,2.6148021899350126E-2,3.1144929135048748E-2]
["Pharmaceuticals",1.4866963286949347E-2,1.8976161188444279E-2,1.5544566890878036E-2,1.4714361188935795E-2,1.2147653710885678E-2,1.2747526167281769E-2,1.7897678825175359E-2,1.3783575472288019E-2,1.4063338383114441E-2,1.1982565775772796E-2,1.1344536708896036E-2,1.0155370983126299E-2,1.3580906896347262E-2,1.4823794117999224E-2,1.2944683081825057E-2,1.315503348346716E-2]
["Manufacture of Medical Equipment",5.1173958184465669E-3,5.1522790641255712E-3,6.3046756072204051E-3,6.531976068176874E-3,7.788152329832581E-3,8.3522068971738379E-3,7.2170884941264619E-3,6.2849344130104789E-3,5.5572514309693245E-3,5.6364139542024322E-3,4.302141751762311E-3,4.9693580297386301E-3,4.907232486665929E-3,4.7028536078649362E-3,4.3761001866082245E-3,4.0279635681271546E-3]
[]
["Education",8.3668807349194015E-3,1.2995632806343591E-2,1.3352614106399052E-2,1.515024080999555E-2,1.5698808959138069E-2,1.3660576231021663E-2,1.4740043412243048E-2,1.7693162584160038E-2,1.8313067006140233E-2,1.8904575775656809E-2,2.0112011555914348E-2,2.1483807642602038E-2,2.4150063307468706E-2,2.4713058045265746E-2,2.517767286667762E-2,2.3876718200679811E-2]
["Sustainable Tourism",8.5591559039777387E-3,1.4389558898182352E-2,1.3964409647474947E-2,1.5337647870767171E-2,1.6298592108441288E-2,1.3591135608040089E-2,1.257685685779735E-2,1.2279100376187532E-2,1.1038926826576863E-2,1.1220724541624967E-2,1.0288292313627522E-2,1.0003160427187076E-2,1.3450234699573635E-2,1.1985371182742108E-2,1.0761245172365649E-2,1.0352220972612753E-2]
["Textiles",1.9250916537923889E-2,1.9847258086099041E-2,2.0686457553670427E-2,2.0165452254868058E-2,2.0079066268800485E-2,1.6400846216278499E-2,1.5228053269905107E-2,1.2915211689871716E-2,1.2096917757955452E-2,1.2944172658295269E-2,1.337973073799106E-2,1.2382220150672861E-2,1.2460517618078978E-2,1.2372272428380009E-2,1.1185642135756855E-2,1.0017370752544559E-2]
["Forest and Timber Technologies",1.4786493277201763E-2,1.7114452514678684E-2,2.0209819326210212E-2,2.0036772425475299E-2,1.7729530104153634E-2,1.5915483964404935E-2,1.5083929995420893E-2,1.4092959032978362E-2,1.5184538672170225E-2,1.2896184121669395E-2,1.3415447820938E-2,1.3469414828617131E-2,1.1612839435917554E-2,1.4398075314897457E-2,1.2166382583308341E-2,8.8913043542189485E-3]
["Other Services and Accommodation",6.9457467193449335E-3,8.4094239229285366E-3,1.0134358142449593E-2,9.4670347759406841E-3,8.6265510830852814E-3,8.580681859897776E-3,1.088056935306147E-2,1.1292771624834266E-2,7.1610840310644035E-3,6.3978307300493692E-3,7.0914862216568111E-3,7.4695691698052494E-3,6.76885082602568E-3,3.6506075590607158E-3,4.0634498469760945E-3,5.5033959258267628E-3]
["Construction",4.0272555226311662E-3,1.3547126183240044E-2,9.4348125958979463E-3,1.2364707519595192E-2,9.1941632546679603E-3,7.5239734507313782E-3,8.1420943830516016E-3,6.6967377691548027E-3,4.8519435896050289E-3,3.5298420728175984E-3,3.2534787401322525E-3,3.5104674216269085E-3,4.9080413758426592E-3,3.6781056540782556E-3,4.5778032069361861E-3,4.314349853851253E-3]
["Real Estate",9.4370081531402084E-4,2.3927003087266994E-3,1.1137426490441455E-3,1.0990599957645651E-3,1.8942186979787805E-3,1.5809653324474987E-3,2.0106602223928334E-3,2.432340671311877E-3,2.0674844493346113E-3,1.3961011543171436E-3,1.4473692269128184E-3,1.6028159459629009E-3,2.2090074813537336E-3,2.4275185884202843E-3,1.6211540493540635E-3,2.2363346818022089E-3]

{"sheet":"International- Top Destinations","index":5,"n_rows":224,"n_cols":13,"rows_kept":224,"cut":false,"hidden":false,"merged":[[71,4,72,4],[71,2,72,2]]}
["International Exports by Destination Country - Top 10 Countries (2017)",null,null,null,null,null,"Contents page"]
[]
["Food and Drink",null,"Food",null,"Drink"]
["Country",null,"Country",null,"Country"]
["USA",null,"France",null,"USA"]
["France",null,"Ireland",null,"France"]
["Singapore",null,"Norway",null,"Singapore"]
["Spain",null,"Germany",null,"Spain"]
["Germany",null,"USA",null,"Germany"]
["Taiwan",null,"Italy",null,"Taiwan"]
["UAE",null,"Canada",null,"UAE"]
["Canada",null,"Netherlands",null,"Latvia"]
["Japan",null,"Japan",null,"South Africa"]
["Ireland",null,"China",null,"Australia"]
[]
[]
["Engineering and Advanced Manufacturing",null,"Engineering Services",null,"Advanced Manufacturing",null,"Transport Equipment",null,"Metal Manufacturing",null,"Other Manufacturing"]
["Country",null,"Country",null,"Country",null,"Country",null,"Country",null,"Country"]
["USA",null,"USA",null,"Germany",null,"USA",null,"Norway",null,"Germany"]
["Germany",null,"Switzerland",null,"France",null,"Poland",null,"USA",null,"USA"]
["France",null,"Ireland",null,"USA",null,"Netherlands",null,"Malaysia",null,"Australia"]
["Netherlands",null,"Norway",null,"Italy",null,"Brazil",null,"France",null,"France"]
["Norway",null,"Germany",null,"Netherlands",null,"Canada",null,"Other South America",null,"Finland"]
["Switzerland",null,"South Korea",null,"UAE",null,"Hong Kong",null,"Netherlands",null,"Netherlands"]
["UAE",null,"Denmark",null,"Switzerland",null,"France",null,"Germany",null,"Romania"]
["Italy",null,"UAE",null,"Belgium",null,"Belgium",null,"Brazil",null,"Japan"]
["Ireland",null,"Singapore",null,"Norway",null,"Egypt",null,"Ireland",null,"Ireland"]
["Belgium",null,"France",null,"Spain",null,"South Korea",null,"UAE",null,"Hong Kong"]
[]
[]
["Energy",null,"Energy Support",null,"Mining and Utilities"]
["Country",null,"Country",null,"Country"]
["Brazil",null,"Brazil",null,"Spain"]
["USA",null,"USA",null,"Netherlands"]
["Netherlands",null,"Netherlands",null,"India"]
["Norway",null,"Norway",null,"China"]
["Denmark",null,"Denmark",null,"France"]
["Other Africa",null,"Other Africa",null,"Hong Kong"]
["Australia",null,"Australia",null,"Portugal"]
["Nigeria",null,"Nigeria",null,"Ireland"]
["Angola",null,"Angola",null,"Turkey"]
["South Korea",null,"South Korea",null,"Germany"]
[]
[]
["Financial and Business Services",null,"Financial Support Activities",null,"Financial Service Activities",null,"Management Consultancy",null,"Business Support Activities",null,"Legal and Accounting",null,"Insurance and Pensions"]
["Country",null,"Country",null,null,null,"Country",null,"Country",null,"Country",null,"Country"]
["USA",null,"USA",null,"France",null,"USA",null,"USA",null,"Denmark",null,"Switzerland"]
["France",null,"Canada",null,"USA",null,"Germany",null,"Ireland",null,"USA",null,"Other Western Europe"]
["Netherlands",null,"Japan",null,"Spain",null,"Norway",null,"UAE",null,"Netherlands",null,"Hong Kong"]
["Canada",null,"Caribbean Islands",null,"Germany",null,"Australia",null,"Netherlands",null,"Norway",null,"Spain"]
["Germany",null,"Netherlands",null,"Italy",null,"France",null,"Norway",null,"Belgium",null,"Canada"]
["Ireland",null,"Australia",null,"Netherlands",null,"Ireland",null,"Belgium",null,"Germany",null,"Thailand"]
["Australia",null,"Ireland",null,"Finland",null,"Canada",null,"Caribbean Islands",null,"Caribbean Islands",null,"Sri Lanka"]
["Caribbean Islands",null,"Singapore",null,"Ireland",null,"Netherlands",null,"Germany",null,"France",null,"Singapore"]
["Norway",null,"Luxembourg",null,"Austria",null,"Belgium",null,"Oman",null,"Ireland",null,"Germany"]
["Japan",null,"Hong Kong",null,"Sweden",null,"Gibraltar",null,"Saudi Arabia",null,"Japan",null,"Ireland"]
[]
[]
["Technology, Digital and Media",null,"Manufacture of Computer, Electronic and Optical Products",null,"Digital Industries",null,"IT and Telecommunications",null,"Publishing and Audio Visual"]
["Country",null,"Country",null,"Country",null,"Country",null,"Country"]
["USA",null,"USA",null,"USA",null,"USA",null,"Gibraltar"]
["Germany",null,"Germany",null,"Ireland",null,"Angola",null,"USA"]
["Ireland",null,"Sweden",null,"Qatar",null,"Netherlands",null,"Ireland"]
["Sweden",null,"Italy",null,"Netherlands",null,"Germany",null,"Germany"]
["Netherlands",null,"France",null,"Taiwan",null,"UAE",null,"Russia"]
["Italy",null,"Singapore",null,"Norway",null,"Spain",null,"Netherlands"]
["France",null,"Ireland",null,"Japan",null,"Norway",null,"Norway"]
["Japan",null,"Japan",null,"France",null,"Australia",null,"Brazil"]
["Singapore",null,"Israel",null,"Belgium",null,"Saudi Arabia",null,"Czech Republic"]
["Taiwan",null,"Saudi Arabia",null,"Luxembourg",null,"Russia",null,"Australia"]
[]
[]
["Chemical Sciences"]
["Country"]
["Netherlands"]
["Belgium"]
["Ireland"]
["Germany"]
["Switzerland"]
["Denmark"]
["China"]
["France"]
["USA"]
["Italy"]
[]
[]
["Wholesale and Retail Trade",null,"Trade and Repair of Vehicles",null,"Wholesale Trade",null,"Retail Trade"]
["Country",null,"Country",null,"Country",null,"Country"]
["Ireland",null,"Australia",null,"Ireland",null,"Ireland"]
["USA",null,"Germany",null,"Germany",null,"USA"]
["Germany",null,"Ireland",null,"USA",null,"UAE"]
["Spain",null,"USA",null,"Spain",null,"Japan"]
["France",null,"Hong Kong",null,"France",null,"Canada"]
["Netherlands",null,"Caribbean Islands",null,"Denmark",null,"Germany"]
["Denmark",null,"Malaysia",null,"Netherlands",null,"France"]
["Sweden",null,"South Africa",null,"Sweden",null,"Norway"]
["Norway",null,"Belgium",null,"Italy",null,"Gibraltar"]
["UAE",null,"Vietnam",null,"Norway",null,"China"]
[]
[]
["Life Sciences",null,"Research",null,"Pharmaceuticals",null,"Manufacture of Medical Equipment"]
["Country",null,"Country",null,"Country",null,"Country"]
["USA",null,"USA",null,"Netherlands",null,"USA"]
["Netherlands",null,"Germany",null,"France",null,"Germany"]
["Germany",null,"Denmark",null,"Switzerland",null,"Japan"]
["France",null,"France",null,"USA",null,"Italy"]
["Switzerland",null,"Switzerland",null,"Poland",null,"Netherlands"]
["Denmark",null,"Netherlands",null,"Germany",null,"France"]
["Sweden",null,"Sweden",null,"Austria",null,"Norway"]
["Italy",null,"Italy",null,"Singapore",null,"Australia"]
["Japan",null,"Belgium",null,"Denmark",null,"Ireland"]
["Belgium",null,"Spain",null,"Ukraine",null,"Denmark"]
[]
[]
["Transportation and Storage",null,"Transportation",null,"Storage"]
["Country",null,"Country",null,"Country"]
["Luxembourg",null,"Ireland",null,"Luxembourg"]
["Netherlands",null,"USA",null,"Netherlands"]
["USA",null,"Norway",null,"Norway"]
["Norway",null,"Netherlands",null,"Greece"]
["Ireland",null,"Canada",null,"Germany"]
["Germany",null,"Germany",null,"USA"]
["Greece",null,"Japan",null,"France"]
["France",null,"Caribbean Islands",null,"Kazakhstan"]
["Kazakhstan",null,"Spain",null,"Switzerland"]
["Switzerland",null,"Belgium",null,"UAE"]
[]
[]
["Education"]
["Country"]
["China"]
["USA"]
["Germany"]
["Italy"]
["Malaysia"]
["France"]
["Greece"]
["Spain"]
["India"]
["Hong Kong"]
[]
[]
["Sustainable Tourism"]
["Country"]
["USA"]
["Germany"]
["Netherlands"]
["France"]
["Australia"]
["Canada"]
["Spain"]
["Italy"]
["Ireland"]
["Norway"]
[]
[]
["Textiles"]
["Country"]
["Germany"]
["USA"]
["France"]
["Japan"]
["Italy"]
["Poland"]
["Belgium"]
["Netherlands"]
["Canada"]
["Ireland"]
[]
[]
["Forest and Timber Technologies"]
["Country"]
["Germany"]
["France"]
["Italy"]
["USA"]
["Netherlands"]
["Ireland"]
["Russia"]
["Belgium"]
["Poland"]
["Finland"]
[]
[]
["Other Services and Accommodation"]
["Country"]
["Germany"]
["USA"]
["Singapore"]
["France"]
["Canada"]
["Poland"]
["Mauritius"]
["Nigeria"]
["Netherlands"]
["New Zealand"]
[]
[]
["Construction"]
["Country"]
["Denmark"]
["Ireland"]
["Singapore"]
["Australia"]
["Other Africa"]
["Sri Lanka"]
["Germany"]
["France"]
["Sweden"]
["Romania"]
[]
[]
["Real Estate"]
["Country"]
["USA"]
["Canada"]
["Switzerland"]
["Germany"]
["Malta"]
["Belgium"]
["Japan"]
["Austria"]
["Netherlands"]
["France"]

{"sheet":"Rest of the UK Exports - Table","index":7,"n_rows":42,"n_cols":31,"rows_kept":42,"cut":false,"hidden":false,"merged":[[1,18,1,19],[0,25,0,30],[1,21,1,23],[1,25,1,26],[1,27,1,28],[1,29,1,30]]}
["Exports to the Rest of the UK by Sector, 2002 - 2017",null,null,null,null,null,null,null,null,null,null,null,null,null,null,"Contents page",null,null,null,null,null,null,null,null,null,"Growth Comparison (Actual vs Inflation)"]
["(£ million)",null,null,null,null,null,null,null,null,null,null,null,null,null,null,null,null,null,"Change 2017 - 2016",null,null,"Average Compound Growth rate",null,null,null,"2012 to 2017",null,"2007 to 2017",null,"2002 to 2017"]
["Sector",2002,2003,2004,2005,2006,2007,2008,2009,2010,2011,2012,2013,2014,2015,2016,2017,null,"Num","Per cent",null,"2012 to 2017","2007 to 2017","2002 to 2017",null,"Actual","Inflation","Actual","Inflation","Actual","Inflation"]
["Financial and Business Services",5995,7610,10120,8985,10415,13490,13165,11770,12285,10420,10185,10800,11635,11690,11905,13230,null,1330,0.11166982109828316,null,5.3692289574921226E-2,-1.9198960541619847E-3,5.420015586400595E-2,null,0.29887994276035235,7.6994082709999495E-2,-1.9033936864971901E-2,0.26541708858388002,1.2072226358814424,0.38885883187556503]
["Energy",2645,2775,3005,2795,3140,3300,3925,6155,6780,8375,8415,9135,8215,9910,7810,7770,null,-40,-5.0182765664062989E-3,null,-1.5865047200767868E-2,8.9340995665641243E-2,7.4421167565193347E-2,null,-7.6847855298163625E-2,null,1.3530896814844193,null,1.9350691597808272]
["Wholesale and Retail Trade",4250,4670,6680,6080,5865,6395,5780,5485,5475,5970,5780,6055,6870,7000,6620,6685,null,70,1.0427689870269097E-2,null,2.9554462859982422E-2,4.4987059046519562E-3,3.0646546668949837E-2,null,0.15676896258020334,null,4.5908797062221618E-2,null,0.57270144741215323]
["Engineering and Advanced Manufacturing",3760,3445,3475,3580,3700,4185,4475,4535,4865,4745,5380,5365,5760,6505,5175,4745,null,-430,-8.2983351752029311E-2,null,-2.4705012656903613E-2,1.2629025325144649E-2,1.5626577470317926E-2,null,-0.11757061741719377,null,0.1337145374771822,null,0.26185908275813286]
["Food and Drink",3125,2915,2965,3320,3360,3375,3385,3715,4290,4225,4445,4620,4385,4280,4240,4460,null,220,5.1625637835481797E-2,null,4.8733124093347513E-4,2.815757747073766E-2,2.3957362230421664E-2,null,2.439032279704767E-3,null,0.32006952759720608,null,0.42635652682414404]
["Technology, Digital and Media",2295,2215,2415,2150,2295,2025,2010,1930,1895,1865,2230,2190,2405,2310,2465,3070,null,605,0.24491150516505167,null,6.6257172400822295E-2,4.2606749629326535E-2,1.9546005203173733E-2,null,0.37819232735002073,null,0.51776775279547693,null,0.33691073283112782]
["Transportation and Storage",1615,1855,1730,1560,1845,1790,1965,1830,1950,2230,2430,2245,2145,2325,2305,2330,null,25,1.0400023579417939E-2,null,-8.3111447955851459E-3,2.670799593804607E-2,2.4750191463071447E-2,null,-4.0870689816473238E-2,null,0.30157573317854647,null,0.44301259574918217]
["Construction",1630,1885,2280,1655,1750,1905,2220,1615,1495,1480,1595,1870,1650,1490,1895,1815,null,-75,-4.0719807274198438E-2,null,2.6121246708106893E-2,-4.8375127361708348E-3,7.2368967385645355E-3,null,0.13760999916476102,null,-4.7335528821341066E-2,null,0.11422883839549991]
["Chemical Sciences",585,670,550,370,270,1310,1680,1810,2205,1855,1580,1565,1150,1160,1040,1345,null,305,0.29428394433963789,null,-3.1618043286709363E-2,2.4483342514740603E-3,5.6932077389563851E-2,null,-0.14840433020062171,null,2.4754856547944071E-2,null,1.2945957296186865]
["Other Services and Accommodation",250,335,395,610,590,660,615,785,470,490,585,505,425,535,565,820,null,255,0.44858838951349433,null,6.9742545162945424E-2,2.1781841107466393E-2,8.3061662671358283E-2,null,0.40086518863398335,null,0.24045725146022767,null,2.3097695002916803]
["Forest and Timber Technologies",825,745,865,940,895,820,785,855,865,865,845,855,865,860,850,735,null,-115,-0.13443163821429804,null,-2.6497455311761842E-2,-1.070340512452217E-2,-7.5382703084843072E-3,null,-0.12564971605774988,null,-0.10202314604963636,null,-0.10729794610753951]
["Sustainable Tourism",495,735,835,715,850,975,910,940,1010,1000,940,765,810,640,590,580,null,-15,-2.1694737289799426E-2,null,-9.195968531882448E-2,-5.0571961485602945E-2,1.0633002636063038E-2,null,-0.38265824448191144,null,-0.40485809390257121,null,0.17193127141500941]
["Education",280,195,240,230,250,345,405,370,420,450,465,420,460,505,490,515,null,25,4.685871615579118E-2,null,1.9562177642413303E-2,4.127752273434826E-2,4.143939977306843E-2,null,0.10171327153874632,null,0.49852825853081106,null,0.8386965382826812]
["Life Sciences",260,320,305,340,395,560,530,435,485,525,425,335,350,440,330,360,null,30,9.603806272991422E-2,null,-3.2252972387823542E-2,-4.2743608131504351E-2,2.2676821260518398E-2,null,-0.15119245682707161,null,-0.35392527804603779,null,0.39983288926148819]
["Textiles",425,395,365,350,325,285,285,255,250,245,270,265,275,280,270,275,null,5,1.3963698058348628E-2,null,3.360056022285951E-3,-3.7556754602886544E-3,-2.8338187331499065E-2,null,1.6913559863439565E-2,null,-3.69283404934867E-2,null,-0.35027882278253752]
["Real Estate",155,145,215,380,430,215,195,300,250,340,310,565,300,210,195,170,null,-25,-0.12629166504470957,null,-0.11230662526758683,-2.1701648357983827E-2,6.3638621183452759E-3,null,-0.44879278608840178,null,-0.19700430356579224,null,9.9829836492060009E-2]
[]
[]
["Total Rest of the UK Exports",28595,30905,36440,34075,36370,41640,42325,42785,44995,45080,45890,47555,47700,50140,46750,48915,null,2165,4.632330791168493E-2,null,1.2866358518620613E-2,1.6236588392502638E-2,3.6439761140798499E-2,null,6.6008661162959781E-2,null,0.17475762108579751,null,0.71064929744481975]
[]
[]
["Proportion of Total Exports to the Rest of the UK by Sector, 2002 - 2017"]
["Sector",2002,2003,2004,2005,2006,2007,2008,2009,2010,2011,2012,2013,2014,2015,2016,2017]
["Financial and Business Services",0.2096444938969135,0.24619103329094405,0.27774048328090961,0.263761936018585,0.28631398681324022,0.32393875343333189,0.31110039592703115,0.27506981653380114,0.27307704030655644,0.23108497483283311,0.22200376579739384,0.22710760806038729,0.24391448030223076,0.23317724315497562,0.25460017771806492,0.27050084029985272]
["Energy",9.2575790633268581E-2,8.9840915164414309E-2,8.2507313006896607E-2,8.1987352114792703E-2,8.6315218185917544E-2,7.929842785639532E-2,9.2698319176564375E-2,0.14390869153335248,0.15063468289362766,0.18576837458429266,0.18341811919946599,0.19206610638665172,0.17223984780287543,0.19766346730747431,0.1670342694331429,0.15883813732943008]
["Wholesale and Retail Trade",0.14869233656055381,0.15111807564005117,0.18334787931240659,0.17851065009790856,0.16133272255673492,0.15354240697982327,0.13655047947304674,0.12822444396637828,0.12170765803717687,0.13243925883920368,0.12597605234952702,0.12735551032572248,0.14398484894654878,0.13959730284143815,0.14155804292418409,0.13670169173610011]
["Engineering and Advanced Manufacturing",0.13156553827242762,0.11141858763858592,9.5374549692942762E-2,0.10512966578638402,0.10178208614159408,0.10056261941812164,0.10570143414179561,0.10595519366207073,0.10811512502842587,0.10521403041409949,0.1172391859771529,0.11282738626272522,0.12070555546997007,0.12974210355419727,0.11073392684139217,9.7049213824834682E-2]
["Food and Drink",0.10930591934824728,9.4255979277824878E-2,8.1380825986528266E-2,9.7381099116090816E-2,9.2330563310553171E-2,8.1107731894663596E-2,8.0009541507328072E-2,8.6785957650909698E-2,9.533608473650948E-2,9.3672560602590257E-2,9.6920033691431609E-2,9.71343423972542E-2,9.1901494906417525E-2,8.5404433583341183E-2,9.0680838270000827E-2,9.1140370919840827E-2]
["Technology, Digital and Media",8.0329374621307639E-2,7.1613931534904654E-2,6.6261608502800384E-2,6.3116910941562285E-2,6.306426646061436E-2,4.8591327294467516E-2,4.7432699417373533E-2,4.5101012297353138E-2,4.2170014639579777E-2,4.1322071953323408E-2,4.8558662710525127E-2,4.6040065811437568E-2,5.0437983025334976E-2,4.6029349090700111E-2,5.2764670639100043E-2,6.2779205096714322E-2]
["Transportation and Storage",5.6487642156798044E-2,5.9973435329880947E-2,4.7485049215759051E-2,4.5762701317958981E-2,5.0697903203094016E-2,4.3007224314059893E-2,4.6407406666081175E-2,4.2800324586679504E-2,4.3382185950899266E-2,4.9507894497601825E-2,5.2959778046625612E-2,4.7200698779157488E-2,4.4943552494462607E-2,4.6321448513494075E-2,4.9344089299835747E-2,4.7649964991764431E-2]
["Construction",5.6986601733350996E-2,6.0974223867639434E-2,6.2564824915548253E-2,4.8631035777273984E-2,4.8097677944483982E-2,4.5771429175601432E-2,5.2432913936072113E-2,3.7725059514309871E-2,3.3180132578859163E-2,3.2780183908805126E-2,3.4781916124260265E-2,3.9372912414588387E-2,3.4597656619111031E-2,2.9726110126962236E-2,4.0486160589857594E-2,3.7118137042058935E-2]
["Chemical Sciences",2.0490635669446509E-2,2.1643887950756471E-2,1.5095711473586673E-2,1.092774939276784E-2,7.3840352269656864E-3,3.1508586080944485E-2,3.9661683839935513E-2,4.2357836291006076E-2,4.8958173690934755E-2,4.1196876066447154E-2,3.4405503509606493E-2,3.2875921883250538E-2,2.4107383656909835E-2,2.3153055389274736E-2,2.2219637281553059E-2,2.7485309335182975E-2]
["Other Services and Accommodation",8.6783310305102671E-3,1.0845068586615712E-2,1.0845873109650135E-2,1.7877772210812496E-2,1.6189001771231427E-2,1.5901549561871592E-2,1.4569221648034267E-2,1.8325532389468401E-2,1.0450338344395585E-2,1.0897948560043018E-2,1.2777249294819215E-2,1.0621871021313027E-2,8.9597974157823272E-3,1.0649230047384849E-2,1.212813096638061E-2,1.6790861458933413E-2]
["Forest and Timber Technologies",2.8889167715987176E-2,2.4183820657293516E-2,2.3684588341869536E-2,2.7621394285678603E-2,2.4663524981558372E-2,1.9722579230943272E-2,1.8505829364148865E-2,1.9940035523268455E-2,1.9277667692589338E-2,1.9236350601836108E-2,1.838043810225852E-2,1.8019299364156329E-2,1.8114904210561705E-2,1.7140628322401388E-2,1.8224058752245389E-2,1.5075807410570314E-2]
["Sustainable Tourism",1.7291059050609212E-2,2.3800801885849106E-2,2.2852296446363902E-2,2.0937768354465626E-2,2.3391943806179476E-2,2.3382475777207277E-2,2.1520287957652141E-2,2.2014134048024048E-2,2.2430209127966613E-2,2.2218413468709879E-2,2.0454922306040318E-2,1.60411059716964E-2,1.703021770587055E-2,1.2786933114388437E-2,1.2669347944979087E-2,1.1845755203921983E-2]
["Education",9.770580658434936E-3,6.2462008203460284E-3,6.52210611115426E-3,6.8041923914779973E-3,6.8542618618025455E-3,8.2328989208734701E-3,9.5345901403054885E-3,8.5989219118324921E-3,9.3467217740353607E-3,9.954861904979434E-3,1.0161588444891723E-2,8.809661955001399E-3,9.6437721616936256E-3,1.0030803141680594E-2,1.0496566844254091E-2,1.0501937983729559E-2]
["Life Sciences",9.0336633805908895E-3,1.0411143033538297E-2,8.4016494593557606E-3,9.9908168025711081E-3,1.0818823083295367E-2,1.3441404013076523E-2,1.2521685037275274E-2,1.0207702004610856E-2,1.0788644662182623E-2,1.1648339550884908E-2,9.283903468711734E-3,7.0426163212358841E-3,7.356446755841353E-3,8.786356721808929E-3,7.0569879624209188E-3,7.3922919967037565E-3]
["Textiles",1.4801455265227503E-2,1.2823318060851943E-2,1.0064020207965605E-2,1.0339238452939095E-2,8.973893107919342E-3,6.8574101234573585E-3,6.7320270194060365E-3,5.9170959464113094E-3,5.6108496148923716E-3,5.4758901803557457E-3,5.8931453255516861E-3,5.6159767881414817E-3,5.7808093652462218E-3,5.580457441791537E-3,5.8011480506737437E-3,5.6217361172858577E-3]
["Real Estate",5.4574100005208683E-3,4.6595772579149548E-3,5.8712209310208983E-3,1.1219716939082941E-2,1.1790091537364031E-2,5.1331759352714473E-3,4.6214847466503365E-3,7.0682421479095082E-3,5.5344709294366636E-3,7.5819700389631881E-3,6.7857356463987993E-3,1.1868916244495556E-2,6.2812491522962616E-3,4.2110776378767416E-3,4.2019464864066249E-3,3.5087392591271987E-3]

{"sheet":"Rest of the UK Exports -Detail","index":8,"n_rows":114,"n_cols":31,"rows_kept":114,"cut":false,"hidden":false,"merged":[[1,18,1,19],[1,21,1,23],[0,25,0,30],[1,25,1,26],[1,27,1,28],[1,29,1,30]]}
["Exports to the Rest of the UK by Sub-Sector, 2002 - 2017",null,null,null,null,null,null,null,null,null,null,null,null,null,null,null,"Contents page",null,null,null,null,null,null,null,null,"Overall Growth Comparison (Actual vs Inflation)"]
["(£ million)",null,null,null,null,null,null,null,null,null,null,null,null,null,null,null,null,null,"Change 2017 - 2016",null,null,"Average Annual Compound Growth rate",null,null,null,"2012 to 2017",null,"2007 to 2017",null,"2002 to 2017"]
["Sector",2002,2003,2004,2005,2006,2007,2008,2009,2010,2011,2012,2013,2014,2015,2016,2017,null,"Num","Per cent",null,"2012 to 2017","2007 to 2017","2002 to 2017",null,"Actual","Inflation","Actual","Inflation","Actual","Inflation"]
["Financial and Business Services",5995,7610,10120,8985,10415,13490,13165,11770,12285,10420,10185,10800,11635,11690,11905,13230,null,1330,0.11166982109828316,null,5.3692289574921226E-2,-1.9198960541619847E-3,5.420015586400595E-2,null,0.29887994276035235,7.6994082709999495E-2,-1.9033936864971901E-2,0.26541708858388002,1.2072226358814424,0.38885883187556503]
["Financial Service Activities",3320,4445,3380,4445,6110,8600,7200,5800,6170,4305,3800,3620,3870,4005,4540,5750,null,1210,0.26665303838969812,null,8.6523363335456072E-2,-3.9413316739127513E-2,3.7300372294347017E-2,null,0.51424220471691218,null,-0.33109319123658165,null,0.73208023727834837]
["Insurance and Pensions",770,490,1040,1070,1300,1635,1860,1645,1940,2035,2045,2000,1895,2025,1875,2065,null,190,0.1006381587971894,null,1.8348158898560119E-3,2.3554001252737988E-2,6.8039188644057003E-2,null,9.2078067694485455E-3,null,0.26214021190246561,null,1.6841564312105217]
["Business Support Activities",1030,1350,1325,1515,1195,1720,1615,1525,1365,905,1705,2360,2820,2250,2415,1910,null,-510,-0.21025131843247535,null,2.305722761368223E-2,1.033248166512557E-2,4.1897130746761713E-2,null,0.12072649568420002,null,0.10826381980023214,null,0.85085599761322106]
["Management Consultancy",440,480,480,545,530,460,520,680,760,945,1005,975,1110,1235,1300,1900,null,600,0.46177030638998962,null,0.13514620402257638,0.15175075766485269,0.10245842016016571,null,0.88477280120649282,null,3.1075708787561762,null,3.3194980453905325]
["Financial Support Activities",320,710,3655,1215,1045,840,1755,1870,1790,1960,1420,1620,1700,1915,1460,1245,null,-215,-0.14779638170657627,null,-2.5723195075960881E-2,4.0026640837411476E-2,9.4586735670130651E-2,null,-0.12216717582087544,null,0.48062351081654775,null,2.8792941821303004]
["Legal and Accounting",115,135,245,200,230,230,215,250,265,270,215,230,235,260,310,365,null,55,0.1737419485327798,null,0.11113129992337689,4.7403023444455794E-2,8.0762530772223062E-2,null,0.69366264112299891,null,0.5890524493438074,null,2.2059311711740932]
[]
["Energy",2645,2775,3005,2795,3140,3300,3925,6155,6780,8375,8415,9135,8215,9910,7810,7770,null,-40,-5.0182765664062989E-3,null,-1.5865047200767868E-2,8.9340995665641243E-2,7.4421167565193347E-2,null,-7.6847855298163625E-2,null,1.3530896814844193,null,1.9350691597808272]
["Mining and Utilities",1500,1850,2085,1640,2045,1885,2155,3705,3575,5150,5160,5800,4470,5730,4340,5250,null,910,0.21022684724058949,null,3.4970436347381284E-3,0.10796403503584617,8.706417258158039E-2,null,1.7607939728279565E-2,null,1.787768024479278,null,2.4980638934946655]
["Energy Support",1145,925,920,1150,1095,1420,1770,2455,3205,3225,3255,3330,3745,4180,3470,2520,null,-950,-0.2740992950705351,null,-5.0066497334947169E-2,5.9114860749390763E-2,5.3900424998732932E-2,null,-0.22648983706504056,null,0.7759495232537299,null,1.1978279633968967]
[]
["Wholesale and Retail Trade",4250,4670,6680,6080,5865,6395,5780,5485,5475,5970,5780,6055,6870,7000,6620,6685,null,70,1.0427689870269097E-2,null,2.9554462859982422E-2,4.4987059046519562E-3,3.0646546668949837E-2,null,0.15676896258020334,null,4.5908797062221618E-2,null,0.57270144741215323]
["Wholesale Trade",2485,2865,4560,4410,3950,4445,3885,3890,3960,4470,4105,4155,4785,5040,4905,4725,null,-180,-3.656562207973002E-2,null,2.8560447762783214E-2,6.1197733669913212E-3,4.3829215723232506E-2,null,0.15119554374406108,null,6.2910857023686262E-2,null,0.90301285630571959]
["Retail Trade",1265,1265,1590,1220,1375,1490,1475,1215,1150,1075,1165,1345,1455,1440,1185,1400,null,215,0.17924739935794554,null,3.774219925065414E-2,-6.4217640689313571E-3,6.817881921380442E-3,null,0.2035035821709188,null,-6.2393308166056483E-2,null,0.10729619009882518]
["Trade and Repair of Vehicles",505,540,530,455,545,455,420,380,370,425,510,560,630,520,525,560,null,35,6.8011415768283401E-2,null,1.8384981989893356E-2,2.1355099265331745E-2,7.1104504200745211E-3,null,9.5367701552724116E-2,null,0.23528627241233568,null,0.11213251339376451]
[]
["Engineering and Advanced Manufacturing",3760,3445,3475,3580,3700,4185,4475,4535,4865,4745,5380,5365,5760,6505,5175,4745,null,-430,-8.2983351752029311E-2,null,-2.4705012656903613E-2,1.2629025325144649E-2,1.5626577470317926E-2,null,-0.11757061741719377,null,0.1337145374771822,null,0.26185908275813286]
["Engineering Services",975,740,690,690,710,855,1005,1025,1510,1490,1985,2185,2300,3085,2195,1745,null,-455,-0.20618196986748016,null,-2.5789016551116872E-2,7.3986481406522087E-2,3.9467219061404046E-2,null,-0.12246366468561465,null,1.0416822259903804,null,0.78715395969469815]
["Transport Equipment",650,680,950,1030,1060,1375,1440,1480,1450,1390,1505,1225,1415,1410,1085,1155,null,65,6.1872023584663705E-2,null,-5.1787220764543562E-2,-1.7311988760946639E-2,3.8790106240702116E-2,null,-0.2334702404738378,null,-0.1602373067216859,null,0.76977097953843421]
["Advanced Manufacturing",1300,1305,1135,1120,1095,1100,1130,1110,1095,1045,1010,1115,1250,1120,1120,1050,null,-70,-6.2017505490025271E-2,null,7.4822898069177857E-3,-4.6077227742542526E-3,-1.431012322572156E-2,null,3.7975500271563378E-2,null,-4.5133472939765995E-2,null,-0.19442784846144168]
["Metal Manufacturing",710,590,530,605,690,755,805,775,720,735,785,720,655,720,620,620,null,0,2.9021718834787436E-4,null,-4.6896199763432289E-2,-1.9687955551838443E-2,-9.2908367529378477E-3,null,-0.21349587287648553,null,-0.18032179852968078,null,-0.13065392397809039]
["Other Manufacturing",120,130,170,145,145,105,95,145,95,85,90,120,140,170,160,185,null,25,0.15729027683744801,null,0.14899262817409809,5.5641109350441198E-2,2.7653385066174208E-2,null,1.0025631096974164,null,0.71855305467101549,null,0.5055662025262857]
[]
["Food and Drink",3125,2915,2965,3320,3360,3375,3385,3715,4290,4225,4445,4620,4385,4280,4240,4460,null,220,5.1625637835481797E-2,null,4.8733124093347513E-4,2.815757747073766E-2,2.3957362230421664E-2,null,2.439032279704767E-3,null,0.32006952759720608,null,0.42635652682414404]
["Food",2470,2210,2325,2485,2555,2595,2585,2835,3355,3320,3490,3555,3475,3380,3385,3625,null,240,7.0783292917542484E-2,null,7.7600310009124929E-3,3.4017864775817808E-2,2.5967895029054944E-2,null,3.9407026916904009E-2,null,0.39727027936238124,null,0.46894847686394359]
["Drink",655,700,640,830,805,780,800,875,935,900,960,1065,905,900,855,830,null,-20,-2.4485647721448123E-2,null,-2.7952261265486888E-2,6.2003627583655518E-3,1.5861696914019063E-2,null,-0.13216338101694514,null,6.3762547086023247E-2,null,0.26624803162387045]
[]
["Technology, Digital and Media",2295,2215,2415,2150,2295,2025,2010,1930,1895,1865,2230,2190,2405,2310,2465,3070,null,605,0.24491150516505167,null,6.6257172400822295E-2,4.2606749629326535E-2,1.9546005203173733E-2,null,0.37819232735002073,null,0.51776775279547693,null,0.33691073283112782]
["Digital Industries",455,355,370,450,545,570,535,580,510,580,805,865,915,930,1060,1425,null,370,0.348218556430824,null,0.12173499993018533,9.5868497340915848E-2,7.9052331001518095E-2,null,0.77603432015401763,null,1.4979539367754162,null,2.1306722866929495]
["Manufacture of Computer, Electronic and Optical Products",1055,1110,1005,860,830,720,735,665,620,635,675,575,670,445,730,965,null,235,0.32434681930146181,null,7.4923792672999756E-2,3.0124356612101E-2,-5.8507978505528691E-3,null,0.43512053564636455,null,0.34553983290730206,null,-8.4257174904256327E-2]
["Publishing and Audio Visual",550,560,850,640,630,500,470,440,450,365,435,475,470,530,490,455,null,-35,-6.7712635803639287E-2,null,8.5455039943136413E-3,-8.9669221266363008E-3,-1.2102407468602916E-2,null,4.3464043474882974E-2,null,-8.613614093159816E-2,null,-0.16693496643547923]
["IT and Telecommunications",240,190,190,205,290,235,265,240,315,280,315,280,350,400,190,220,null,30,0.16904671345530331,null,-6.7676743479340384E-2,-5.778492396888768E-3,-4.8166229150224948E-3,null,-0.29557852322051636,null,-5.6305251535517908E-2,null,-6.9863475804401109E-2]
[]
["Transportation and Storage",1615,1855,1730,1560,1845,1790,1965,1830,1950,2230,2430,2245,2145,2325,2305,2330,null,25,1.0400023579417939E-2,null,-8.3111447955851459E-3,2.670799593804607E-2,2.4750191463071447E-2,null,-4.0870689816473238E-2,null,0.30157573317854647,null,0.44301259574918217]
["Transportation",890,1080,1095,1035,1145,1090,1120,1225,1260,1390,1585,1425,1250,1130,1450,1290,null,-165,-0.11251199205415685,null,-4.0696586567154913E-2,1.6835497915875353E-2,2.5108071080298666E-2,null,-0.18758122950704736,null,0.18169933495973289,null,0.45059038189279832]
["Storage",725,770,635,525,700,700,845,605,690,845,845,820,895,1195,855,1045,null,185,0.21896566615981561,null,4.3043640875610301E-2,4.0548658596103682E-2,2.4310798651561827E-2,null,0.2345605590551505,null,0.48807197251618617,null,0.43375936765636447]
[]
["Construction",1630,1885,2280,1655,1750,1905,2220,1615,1495,1480,1595,1870,1650,1490,1895,1815,null,-75,-4.0719807274198438E-2,null,2.6121246708106893E-2,-4.8375127361708348E-3,7.2368967385645355E-3,null,0.13760999916476102,null,-4.7335528821341066E-2,null,0.11422883839549991]
["Chemical Sciences",585,670,550,370,270,1310,1680,1810,2205,1855,1580,1565,1150,1160,1040,1345,null,305,0.29428394433963789,null,-3.1618043286709363E-2,2.4483342514740603E-3,5.6932077389563851E-2,null,-0.14840433020062171,null,2.4754856547944071E-2,null,1.2945957296186865]
["Other Services and Accommodation",250,335,395,610,590,660,615,785,470,490,585,505,425,535,565,820,null,255,0.44858838951349433,null,6.9742545162945424E-2,2.1781841107466393E-2,8.3061662671358283E-2,null,0.40086518863398335,null,0.24045725146022767,null,2.3097695002916803]
["Forest and Timber Technologies",825,745,865,940,895,820,785,855,865,865,845,855,865,860,850,735,null,-115,-0.13443163821429804,null,-2.6497455311761842E-2,-1.070340512452217E-2,-7.5382703084843072E-3,null,-0.12564971605774988,null,-0.10202314604963636,null,-0.10729794610753951]
["Sustainable Tourism",495,735,835,715,850,975,910,940,1010,1000,940,765,810,640,590,580,null,-15,-2.1694737289799426E-2,null,-9.195968531882448E-2,-5.0571961485602945E-2,1.0633002636063038E-2,null,-0.38265824448191144,null,-0.40485809390257121,null,0.17193127141500941]
["Education",280,195,240,230,250,345,405,370,420,450,465,420,460,505,490,515,null,25,4.685871615579118E-2,null,1.9562177642413303E-2,4.127752273434826E-2,4.143939977306843E-2,null,0.10171327153874632,null,0.49852825853081106,null,0.8386965382826812]
[]
["Life Sciences",260,320,305,340,395,560,530,435,485,525,425,335,350,440,330,360,null,30,9.603806272991422E-2,null,-3.2252972387823542E-2,-4.2743608131504351E-2,2.2676821260518398E-2,null,-0.15119245682707161,null,-0.35392527804603779,null,0.39983288926148819]
["Research",70,70,75,90,140,230,215,190,190,230,220,135,165,270,195,205,null,10,4.9320281917919928E-2,null,-1.4344966484473032E-2,-1.207496246394224E-2,7.1673811961604272E-2,null,-6.9696359466566604E-2,null,-0.11439528233608542,null,1.8244849994303611]
["Pharmaceuticals",145,210,185,200,190,295,275,220,265,265,160,150,145,135,90,110,null,20,0.19565946047658134,null,-7.5102000408105218E-2,-9.4771323157888498E-2,-1.7582464937331843E-2,null,-0.32318620709308843,null,-0.63052672034247703,null,-0.23362455182215813]
["Manufacture of Medical Equipment",45,45,50,50,65,35,40,30,30,35,45,55,40,35,45,50,null,5,9.395957408702138E-2,null,1.3663408534607902E-2,3.8623531023021629E-2,7.9612718179489228E-3,null,7.0209612784744468E-2,null,0.46076911270910204,null,0.12630934535732252]
[]
["Textiles",425,395,365,350,325,285,285,255,250,245,270,265,275,280,270,275,null,5,1.3963698058348628E-2,null,3.360056022285951E-3,-3.7556754602886544E-3,-2.8338187331499065E-2,null,1.6913559863439565E-2,null,-3.69283404934867E-2,null,-0.35027882278253752]
["Real Estate",155,145,215,380,430,215,195,300,250,340,310,565,300,210,195,170,null,-25,-0.12629166504470957,null,-0.11230662526758683,-2.1701648357983827E-2,6.3638621183452759E-3,null,-0.44879278608840178,null,-0.19700430356579224,null,9.9829836492060009E-2]
[]
[]
["Total Rest of the UK Exports",28595,30905,36440,34075,36370,41640,42325,42785,44995,45080,45890,47555,47700,50140,46750,48915,null,2165,4.632330791168493E-2,null,1.2866358518620613E-2,1.6236588392502638E-2,3.6439761140798499E-2,null,6.6008661162959781E-2,null,0.17475762108579751,null,0.71064929744481975]
[]
[]
["Proportion of Total Exports to the Rest of the UK  by Sub-Sector, 2002 - 2017"]
["Sector",2002,2003,2004,2005,2006,2007,2008,2009,2010,2011,2012,2013,2014,2015,2016,2017]
["Financial and Business Services",0.2096444938969135,0.24619103329094405,0.27774048328090961,0.263761936018585,0.28631398681324022,0.32393875343333189,0.31110039592703115,0.27506981653380114,0.27307704030655644,0.23108497483283311,0.22200376579739384,0.22710760806038729,0.24391448030223076,0.23317724315497562,0.25460017771806492,0.27050084029985272]
["Financial Service Activities",0.11613670145325088,0.14382808204239997,9.2807378351575431E-2,0.13039311363897915,0.16804363645870443,0.20651859632995492,0.17009739614879565,0.13553964602376645,0.1371480659882251,9.5479372267474397E-2,8.278314026512433E-2,7.6095622663363269E-2,8.1142587021300866E-2,7.9895712959039175E-2,9.7137012103711479E-2,0.11759165698681744]
["Insurance and Pensions",2.6885446163570317E-2,1.5862537881270084E-2,2.8535776365540777E-2,3.1395458646880349E-2,3.5769374629161729E-2,3.926492342509081E-2,4.3997762065340201E-2,3.8504553632793759E-2,4.3130107808741019E-2,4.5180905349739835E-2,4.4559901199948244E-2,4.2066487424097895E-2,3.9700489213978861E-2,4.0409565723443758E-2,4.0103790371570261E-2,4.21855861009637E-2]
["Business Support Activities",3.6050760856370344E-2,4.3666850810517764E-2,3.6317989007834221E-2,4.4432097542114989E-2,3.2795329248733643E-2,4.1345780797439537E-2,3.8119305772606749E-2,3.5615648195383071E-2,3.0321999111362137E-2,2.0076489419813614E-2,3.7101133317157454E-2,4.9583992342350482E-2,5.9147023140669198E-2,4.4838195554033351E-2,5.1677687627770981E-2,3.9005520914894204E-2]
["Management Consultancy",1.5367411133533782E-2,1.5464714460390451E-2,1.311433082727923E-2,1.5978278508290117E-2,1.4630761740585639E-2,1.1097782620666774E-2,1.2329109949624419E-2,1.5866753225489645E-2,1.6843221228906989E-2,2.0940476478375099E-2,2.1946978398042216E-2,2.0516073819996334E-2,2.3318567275992987E-2,2.4621231608257681E-2,2.777536488570129E-2,3.8803688431733083E-2]
["Financial Support Activities",1.1229363729639846E-2,2.2924580434760644E-2,0.1002826192363015,3.5703709988857642E-2,2.8702962417351315E-2,2.0204611814700735E-2,4.1513020849776275E-2,4.3692252734330625E-2,3.9745123566105107E-2,4.3456460211411724E-2,3.0924009514608383E-2,3.4041143485105126E-2,3.5668281793694578E-2,3.8184206986642301E-2,3.1265790030025248E-2,2.5465187663237E-2]
["Legal and Accounting",3.9748105608980629E-3,4.4442676635465502E-3,6.6823894978671368E-3,5.8592776931692724E-3,6.3719223264023846E-3,5.5070584368336747E-3,5.043801142069238E-3,5.8509627108185251E-3,5.8885225996600735E-3,5.9512711018038953E-3,4.6886031088328806E-3,4.8042883361984461E-3,4.9375318624642868E-3,5.2283303323349467E-3,6.6405326971466739E-3,7.4492001930080761E-3]
[]
["Energy",9.2575790633268581E-2,8.9840915164414309E-2,8.2507313006896607E-2,8.1987352114792703E-2,8.6315218185917544E-2,7.929842785639532E-2,9.2698319176564375E-2,0.14390869153335248,0.15063468289362766,0.18576837458429266,0.18341811919946599,0.19206610638665172,0.17223984780287543,0.19766346730747431,0.1670342694331429,0.15883813732943008]
["Mining and Utilities",5.2491001879338209E-2,5.9932700652046818E-2,5.7208642809135422E-2,4.819250789943131E-2,5.6217829480564765E-2,4.5231735878832245E-2,5.0913762359821473E-2,8.6538873966575044E-2,7.942003383499692E-2,0.1142027983894615,0.11244285470162654,0.12200861076756163,9.3731405551736729E-2,0.11430328875541829,9.2800589143690285E-2,0.10733753474878828]
["Energy Support",4.0084788750433344E-2,2.990821451204393E-2,2.5298670197761185E-2,3.37948442153614E-2,3.0097388705352786E-2,3.4066691975161559E-2,4.1784556816742903E-2,5.7369817566777441E-2,7.1214649058630744E-2,7.1565576194831157E-2,7.0975264497839433E-2,7.0057495619090096E-2,7.8508442251138705E-2,8.3360178552056019E-2,7.4233680289452611E-2,5.1500602580641791E-2]
[]
["Wholesale and Retail Trade",0.14869233656055381,0.15111807564005117,0.18334787931240659,0.17851065009790856,0.16133272255673492,0.15354240697982327,0.13655047947304674,0.12822444396637828,0.12170765803717687,0.13243925883920368,0.12597605234952702,0.12735551032572248,0.14398484894654878,0.13959730284143815,0.14155804292418409,0.13670169173610011]
["Wholesale Trade",8.6861161277785051E-2,9.2753919910734825E-2,0.1251489655756767,0.12938503303182861,0.10856841975237498,0.10679669137974576,9.1801837615404475E-2,9.0928793064224467E-2,8.7967216410766352E-2,9.9205387149101251E-2,8.947835756401569E-2,8.734637073631657E-2,0.10028219382714632,0.10051150457194713,0.10494219190231165,9.6628751943588539E-2]
["Retail Trade",4.4189367840707081E-2,4.0951926814315288E-2,4.3689612329121587E-2,3.577294429228154E-2,3.7763511993337349E-2,3.5838364632373394E-2,3.4849343075007824E-2,2.8439754774261698E-2,2.5563589532827016E-2,2.3832249997666949E-2,2.5335761201803808E-2,2.8274494445428271E-2,3.0542334537836335E-2,2.8729457918035998E-2,2.5379413615674872E-2,2.8603594393063404E-2]
["Trade and Repair of Vehicles",1.764180744311079E-2,1.7412228915001039E-2,1.4509301405412846E-2,1.3352672772624459E-2,1.5000790811297538E-2,1.0907350967704113E-2,9.8992987814531062E-3,8.8558961274246319E-3,8.1768520935835056E-3,9.4016216924355106E-3,1.1161933584579196E-2,1.1734645145239328E-2,1.3160320581985394E-2,1.0356340352053343E-2,1.123643740363083E-2,1.1469345401083596E-2]
[]
["Engineering and Advanced Manufacturing",0.13156553827242762,0.11141858763858592,9.5374549692942762E-2,0.10512966578638402,0.10178208614159408,0.10056261941812164,0.10570143414179561,0.10595519366207073,0.10811512502842587,0.10521403041409949,0.1172391859771529,0.11282738626272522,0.12070555546997007,0.12974210355419727,0.11073392684139217,9.7049213824834682E-2]
["Engineering Services",3.4100460067860862E-2,2.3980889366780327E-2,1.8976720375377287E-2,2.0232430875307347E-2,1.9520956800124441E-2,2.0498465239972823E-2,2.3711146648285848E-2,2.3915328248597437E-2,3.3525891768413717E-2,3.3002159853662637E-2,4.3276970162406107E-2,4.5928843847928572E-2,4.8184857712697531E-2,6.1488538456636925E-2,4.6957629358242027E-2,3.5625520864339705E-2]
["Transport Equipment",2.280705318265221E-2,2.2011809912696596E-2,2.6104274513689393E-2,3.0188713110739025E-2,2.9163722353098602E-2,3.3007828587572362E-2,3.4047863975624683E-2,3.4556660926221699E-2,3.2196243718923469E-2,3.0808575209449345E-2,3.2813833799311722E-2,2.5805397835579915E-2,2.9679436738453191E-2,2.8133662038804519E-2,2.3249787193296005E-2,2.3595286837423533E-2]
["Advanced Manufacturing",4.5512684941382955E-2,4.2237828212055767E-2,3.1167713858498907E-2,3.2825780164690725E-2,3.0153996044286882E-2,2.6368262860510631E-2,2.6665555962328769E-2,2.5919767117289744E-2,2.4314418101363759E-2,2.3220742237804664E-2,2.2011495391378286E-2,2.3427035277220301E-2,2.6212551025218717E-2,2.236387291148988E-2,2.3908211231022745E-2,2.1432652259753476E-2]
["Metal Manufacturing",2.4885811531848941E-2,1.9036960569819919E-2,1.4492459748393322E-2,1.7697533108047666E-2,1.9002038993589074E-2,1.8125433744237706E-2,1.9056639236910512E-2,1.8161790620287478E-2,1.6005551786716685E-2,1.6319965431479462E-2,1.71412800339149E-2,1.5129844183423471E-2,1.3724582024840646E-2,1.4405120136211341E-2,1.3228889867763171E-2,1.264688363427193E-2]
["Other Manufacturing",4.2595285511305573E-3,4.1510995782040091E-3,4.6333811986304548E-3,4.1852085281862449E-3,3.9413719504950845E-3,2.5626289867887275E-3,2.2202283204414384E-3,3.4016467503755598E-3,2.0730196507413134E-3,1.8625876807717399E-3,1.9956065881152137E-3,2.5362651194140756E-3,2.9041279683407017E-3,3.3509100108551583E-3,3.3894091902126377E-3,3.7488702300681764E-3]
[]
["Food and Drink",0.10930591934824728,9.4255979277824878E-2,8.1380825986528266E-2,9.7381099116090816E-2,9.2330563310553171E-2,8.1107731894663596E-2,8.0009541507328072E-2,8.6785957650909698E-2,9.533608473650948E-2,9.3672560602590257E-2,9.6920033691431609E-2,9.71343423972542E-2,9.1901494906417525E-2,8.5404433583341183E-2,9.0680838270000827E-2,9.1140370919840827E-2]
["Food",8.633827241803381E-2,7.1548425371645477E-2,6.3795429604814699E-2,7.2974879569399395E-2,7.0247494047864206E-2,6.23328212456657E-2,6.1050051976465368E-2,6.6318163092150592E-2,7.4530482897301284E-2,7.3656980580410841E-2,7.6036832860855164E-2,7.4716872177972432E-2,7.2881931971620476E-2,6.744139745975132E-2,7.2445805851063791E-2,7.4139377342260893E-2]
["Drink",2.2967646933360782E-2,2.2707553905855844E-2,1.758539638171357E-2,2.4406219545810941E-2,2.2083069262963925E-2,1.8774910647797134E-2,1.8959489530862711E-2,2.0467794560395221E-2,2.0805601839208192E-2,2.0015580021513962E-2,2.0883200831012288E-2,2.2417470219281761E-2,1.901956293542598E-2,1.7963036123789296E-2,1.8235032418509239E-2,1.7000993578193214E-2]
[]
["Technology, Digital and Media",8.0329374621307639E-2,7.1613931534904654E-2,6.6261608502800384E-2,6.3116910941562285E-2,6.306426646061436E-2,4.8591327294467516E-2,4.7432699417373533E-2,4.5101012297353138E-2,4.2170014639579777E-2,4.1322071953323408E-2,4.8558662710525127E-2,4.6040065811437568E-2,5.0437983025334976E-2,4.6029349090700111E-2,5.2764670639100043E-2,6.2779205096714322E-2]
["Digital Industries",1.5935291063920793E-2,1.1543951534233583E-2,1.0150298462359916E-2,1.3155779125945908E-2,1.4952425665573008E-2,1.3715147148037886E-2,1.2642691081458601E-2,1.3603513831534112E-2,1.13884949791935E-2,1.2901000911196434E-2,1.7504350678889266E-2,1.8193735366817839E-2,1.9198560125202956E-2,1.8564504735906748E-2,2.2633005310573502E-2,2.9163297344885427E-2]
["Manufacture of Computer, Electronic and Optical Products",3.6928749278258635E-2,3.5868894641181717E-2,2.7617780910449637E-2,2.5242478046336614E-2,2.2777134379106636E-2,1.725952551992397E-2,1.7323000232022677E-2,1.5572152805579345E-2,1.3786703799053307E-2,1.4118988286843211E-2,1.4684173071956687E-2,1.2041612673995028E-2,1.4092915236053716E-2,8.9037405921905451E-3,1.5618571396822422E-2,1.9768655820826306E-2]
["Publishing and Audio Visual",1.9147936891563778E-2,1.8107194687524818E-2,2.326879388497511E-2,1.8769778661488698E-2,1.7323033965231695E-2,1.1986894386251013E-2,1.1148064219793148E-2,1.0322625694245188E-2,1.0003649067970122E-2,8.0848211619364892E-3,9.5262758933331356E-3,9.9407269321234344E-3,9.8021761799889084E-3,1.0602714531714671E-2,1.0465404330387007E-2,9.3248082544379329E-3]
["IT and Telecommunications",8.3173973893129506E-3,6.0938906709938302E-3,5.2247352444668455E-3,5.9488751066171033E-3,8.0116724509779799E-3,5.6297602414554088E-3,6.318943884807908E-3,5.6027199671631455E-3,6.9911667929183543E-3,6.2172615937909148E-3,6.8438630674356443E-3,5.8639908382909847E-3,7.3443314847183227E-3,7.9583892302898113E-3,4.0476896030282811E-3,4.522443676564656E-3]
[]
["Transportation and Storage",5.6487642156798044E-2,5.9973435329880947E-2,4.7485049215759051E-2,4.5762701317958981E-2,5.0697903203094016E-2,4.3007224314059893E-2,4.6407406666081175E-2,4.2800324586679504E-2,4.3382185950899266E-2,4.9507894497601825E-2,5.2959778046625612E-2,4.7200698779157488E-2,4.4943552494462607E-2,4.6321448513494075E-2,4.9344089299835747E-2,4.7649964991764431E-2]
["Transportation",3.105534993069255E-2,3.5017213888772346E-2,3.0087172740119593E-2,3.0370389766823661E-2,3.146348108075854E-2,2.6179510229416458E-2,2.6490322568662968E-2,2.8622350235418703E-2,2.8015041798418964E-2,3.0784711952410997E-2,3.4554214249705062E-2,3.0004634185178274E-2,2.6203848211128693E-2,2.2517760969228317E-2,3.1047286105360315E-2,2.6334206539625881E-2]
["Storage",2.5432292226455201E-2,2.4956221442402879E-2,1.7397876476462761E-2,1.5392311553776739E-2,1.923442212123563E-2,1.6827714084643432E-2,1.9917084096473137E-2,1.4177974352195725E-2,1.5367144150702323E-2,1.8723182545412644E-2,1.8405563795613027E-2,1.719606459418949E-2,1.8739704285011052E-2,2.3803687546260208E-2,1.8296803194261541E-2,2.1315758452138546E-2]
[]
["Construction",5.6986601733350996E-2,6.0974223867639434E-2,6.2564824915548253E-2,4.8631035777273984E-2,4.8097677944483982E-2,4.5771429175601432E-2,5.2432913936072113E-2,3.7725059514309871E-2,3.3180132578859163E-2,3.2780183908805126E-2,3.4781916124260265E-2,3.9372912414588387E-2,3.4597656619111031E-2,2.9726110126962236E-2,4.0486160589857594E-2,3.7118137042058935E-2]
["Chemical Sciences",2.0490635669446509E-2,2.1643887950756471E-2,1.5095711473586673E-2,1.092774939276784E-2,7.3840352269656864E-3,3.1508586080944485E-2,3.9661683839935513E-2,4.2357836291006076E-2,4.8958173690934755E-2,4.1196876066447154E-2,3.4405503509606493E-2,3.2875921883250538E-2,2.4107383656909835E-2,2.3153055389274736E-2,2.2219637281553059E-2,2.7485309335182975E-2]
["Other Services and Accommodation",8.6783310305102671E-3,1.0845068586615712E-2,1.0845873109650135E-2,1.7877772210812496E-2,1.6189001771231427E-2,1.5901549561871592E-2,1.4569221648034267E-2,1.8325532389468401E-2,1.0450338344395585E-2,1.0897948560043018E-2,1.2777249294819215E-2,1.0621871021313027E-2,8.9597974157823272E-3,1.0649230047384849E-2,1.212813096638061E-2,1.6790861458933413E-2]
["Forest and Timber Technologies",2.8889167715987176E-2,2.4183820657293516E-2,2.3684588341869536E-2,2.7621394285678603E-2,2.4663524981558372E-2,1.9722579230943272E-2,1.8505829364148865E-2,1.9940035523268455E-2,1.9277667692589338E-2,1.9236350601836108E-2,1.838043810225852E-2,1.8019299364156329E-2,1.8114904210561705E-2,1.7140628322401388E-2,1.8224058752245389E-2,1.5075807410570314E-2]
["Sustainable Tourism",1.7291059050609212E-2,2.3800801885849106E-2,2.2852296446363902E-2,2.0937768354465626E-2,2.3391943806179476E-2,2.3382475777207277E-2,2.1520287957652141E-2,2.2014134048024048E-2,2.2430209127966613E-2,2.2218413468709879E-2,2.0454922306040318E-2,1.60411059716964E-2,1.703021770587055E-2,1.2786933114388437E-2,1.2669347944979087E-2,1.1845755203921983E-2]
["Education",9.770580658434936E-3,6.2462008203460284E-3,6.52210611115426E-3,6.8041923914779973E-3,6.8542618618025455E-3,8.2328989208734701E-3,9.5345901403054885E-3,8.5989219118324921E-3,9.3467217740353607E-3,9.954861904979434E-3,1.0161588444891723E-2,8.809661955001399E-3,9.6437721616936256E-3,1.0030803141680594E-2,1.0496566844254091E-2,1.0501937983729559E-2]
[]
["Life Sciences",9.0336633805908895E-3,1.0411143033538297E-2,8.4016494593557606E-3,9.9908168025711081E-3,1.0818823083295367E-2,1.3441404013076523E-2,1.2521685037275274E-2,1.0207702004610856E-2,1.0788644662182623E-2,1.1648339550884908E-2,9.283903468711734E-3,7.0426163212358841E-3,7.356446755841353E-3,8.786356721808929E-3,7.0569879624209188E-3,7.3922919967037565E-3]
["Pharmaceuticals",5.0055938862692698E-3,6.7721459281017598E-3,5.0664901566139032E-3,5.8512893783080723E-3,5.1789174068569387E-3,7.1301956478237406E-3,6.4862280906012983E-3,5.093282290305653E-3,5.9341614507619307E-3,5.8460218518429285E-3,3.5320573278904191E-3,3.1161509191999274E-3,3.0907104714589708E-3,2.7201903453422586E-3,1.9624319529119158E-3,2.2425194127843255E-3]
["Research",2.5159956373095398E-3,2.2427954594244912E-3,2.0280360821928324E-3,2.6169592526044702E-3,3.8584190756527216E-3,5.5105699890802863E-3,5.1238270004853505E-3,4.4485644711168568E-3,4.2366605720835114E-3,5.0604575185057158E-3,4.7601888829731792E-3,2.8147132970271394E-3,3.4283252702281882E-3,5.3552183660873619E-3,4.1423425074331617E-3,4.1542073801028503E-3]
["Manufacture of Medical Equipment",1.5120738572219012E-3,1.396201646012045E-3,1.3071232205764689E-3,1.5225681715998662E-3,1.7814866008132033E-3,8.0063837614848064E-4,9.116299459287307E-4,6.6585524304810728E-4,6.1782263931495565E-4,7.4186018071371884E-4,9.916572578045511E-4,1.1117521049667611E-3,8.3741101419612391E-4,7.1094801041919739E-4,9.5221350207584069E-4,9.955652036939247E-4]
[]
["Textiles",1.4801455265227503E-2,1.2823318060851943E-2,1.0064020207965605E-2,1.0339238452939095E-2,8.973893107919342E-3,6.8574101234573585E-3,6.7320270194060365E-3,5.9170959464113094E-3,5.6108496148923716E-3,5.4758901803557457E-3,5.8931453255516861E-3,5.6159767881414817E-3,5.7808093652462218E-3,5.580457441791537E-3,5.8011480506737437E-3,5.6217361172858577E-3]
["Real Estate",5.4574100005208683E-3,4.6595772579149548E-3,5.8712209310208983E-3,1.1219716939082941E-2,1.1790091537364031E-2,5.1331759352714473E-3,4.6214847466503365E-3,7.0682421479095082E-3,5.5344709294366636E-3,7.5819700389631881E-3,6.7857356463987993E-3,1.1868916244495556E-2,6.2812491522962616E-3,4.2110776378767416E-3,4.2019464864066249E-3,3.5087392591271987E-3]

{"sheet":"Business Base by Size","index":26,"n_rows":19,"n_cols":18,"rows_kept":19,"cut":false,"hidden":false,"merged":[[2,0,3,0],[2,1,2,10],[2,11,2,17],[4,7,6,7],[4,8,6,8],[4,9,6,9],[4,10,6,10]]}
["VAT/PAYE registered enterprises1 in Scotland by employee sizeband2"]
[null,null,null,null,null,null,null,null,null,null,null,null,null,null,null,null,null,"Contents page"]
["Employee Sizeband \n(Employees in Scotland)","All Private Sector VAT/PAYE Registered Enterprises",null,null,null,null,null,null,null,null,null,"SE/HIE Account Managed (as at August 2017)"]
[null,"All Enterprises ","All Employment","Turnover \n(£ million)3","Business Enterprise R&D Performers","Business Enterprise R&D Employment (FTE)","Business Enterprise R&D Spend (£ million)","International Exports\n(£ million)","International Exports as a % of turnover","RUK Exports (£ million)","RUK Exports as a % of turnover","All Enterprises ","Percentage of total managed","All Employment","Turnover \n(£ million)3","Business Enterprise R&D Performers","Business Enterprise R&D Employment (FTE)","Business Enterprise R&D Spend (£ million)"]
["0 employees",67980,76300,7002,0,0,0,5600,{"$f":"H5/SUM(D5:D7)","v":7.5285007528500758E-2},9530,{"$f":"J5/SUM(D5:D7)","v":0.12811895031189502},55,{"$f":"L5/L$12","v":2.5581395348837209E-2},60,9,0,0,0]
["1-9 employees",86725,324420,31633,1460,650,34,null,null,null,null,520,{"$f":"L6/L$12","v":0.24186046511627907},2490,476,165,130,7]
["10-49 employees",17385,336180,35749,1280,2750,129,null,null,null,null,835,0.38837209302325582,20410,2842,365,1090,55]
["50-249 employees",3305,334070,49447,595,3880,309,8495,{"$f":"H8/D8","v":0.1718001092078387},11430,{"$f":"J8/D8","v":0.23115659190648574},545,0.25348837209302327,59230,13008,285,2050,153]
["250-499 employees",465,161650,22407,85,1260,99,3935,{"$f":"H9/D9","v":0.17561476324362923},5235,{"$f":"J9/D9","v":0.23363234703440888},100,4.6511627906976744E-2,35470,7107,40,830,70]
["500-999 employees",235,162210,30629,45,2210,280,6675,{"$f":"H10/D10","v":0.21793071925299554},5515,{"$f":"J10/D10","v":0.18005811485846746},50,2.3255813953488372E-2,38020,11917,25,1040,105]
["1000+ employees",200,545060,84656,25,2420,397,7740,{"$f":"H11/D11","v":9.1428841428841431E-2},17205,{"$f":"J11/D11","v":0.20323426573426573},45,2.0930232558139535E-2,113290,28017,10,1030,215]
["Total",176295,1939900,261523,3490,13180,1247,32440,{"$f":"H12/D12","v":0.12404262722590365},48915,{"$f":"J12/D12","v":0.18703899848196909},2150,1,268960,63375,890,6160,603]
["Sources: IDBR (2018), BERD Survey (2017), Export Statistics  Scotland(2017)"]
["Note: Totals may not equal the sum of the constituent parts due to rounding."]
[]
["1. Excludes central and local government. "]
["2. Sizeband is based on the number of employees that the enterprise employs across Scotland."]
["3. Turnover for financial and insurance enterprises is not available."]
["4. On the IDBR, turnover for the majority of registered enterprises is based on VAT returns for a 12 month period. For 2017, these tend to relate to a 12 month period ending in December 2015, or January/February 2016, depending on the reporting pattern of the trader."]

{"sheet":"Business Base by Sub-Sector","index":27,"n_rows":66,"n_cols":13,"rows_kept":66,"cut":false,"hidden":false,"merged":[[2,0,3,0],[2,1,2,6],[2,7,2,12]]}
["VAT/PAYE registered enterprises1 in Scotland by Sub-Sector"]
[null,null,null,null,null,null,null,null,null,null,null,null,"Contents page"]
["Sector","All Private Sector VAT/PAYE Registered Enterprises",null,null,null,null,null,"SE/HIE Account Managed (as at August 2017)"]
[null,"All Enterprises ","All Employment","Turnover \n(£ million)2","Business Enterprise R&D Performers","Business Enterprise R&D Employment (FTE)","Business Enterprise R&D Spend (£ million)","All Enterprises ","All Employment","Turnover \n(£ million)2","Business Enterprise R&D Performers","Business Enterprise R&D Employment (FTE)","Business Enterprise R&D Spend (£ million)"]
["Food and Drink",17490,99580,17108,190,540,34,220,31260,9378,95,340,24]
["Drink",295,12610,5752,35,120,7,65,10860,5209,25,110,7]
["Food",17195,86980,11355,150,420,27,155,20400,4169,75,220,18]
[]
["Engineering and Advanced Manufacturing",16935,141940,25784,725,2690,196,415,44950,11478,225,1470,115]
["Advanced Manufacturing",1140,29800,4979,195,650,34,120,12100,1964,85,330,17]
["Transport Equipment",305,14730,3510,35,220,17,20,6430,2286,10,"*","*"]
["Engineering Services",12590,67360,13669,270,1110,115,150,15880,6053,65,690,75]
["Metal Manufacturing",2095,24770,3115,180,580,26,100,9080,1032,55,260,8]
["Other Manufacturing",800,5300,512,45,130,5,25,1470,143,10,"*","*"]
[]
["Energy",1435,64870,39921,45,490,57,55,19450,14608,10,150,19]
["Energy Support",130,17860,4479,10,260,30,10,6490,1250,5,80,8]
["Mining and Utilities",1305,47010,35442,35,230,27,45,12960,13358,10,70,11]
[]
["Financial and Business Services",34030,333460,"N/A",455,1720,293,290,62700,"N/A",80,250,"*"]
["Financial Support Activities",1615,24270,"N/A",20,100,14,20,8530,"N/A",5,20,"*"]
["Business Support Activities",12290,165720,11698,190,360,27,110,14900,1284,30,130,15]
["Management Consultancy",15670,45680,4957,210,"*","*",140,3940,"*",45,100,"*"]
["Financial Service Activities",580,46480,"N/A",5,"*","*",15,26760,"N/A",0,"*","*"]
["Legal and Accounting",3835,39170,3131,35,"*","*",5,"*","*",0,"*","*"]
["Insurance and Pensions",45,12150,"N/A",0,0,0,0,"*","N/A",0,0,0]
[]
["Technology, Digital and Media",11325,80810,18711,560,3420,304,310,33490,12237,175,1840,148]
["Manufacture of Computer, Electronic and Optical Products",365,9740,1912,95,950,112,60,6670,1359,45,720,82]
["Digital Industries",8160,33100,10958,320,2150,178,175,10100,"*",95,960,58]
["IT and Telecommunications",840,22740,4402,45,200,11,30,15160,2518,15,"*","*"]
["Publishing and Audio Visual",1965,15230,1439,105,110,4,50,1560,"*",20,"*","*"]
[]
["Chemical Sciences",205,6700,4355,55,130,8,45,4380,2632,30,90,5]
[]
["Wholesale and Retail Trade",24115,363040,66206,395,270,18,255,18470,4545,70,150,12]
["Wholesale Trade",5700,67700,23664,215,190,14,185,10690,3058,60,150,12]
["Retail Trade",13765,248360,31444,95,50,2,65,"*","*",10,"*","*"]
["Trade and Repair of Vehicles",4655,46980,11098,80,40,2,10,"*","*",5,"*","*"]
[]
["Life Sciences",565,13940,2181,375,2930,294,105,8520,1356,90,1560,142]
["Research",415,8070,1319,340,2520,258,75,4020,603,70,1250,115]
["Pharmaceuticals",30,3290,625,15,180,23,15,3020,592,10,130,"*"]
["Manufacture of Medical Equipment",120,2580,237,20,230,13,15,1480,161,10,180,"*"]
[]
["Transportation and Storage",5745,93500,11277,10,20,1,45,6250,1324,5,"*","*"]
["Storage",2220,42770,5371,5,"*","*",30,4240,816,5,"*","*"]
["Transportation",3525,50730,5906,5,"*","*",20,2010,508,0,0,0]
[]
["Education",1950,72380,2740,30,50,3,25,3000,210,10,20,1]
["Sustainable Tourism",14540,207880,8081,170,130,6,95,7830,309,15,"*","*"]
["Textiles",550,8030,888,50,120,5,45,3480,327,25,80,3]
["Forest and Timber Technologies",2130,15870,2577,50,110,3,45,5070,999,25,90,2]
["Other Services and Accommodation",19340,274380,18482,145,260,12,95,9710,547,15,50,3]
["Construction",20355,131490,20119,195,250,11,85,9430,1617,25,40,2]
["Real Estate",5580,32040,3305,35,50,2,20,990,97,0,"*","*"]
[]
[]
["Total",176295,1939900,261523,3490,13180,1247,2150,268960,63375,890,6160,603]
["Sources: IDBR (2018), BERD Survey (2017)"]
["Note: Totals may not equal the sum of the constituent parts due to rounding."]
[]
["1. Excludes central and local government. "]
["2. Turnover for financial and insurance enterprises is not available."]
["3. On the IDBR, turnover for the majority of registered enterprises is based on VAT returns for a 12 month period. For 2017, these tend to relate to a 12 month period ending in December 2015, or January/February 2016, depending on the reporting pattern of the trader."]
["* - disclosive"]

{"sheet":"Enterprises by Size&Sector","index":28,"n_rows":65,"n_cols":7,"rows_kept":65,"cut":false,"hidden":false,"merged":[[2,0,3,0],[2,1,2,6]]}
["VAT/PAYE registered enterprises1 in Scotland by employee sizeband2 and Sub-Sector"]
[null,null,null,null,null,null,"Contents page"]
["Sub-Sector","All Private Sector VAT/PAYE Registered Enterprises"]
[null,"0 employees","1-9 employees","10-49 employees","50-249 employees","250+ employees","Total"]
["Food and Drink",10125,6555,620,140,50,17490]
["Drink",120,110,40,20,10,295]
["Food",10005,6440,580,125,40,17195]
[]
["Engineering and Advanced Manufacturing",8800,6390,1345,335,70,16935]
["Advanced Manufacturing",235,520,275,95,20,1140]
["Transport Equipment",145,110,20,20,10,305]
["Engineering Services",7255,4540,645,125,25,12590]
["Metal Manufacturing",920,750,335,85,10,2095]
["Other Manufacturing",245,470,75,10,0,800]
[]
["Energy",520,635,170,75,45,1435]
["Energy Support",30,50,20,10,20,130]
["Mining and Utilities",490,580,145,60,25,1305]
[]
["Financial and Business Services",16060,15245,2065,515,150,34030]
["Financial Support Activities",565,845,145,40,15,1615]
["Business Support Activities",4670,6235,1000,295,90,12290]
["Management Consultancy",9280,5900,410,65,10,15670]
["Financial Service Activities",180,340,35,15,10,580]
["Legal and Accounting",1355,1900,475,90,20,3835]
["Insurance and Pensions",10,25,0,5,5,45]
[]
["Technology, Digital and Media",6690,3870,585,145,35,11325]
["Manufacture of Computer, Electronic and Optical Products",100,170,60,30,5,365]
["Digital Industries",5185,2595,300,65,15,8160]
["IT and Telecommunications",440,315,60,20,5,840]
["Publishing and Audio Visual",965,790,170,30,10,1965]
[]
["Chemical Sciences",50,80,45,25,5,205]
[]
["Wholesale and Retail Trade",6580,14180,2760,460,140,24115]
["Wholesale Trade",1940,2580,970,180,30,5700]
["Retail Trade",3430,8625,1405,215,90,13765]
["Trade and Repair of Vehicles",1210,2970,385,70,20,4655]
[]
["Life Sciences",170,245,105,30,15,565]
["Research",145,170,75,10,10,415]
["Pharmaceuticals",5,10,5,10,5,30]
["Manufacture of Medical Equipment",20,65,30,10,0,120]
[]
["Transportation and Storage",2545,2255,715,175,50,5745]
["Storage",1200,700,230,60,25,2220]
["Transportation",1345,1555,485,115,25,3525]
[]
["Education",605,945,300,75,25,1950]
["Sustainable Tourism",1230,9525,3325,370,90,14540]
["Textiles",155,285,75,30,5,550]
["Forest and Timber Technologies",925,995,155,50,10,2130]
["Other Services and Accommodation",3025,12495,3145,535,145,19340]
["Construction",8030,10390,1605,275,60,20355]
["Real Estate",2480,2640,370,80,10,5580]
[]
[]
["Total",67980,86725,17385,3305,900,176295]
["Sources: IDBR (2018)"]
["Note: Totals may not equal the sum of the constituent parts due to rounding."]
[]
["1. Excludes central and local government. "]
["2. Sizeband is based on the number of employees that the enterprise employs across Scotland."]
["3. On the IDBR, turnover for the majority of registered enterprises is based on VAT returns for a 12 month period. For 2017, these tend to relate to a 12 month period ending in December 2015, or January/February 2016, depending on the reporting pattern of the trader."]

{"sheet":"Employment by Size&Sector","index":29,"n_rows":66,"n_cols":7,"rows_kept":66,"cut":false,"hidden":false,"merged":[[2,0,3,0],[2,1,2,6]]}
["Employment of VAT/PAYE registered enterprises1 in Scotland by employee sizeband2 and Sub-Sector"]
[null,null,null,null,null,null,"Contents page"]
["Sub-Sector","Employment"]
[null,"0 employees","1-9 employees","10-49 employees","50-249 employees","250+ employees","Total"]
["Food and Drink",14780,25920,11430,15430,32020,99580]
["Drink",120,400,820,"*","*",12610]
["Food",14660,25520,10610,"*","*",86980]
[]
["Engineering and Advanced Manufacturing",9000,20220,27900,34470,50360,141940]
["Advanced Manufacturing",250,2130,5950,10160,11310,29800]
["Transport Equipment",150,400,360,2010,11800,14730]
["Engineering Services",7370,12940,13120,12850,21080,67360]
["Metal Manufacturing",950,2960,7030,"*","*",24770]
["Other Manufacturing",270,1790,1430,"*","*",5300]
[]
["Energy",570,2060,3960,7640,50640,64870]
["Energy Support",30,160,590,1180,15910,17860]
["Mining and Utilities",540,1910,3370,6460,34740,47010]
[]
["Financial and Business Services",16600,50230,39720,53470,173440,333460]
["Financial Support Activities",580,3060,2990,4560,13080,24270]
["Business Support Activities",4910,21120,18760,30310,90620,165720]
["Management Consultancy",9500,16990,7510,"*","*",45680]
["Financial Service Activities","*","*","*",1320,43210,46480]
["Legal and Accounting",1410,7880,9740,10610,9550,39170]
["Insurance and Pensions","*","*","*","*","*",12150]
[]
["Technology, Digital and Media",6780,11650,12070,13520,36780,80810]
["Manufacture of Computer, Electronic and Optical Products",100,640,1460,"*","*",9740]
["Digital Industries",5220,7300,6110,6050,8410,33100]
["IT and Telecommunications",450,1010,1180,"*","*",22740]
["Publishing and Audio Visual",1010,2700,3320,2940,5250,15230]
[]
["Chemical Sciences",50,330,1090,"*","*",6700]
[]
["Wholesale and Retail Trade",7400,58670,52490,46270,198210,363040]
["Wholesale Trade",2140,10600,19360,18250,17350,67700]
["Retail Trade",3930,36120,25930,21780,160590,248360]
["Trade and Repair of Vehicles",1330,11950,7200,6240,20270,46980]
[]
["Life Sciences",170,940,2090,2960,7780,13940]
["Research",150,630,1520,1100,4670,8070]
["Pharmaceuticals","*","*","*","*","*",3290]
["Manufacture of Medical Equipment","*","*","*","*","*",2580]
[]
["Transportation and Storage",2690,8860,14480,16890,50580,93500]
["Storage",1240,2650,4740,6250,27910,42770]
["Transportation",1450,6210,9750,10640,22670,50730]
[]
["Education",630,3660,5840,8100,54140,72380]
["Sustainable Tourism",1480,43510,62700,36510,63680,207880]
["Textiles",170,1130,1530,"*","*",8030]
["Forest and Timber Technologies",1090,3370,2970,"*","*",15870]
["Other Services and Accommodation",3260,49130,60340,53950,107700,274380]
["Construction",8510,36050,30990,26360,29590,131490]
["Real Estate",3110,8700,6580,8040,5610,32040]
[]
[]
["Total",76300,324420,336180,334070,868920,1939900]
["Sources: IDBR (2018)"]
["Note: Totals may not equal the sum of the constituent parts due to rounding."]
[]
["1. Excludes central and local government. "]
["2. Sizeband is based on the number of employees that the enterprise employs across Scotland."]
["3. On the IDBR, turnover for the majority of registered enterprises is based on VAT returns for a 12 month period. For 2017, these tend to relate to a 12 month period ending in December 2015, or January/February 2016, depending on the reporting pattern of the trader."]
["* - disclosive"]

{"sheet":"Turnover by Size&Sector","index":30,"n_rows":67,"n_cols":7,"rows_kept":67,"cut":false,"hidden":false,"merged":[[2,0,3,0],[2,1,2,6]]}
["Turnover of VAT/PAYE registered enterprises1 in Scotland by employee sizeband2 and Sub-Sector"]
[null,null,null,null,null,null,"Contents page"]
["Sub-Sector","Turnover (£ million)3"]
[null,"0 employees","1-9 employees","10-49 employees","50-249 employees","250+ employees","Total"]
["Food and Drink",778,2896,1508,3580,8347,17108]
["Drink",8,39,224,"*","*",5752]
["Food",769,2857,1284,"*","*",11355]
[]
["Engineering and Advanced Manufacturing",776,2009,3245,6827,12926,25784]
["Advanced Manufacturing",22,199,734,1836,2188,4979]
["Transport Equipment",11,52,33,427,2987,3510]
["Engineering Services",659,1398,1632,3181,6798,13669]
["Metal Manufacturing",66,214,710,"*","*",3115]
["Other Manufacturing",18,146,136,"*","*",512]
[]
["Energy",95,1262,2430,3520,32614,39921]
["Energy Support",2,81,889,900,2606,4479]
["Mining and Utilities",93,1181,1541,2620,30008,35442]
[]
["Financial and Business Services","N/A","N/A","N/A","N/A","N/A","N/A"]
["Financial Support Activities","N/A","N/A","N/A","N/A","N/A","N/A"]
["Business Support Activities",525,2643,2105,2668,3757,11698]
["Management Consultancy",877,1659,1194,"*","*",4957]
["Financial Service Activities","N/A","N/A","N/A","N/A","N/A","N/A"]
["Legal and Accounting",123,445,551,"*","*",3131]
["Insurance and Pensions","N/A","N/A","N/A","N/A","N/A","N/A"]
[]
["Technology, Digital and Media",566,1010,1353,2315,13466,18711]
["Manufacture of Computer, Electronic and Optical Products",8,109,173,"*","*",1912]
["Digital Industries",451,516,667,"*","*",10958]
["IT and Telecommunications",38,132,233,"*","*",4402]
["Publishing and Audio Visual",70,254,280,296,539,1439]
[]
["Chemical Sciences",4,65,303,"*","*",4355]
[]
["Wholesale and Retail Trade",1024,7770,10271,11575,35565,66206]
["Wholesale Trade",451,2631,6271,7347,6964,23664]
["Retail Trade",408,3812,2518,2285,22420,31444]
["Trade and Repair of Vehicles",165,1327,1482,1943,6181,11098]
[]
["Life Sciences",14,99,184,507,1377,2181]
["Research",12,71,148,278,811,1319]
["Pharmaceuticals","*","*","*","*","*",625]
["Manufacture of Medical Equipment","*","*","*","*","*",237]
[]
["Transportation and Storage",214,1434,1795,2404,5431,11277]
["Storage",93,630,869,944,2835,5371]
["Transportation",120,804,925,1460,2596,5906]
[]
["Education",49,216,277,399,1801,2740]
["Sustainable Tourism",102,1712,2147,1537,2583,8081]
["Textiles",9,64,125,"*","*",888]
["Forest and Timber Technologies",121,314,384,"*","*",2577]
["Other Services and Accommodation",239,2650,3051,2850,9691,18482]
["Construction",1130,4346,4142,4532,5969,20119]
["Real Estate",354,1038,685,769,457,3305]
[]
[]
["Total",7002,31633,35749,49447,137692,261523]
["Sources: IDBR (2018)"]
["Note: Totals may not equal the sum of the constituent parts due to rounding."]
[]
["1. Excludes central and local government. "]
["2. Sizeband is based on the number of employees that the enterprise employs across Scotland."]
["3. Turnover for financial and insurance enterprises is not available."]
["4. On the IDBR, turnover for the majority of registered enterprises is based on VAT returns for a 12 month period. For 2017, these tend to relate to a 12 month period ending in December 2015, or January/February 2016, depending on the reporting pattern of the trader."]
["* - disclosive"]

{"sheet":"Chart Data - Sectors","index":31,"n_rows":168,"n_cols":18,"rows_kept":168,"cut":false,"hidden":true,"merged":[]}
[null,"Chart destination name lookup","Chart control"]
[null,"International",1]
[null,"Rest of UK"]
[]
[null,"Engineering Chart data"]
["Chart control",null,2002,2003,2004,2005,2006,2007,2008,2009,2010,2011,2012,2013,2014,2015,2016,2017]
[true,"Engineering and Advanced Manufacturing",{"$f":"IF(AND($A7=TRUE,$C$2=1),(VLOOKUP($B7,'International Exports-Detailed'!$A:$Q,C$6-2000,FALSE)),IF(AND($A7=TRUE,$C$2=2),(VLOOKUP($B7,'Rest of the UK Exports -Detail'!$A:$Q,C$6-2000,FALSE)),\"\"))","v":3580},{"$f":"IF(AND($A7=TRUE,$C$2=1),(VLOOKUP($B7,'International Exports-Detailed'!$A:$Q,D$6-2000,FALSE)),IF(AND($A7=TRUE,$C$2=2),(VLOOKUP($B7,'Rest of the UK Exports -Detail'!$A:$Q,D$6-2000,FALSE)),\"\"))","v":3405},{"$f":"IF(AND($A7=TRUE,$C$2=1),(VLOOKUP($B7,'International Exports-Detailed'!$A:$Q,E$6-2000,FALSE)),IF(AND($A7=TRUE,$C$2=2),(VLOOKUP($B7,'Rest of the UK Exports -Detail'!$A:$Q,E$6-2000,FALSE)),\"\"))","v":3400},{"$f":"IF(AND($A7=TRUE,$C$2=1),(VLOOKUP($B7,'International Exports-Detailed'!$A:$Q,F$6-2000,FALSE)),IF(AND($A7=TRUE,$C$2=2),(VLOOKUP($B7,'Rest of the UK Exports -Detail'!$A:$Q,F$6-2000,FALSE)),\"\"))","v":3590},{"$f":"IF(AND($A7=TRUE,$C$2=1),(VLOOKUP($B7,'International Exports-Detailed'!$A:$Q,G$6-2000,FALSE)),IF(AND($A7=TRUE,$C$2=2),(VLOOKUP($B7,'Rest of the UK Exports -Detail'!$A:$Q,G$6-2000,FALSE)),\"\"))","v":3780},{"$f":"IF(AND($A7=TRUE,$C$2=1),(VLOOKUP($B7,'International Exports-Detailed'!$A:$Q,H$6-2000,FALSE)),IF(AND($A7=TRUE,$C$2=2),(VLOOKUP($B7,'Rest of the UK Exports -Detail'!$A:$Q,H$6-2000,FALSE)),\"\"))","v":4385},{"$f":"IF(AND($A7=TRUE,$C$2=1),(VLOOKUP($B7,'International Exports-Detailed'!$A:$Q,I$6-2000,FALSE)),IF(AND($A7=TRUE,$C$2=2),(VLOOKUP($B7,'Rest of the UK Exports -Detail'!$A:$Q,I$6-2000,FALSE)),\"\"))","v":4760},{"$f":"IF(AND($A7=TRUE,$C$2=1),(VLOOKUP($B7,'International Exports-Detailed'!$A:$Q,J$6-2000,FALSE)),IF(AND($A7=TRUE,$C$2=2),(VLOOKUP($B7,'Rest of the UK Exports -Detail'!$A:$Q,J$6-2000,FALSE)),\"\"))","v":4750},{"$f":"IF(AND($A7=TRUE,$C$2=1),(VLOOKUP($B7,'International Exports-Detailed'!$A:$Q,K$6-2000,FALSE)),IF(AND($A7=TRUE,$C$2=2),(VLOOKUP($B7,'Rest of the UK Exports -Detail'!$A:$Q,K$6-2000,FALSE)),\"\"))","v":4755},{"$f":"IF(AND($A7=TRUE,$C$2=1),(VLOOKUP($B7,'International Exports-Detailed'!$A:$Q,L$6-2000,FALSE)),IF(AND($A7=TRUE,$C$2=2),(VLOOKUP($B7,'Rest of the UK Exports -Detail'!$A:$Q,L$6-2000,FALSE)),\"\"))","v":4785},{"$f":"IF(AND($A7=TRUE,$C$2=1),(VLOOKUP($B7,'International Exports-Detailed'!$A:$Q,M$6-2000,FALSE)),IF(AND($A7=TRUE,$C$2=2),(VLOOKUP($B7,'Rest of the UK Exports -Detail'!$A:$Q,M$6-2000,FALSE)),\"\"))","v":5525},{"$f":"IF(AND($A7=TRUE,$C$2=1),(VLOOKUP($B7,'International Exports-Detailed'!$A:$Q,N$6-2000,FALSE)),IF(AND($A7=TRUE,$C$2=2),(VLOOKUP($B7,'Rest of the UK Exports -Detail'!$A:$Q,N$6-2000,FALSE)),\"\"))","v":6155},{"$f":"IF(AND($A7=TRUE,$C$2=1),(VLOOKUP($B7,'International Exports-Detailed'!$A:$Q,O$6-2000,FALSE)),IF(AND($A7=TRUE,$C$2=2),(VLOOKUP($B7,'Rest of the UK Exports -Detail'!$A:$Q,O$6-2000,FALSE)),\"\"))","v":6260},{"$f":"IF(AND($A7=TRUE,$C$2=1),(VLOOKUP($B7,'International Exports-Detailed'!$A:$Q,P$6-2000,FALSE)),IF(AND($A7=TRUE,$C$2=2),(VLOOKUP($B7,'Rest of the UK Exports -Detail'!$A:$Q,P$6-2000,FALSE)),\"\"))","v":5985},{"$f":"IF(AND($A7=TRUE,$C$2=1),(VLOOKUP($B7,'International Exports-Detailed'!$A:$Q,Q$6-2000,FALSE)),IF(AND($A7=TRUE,$C$2=2),(VLOOKUP($B7,'Rest of the UK Exports -Detail'!$A:$Q,Q$6-2000,FALSE)),\"\"))","v":6115},{"$f":"IF(AND($A7=TRUE,$C$2=1),(VLOOKUP($B7,'International Exports-Detailed'!$A:$Q,R$6-2000,FALSE)),IF(AND($A7=TRUE,$C$2=2),(VLOOKUP($B7,'Rest of the UK Exports -Detail'!$A:$Q,R$6-2000,FALSE)),\"\"))","v":5700}]
[true,"Engineering Services",{"$f":"IF(AND($A8=TRUE,$C$2=1),(VLOOKUP($B8,'International Exports-Detailed'!$A:$Q,C$6-2000,FALSE)),IF(AND($A8=TRUE,$C$2=2),(VLOOKUP($B8,'Rest of the UK Exports -Detail'!$A:$Q,C$6-2000,FALSE)),\"\"))","v":705},{"$f":"IF(AND($A8=TRUE,$C$2=1),(VLOOKUP($B8,'International Exports-Detailed'!$A:$Q,D$6-2000,FALSE)),IF(AND($A8=TRUE,$C$2=2),(VLOOKUP($B8,'Rest of the UK Exports -Detail'!$A:$Q,D$6-2000,FALSE)),\"\"))","v":500},{"$f":"IF(AND($A8=TRUE,$C$2=1),(VLOOKUP($B8,'International Exports-Detailed'!$A:$Q,E$6-2000,FALSE)),IF(AND($A8=TRUE,$C$2=2),(VLOOKUP($B8,'Rest of the UK Exports -Detail'!$A:$Q,E$6-2000,FALSE)),\"\"))","v":450},{"$f":"IF(AND($A8=TRUE,$C$2=1),(VLOOKUP($B8,'International Exports-Detailed'!$A:$Q,F$6-2000,FALSE)),IF(AND($A8=TRUE,$C$2=2),(VLOOKUP($B8,'Rest of the UK Exports -Detail'!$A:$Q,F$6-2000,FALSE)),\"\"))","v":590},{"$f":"IF(AND($A8=TRUE,$C$2=1),(VLOOKUP($B8,'International Exports-Detailed'!$A:$Q,G$6-2000,FALSE)),IF(AND($A8=TRUE,$C$2=2),(VLOOKUP($B8,'Rest of the UK Exports -Detail'!$A:$Q,G$6-2000,FALSE)),\"\"))","v":620},{"$f":"IF(AND($A8=TRUE,$C$2=1),(VLOOKUP($B8,'International Exports-Detailed'!$A:$Q,H$6-2000,FALSE)),IF(AND($A8=TRUE,$C$2=2),(VLOOKUP($B8,'Rest of the UK Exports -Detail'!$A:$Q,H$6-2000,FALSE)),\"\"))","v":1015},{"$f":"IF(AND($A8=TRUE,$C$2=1),(VLOOKUP($B8,'International Exports-Detailed'!$A:$Q,I$6-2000,FALSE)),IF(AND($A8=TRUE,$C$2=2),(VLOOKUP($B8,'Rest of the UK Exports -Detail'!$A:$Q,I$6-2000,FALSE)),\"\"))","v":1225},{"$f":"IF(AND($A8=TRUE,$C$2=1),(VLOOKUP($B8,'International Exports-Detailed'!$A:$Q,J$6-2000,FALSE)),IF(AND($A8=TRUE,$C$2=2),(VLOOKUP($B8,'Rest of the UK Exports -Detail'!$A:$Q,J$6-2000,FALSE)),\"\"))","v":1205},{"$f":"IF(AND($A8=TRUE,$C$2=1),(VLOOKUP($B8,'International Exports-Detailed'!$A:$Q,K$6-2000,FALSE)),IF(AND($A8=TRUE,$C$2=2),(VLOOKUP($B8,'Rest of the UK Exports -Detail'!$A:$Q,K$6-2000,FALSE)),\"\"))","v":1190},{"$f":"IF(AND($A8=TRUE,$C$2=1),(VLOOKUP($B8,'International Exports-Detailed'!$A:$Q,L$6-2000,FALSE)),IF(AND($A8=TRUE,$C$2=2),(VLOOKUP($B8,'Rest of the UK Exports -Detail'!$A:$Q,L$6-2000,FALSE)),\"\"))","v":1215},{"$f":"IF(AND($A8=TRUE,$C$2=1),(VLOOKUP($B8,'International Exports-Detailed'!$A:$Q,M$6-2000,FALSE)),IF(AND($A8=TRUE,$C$2=2),(VLOOKUP($B8,'Rest of the UK Exports -Detail'!$A:$Q,M$6-2000,FALSE)),\"\"))","v":1575},{"$f":"IF(AND($A8=TRUE,$C$2=1),(VLOOKUP($B8,'International Exports-Detailed'!$A:$Q,N$6-2000,FALSE)),IF(AND($A8=TRUE,$C$2=2),(VLOOKUP($B8,'Rest of the UK Exports -Detail'!$A:$Q,N$6-2000,FALSE)),\"\"))","v":1825},{"$f":"IF(AND($A8=TRUE,$C$2=1),(VLOOKUP($B8,'International Exports-Detailed'!$A:$Q,O$6-2000,FALSE)),IF(AND($A8=TRUE,$C$2=2),(VLOOKUP($B8,'Rest of the UK Exports -Detail'!$A:$Q,O$6-2000,FALSE)),\"\"))","v":1850},{"$f":"IF(AND($A8=TRUE,$C$2=1),(VLOOKUP($B8,'International Exports-Detailed'!$A:$Q,P$6-2000,FALSE)),IF(AND($A8=TRUE,$C$2=2),(VLOOKUP($B8,'Rest of the UK Exports -Detail'!$A:$Q,P$6-2000,FALSE)),\"\"))","v":1680},{"$f":"IF(AND($A8=TRUE,$C$2=1),(VLOOKUP($B8,'International Exports-Detailed'!$A:$Q,Q$6-2000,FALSE)),IF(AND($A8=TRUE,$C$2=2),(VLOOKUP($B8,'Rest of the UK Exports -Detail'!$A:$Q,Q$6-2000,FALSE)),\"\"))","v":1680},{"$f":"IF(AND($A8=TRUE,$C$2=1),(VLOOKUP($B8,'International Exports-Detailed'!$A:$Q,R$6-2000,FALSE)),IF(AND($A8=TRUE,$C$2=2),(VLOOKUP($B8,'Rest of the UK Exports -Detail'!$A:$Q,R$6-2000,FALSE)),\"\"))","v":1405}]
[true,"Advanced Manufacturing",{"$f":"IF(AND($A9=TRUE,$C$2=1),(VLOOKUP($B9,'International Exports-Detailed'!$A:$Q,C$6-2000,FALSE)),IF(AND($A9=TRUE,$C$2=2),(VLOOKUP($B9,'Rest of the UK Exports -Detail'!$A:$Q,C$6-2000,FALSE)),\"\"))","v":1720},{"$f":"IF(AND($A9=TRUE,$C$2=1),(VLOOKUP($B9,'International Exports-Detailed'!$A:$Q,D$6-2000,FALSE)),IF(AND($A9=TRUE,$C$2=2),(VLOOKUP($B9,'Rest of the UK Exports -Detail'!$A:$Q,D$6-2000,FALSE)),\"\"))","v":1735},{"$f":"IF(AND($A9=TRUE,$C$2=1),(VLOOKUP($B9,'International Exports-Detailed'!$A:$Q,E$6-2000,FALSE)),IF(AND($A9=TRUE,$C$2=2),(VLOOKUP($B9,'Rest of the UK Exports -Detail'!$A:$Q,E$6-2000,FALSE)),\"\"))","v":1740},{"$f":"IF(AND($A9=TRUE,$C$2=1),(VLOOKUP($B9,'International Exports-Detailed'!$A:$Q,F$6-2000,FALSE)),IF(AND($A9=TRUE,$C$2=2),(VLOOKUP($B9,'Rest of the UK Exports -Detail'!$A:$Q,F$6-2000,FALSE)),\"\"))","v":1720},{"$f":"IF(AND($A9=TRUE,$C$2=1),(VLOOKUP($B9,'International Exports-Detailed'!$A:$Q,G$6-2000,FALSE)),IF(AND($A9=TRUE,$C$2=2),(VLOOKUP($B9,'Rest of the UK Exports -Detail'!$A:$Q,G$6-2000,FALSE)),\"\"))","v":1730},{"$f":"IF(AND($A9=TRUE,$C$2=1),(VLOOKUP($B9,'International Exports-Detailed'!$A:$Q,H$6-2000,FALSE)),IF(AND($A9=TRUE,$C$2=2),(VLOOKUP($B9,'Rest of the UK Exports -Detail'!$A:$Q,H$6-2000,FALSE)),\"\"))","v":1810},{"$f":"IF(AND($A9=TRUE,$C$2=1),(VLOOKUP($B9,'International Exports-Detailed'!$A:$Q,I$6-2000,FALSE)),IF(AND($A9=TRUE,$C$2=2),(VLOOKUP($B9,'Rest of the UK Exports -Detail'!$A:$Q,I$6-2000,FALSE)),\"\"))","v":1940},{"$f":"IF(AND($A9=TRUE,$C$2=1),(VLOOKUP($B9,'International Exports-Detailed'!$A:$Q,J$6-2000,FALSE)),IF(AND($A9=TRUE,$C$2=2),(VLOOKUP($B9,'Rest of the UK Exports -Detail'!$A:$Q,J$6-2000,FALSE)),\"\"))","v":2020},{"$f":"IF(AND($A9=TRUE,$C$2=1),(VLOOKUP($B9,'International Exports-Detailed'!$A:$Q,K$6-2000,FALSE)),IF(AND($A9=TRUE,$C$2=2),(VLOOKUP($B9,'Rest of the UK Exports -Detail'!$A:$Q,K$6-2000,FALSE)),\"\"))","v":1975},{"$f":"IF(AND($A9=TRUE,$C$2=1),(VLOOKUP($B9,'International Exports-Detailed'!$A:$Q,L$6-2000,FALSE)),IF(AND($A9=TRUE,$C$2=2),(VLOOKUP($B9,'Rest of the UK Exports -Detail'!$A:$Q,L$6-2000,FALSE)),\"\"))","v":2160},{"$f":"IF(AND($A9=TRUE,$C$2=1),(VLOOKUP($B9,'International Exports-Detailed'!$A:$Q,M$6-2000,FALSE)),IF(AND($A9=TRUE,$C$2=2),(VLOOKUP($B9,'Rest of the UK Exports -Detail'!$A:$Q,M$6-2000,FALSE)),\"\"))","v":2385},{"$f":"IF(AND($A9=TRUE,$C$2=1),(VLOOKUP($B9,'International Exports-Detailed'!$A:$Q,N$6-2000,FALSE)),IF(AND($A9=TRUE,$C$2=2),(VLOOKUP($B9,'Rest of the UK Exports -Detail'!$A:$Q,N$6-2000,FALSE)),\"\"))","v":2580},{"$f":"IF(AND($A9=TRUE,$C$2=1),(VLOOKUP($B9,'International Exports-Detailed'!$A:$Q,O$6-2000,FALSE)),IF(AND($A9=TRUE,$C$2=2),(VLOOKUP($B9,'Rest of the UK Exports -Detail'!$A:$Q,O$6-2000,FALSE)),\"\"))","v":2680},{"$f":"IF(AND($A9=TRUE,$C$2=1),(VLOOKUP($B9,'International Exports-Detailed'!$A:$Q,P$6-2000,FALSE)),IF(AND($A9=TRUE,$C$2=2),(VLOOKUP($B9,'Rest of the UK Exports -Detail'!$A:$Q,P$6-2000,FALSE)),\"\"))","v":2465},{"$f":"IF(AND($A9=TRUE,$C$2=1),(VLOOKUP($B9,'International Exports-Detailed'!$A:$Q,Q$6-2000,FALSE)),IF(AND($A9=TRUE,$C$2=2),(VLOOKUP($B9,'Rest of the UK Exports -Detail'!$A:$Q,Q$6-2000,FALSE)),\"\"))","v":2440},{"$f":"IF(AND($A9=TRUE,$C$2=1),(VLOOKUP($B9,'International Exports-Detailed'!$A:$Q,R$6-2000,FALSE)),IF(AND($A9=TRUE,$C$2=2),(VLOOKUP($B9,'Rest of the UK Exports -Detail'!$A:$Q,R$6-2000,FALSE)),\"\"))","v":2205}]
[true,"Transport Equipment",{"$f":"IF(AND($A10=TRUE,$C$2=1),(VLOOKUP($B10,'International Exports-Detailed'!$A:$Q,C$6-2000,FALSE)),IF(AND($A10=TRUE,$C$2=2),(VLOOKUP($B10,'Rest of the UK Exports -Detail'!$A:$Q,C$6-2000,FALSE)),\"\"))","v":700},{"$f":"IF(AND($A10=TRUE,$C$2=1),(VLOOKUP($B10,'International Exports-Detailed'!$A:$Q,D$6-2000,FALSE)),IF(AND($A10=TRUE,$C$2=2),(VLOOKUP($B10,'Rest of the UK Exports -Detail'!$A:$Q,D$6-2000,FALSE)),\"\"))","v":765},{"$f":"IF(AND($A10=TRUE,$C$2=1),(VLOOKUP($B10,'International Exports-Detailed'!$A:$Q,E$6-2000,FALSE)),IF(AND($A10=TRUE,$C$2=2),(VLOOKUP($B10,'Rest of the UK Exports -Detail'!$A:$Q,E$6-2000,FALSE)),\"\"))","v":800},{"$f":"IF(AND($A10=TRUE,$C$2=1),(VLOOKUP($B10,'International Exports-Detailed'!$A:$Q,F$6-2000,FALSE)),IF(AND($A10=TRUE,$C$2=2),(VLOOKUP($B10,'Rest of the UK Exports -Detail'!$A:$Q,F$6-2000,FALSE)),\"\"))","v":835},{"$f":"IF(AND($A10=TRUE,$C$2=1),(VLOOKUP($B10,'International Exports-Detailed'!$A:$Q,G$6-2000,FALSE)),IF(AND($A10=TRUE,$C$2=2),(VLOOKUP($B10,'Rest of the UK Exports -Detail'!$A:$Q,G$6-2000,FALSE)),\"\"))","v":940},{"$f":"IF(AND($A10=TRUE,$C$2=1),(VLOOKUP($B10,'International Exports-Detailed'!$A:$Q,H$6-2000,FALSE)),IF(AND($A10=TRUE,$C$2=2),(VLOOKUP($B10,'Rest of the UK Exports -Detail'!$A:$Q,H$6-2000,FALSE)),\"\"))","v":1010},{"$f":"IF(AND($A10=TRUE,$C$2=1),(VLOOKUP($B10,'International Exports-Detailed'!$A:$Q,I$6-2000,FALSE)),IF(AND($A10=TRUE,$C$2=2),(VLOOKUP($B10,'Rest of the UK Exports -Detail'!$A:$Q,I$6-2000,FALSE)),\"\"))","v":985},{"$f":"IF(AND($A10=TRUE,$C$2=1),(VLOOKUP($B10,'International Exports-Detailed'!$A:$Q,J$6-2000,FALSE)),IF(AND($A10=TRUE,$C$2=2),(VLOOKUP($B10,'Rest of the UK Exports -Detail'!$A:$Q,J$6-2000,FALSE)),\"\"))","v":950},{"$f":"IF(AND($A10=TRUE,$C$2=1),(VLOOKUP($B10,'International Exports-Detailed'!$A:$Q,K$6-2000,FALSE)),IF(AND($A10=TRUE,$C$2=2),(VLOOKUP($B10,'Rest of the UK Exports -Detail'!$A:$Q,K$6-2000,FALSE)),\"\"))","v":1065},{"$f":"IF(AND($A10=TRUE,$C$2=1),(VLOOKUP($B10,'International Exports-Detailed'!$A:$Q,L$6-2000,FALSE)),IF(AND($A10=TRUE,$C$2=2),(VLOOKUP($B10,'Rest of the UK Exports -Detail'!$A:$Q,L$6-2000,FALSE)),\"\"))","v":930},{"$f":"IF(AND($A10=TRUE,$C$2=1),(VLOOKUP($B10,'International Exports-Detailed'!$A:$Q,M$6-2000,FALSE)),IF(AND($A10=TRUE,$C$2=2),(VLOOKUP($B10,'Rest of the UK Exports -Detail'!$A:$Q,M$6-2000,FALSE)),\"\"))","v":1025},{"$f":"IF(AND($A10=TRUE,$C$2=1),(VLOOKUP($B10,'International Exports-Detailed'!$A:$Q,N$6-2000,FALSE)),IF(AND($A10=TRUE,$C$2=2),(VLOOKUP($B10,'Rest of the UK Exports -Detail'!$A:$Q,N$6-2000,FALSE)),\"\"))","v":1250},{"$f":"IF(AND($A10=TRUE,$C$2=1),(VLOOKUP($B10,'International Exports-Detailed'!$A:$Q,O$6-2000,FALSE)),IF(AND($A10=TRUE,$C$2=2),(VLOOKUP($B10,'Rest of the UK Exports -Detail'!$A:$Q,O$6-2000,FALSE)),\"\"))","v":1190},{"$f":"IF(AND($A10=TRUE,$C$2=1),(VLOOKUP($B10,'International Exports-Detailed'!$A:$Q,P$6-2000,FALSE)),IF(AND($A10=TRUE,$C$2=2),(VLOOKUP($B10,'Rest of the UK Exports -Detail'!$A:$Q,P$6-2000,FALSE)),\"\"))","v":1160},{"$f":"IF(AND($A10=TRUE,$C$2=1),(VLOOKUP($B10,'International Exports-Detailed'!$A:$Q,Q$6-2000,FALSE)),IF(AND($A10=TRUE,$C$2=2),(VLOOKUP($B10,'Rest of the UK Exports -Detail'!$A:$Q,Q$6-2000,FALSE)),\"\"))","v":1350},{"$f":"IF(AND($A10=TRUE,$C$2=1),(VLOOKUP($B10,'International Exports-Detailed'!$A:$Q,R$6-2000,FALSE)),IF(AND($A10=TRUE,$C$2=2),(VLOOKUP($B10,'Rest of the UK Exports -Detail'!$A:$Q,R$6-2000,FALSE)),\"\"))","v":1490}]
[true,"Metal Manufacturing",{"$f":"IF(AND($A11=TRUE,$C$2=1),(VLOOKUP($B11,'International Exports-Detailed'!$A:$Q,C$6-2000,FALSE)),IF(AND($A11=TRUE,$C$2=2),(VLOOKUP($B11,'Rest of the UK Exports -Detail'!$A:$Q,C$6-2000,FALSE)),\"\"))","v":400},{"$f":"IF(AND($A11=TRUE,$C$2=1),(VLOOKUP($B11,'International Exports-Detailed'!$A:$Q,D$6-2000,FALSE)),IF(AND($A11=TRUE,$C$2=2),(VLOOKUP($B11,'Rest of the UK Exports -Detail'!$A:$Q,D$6-2000,FALSE)),\"\"))","v":360},{"$f":"IF(AND($A11=TRUE,$C$2=1),(VLOOKUP($B11,'International Exports-Detailed'!$A:$Q,E$6-2000,FALSE)),IF(AND($A11=TRUE,$C$2=2),(VLOOKUP($B11,'Rest of the UK Exports -Detail'!$A:$Q,E$6-2000,FALSE)),\"\"))","v":375},{"$f":"IF(AND($A11=TRUE,$C$2=1),(VLOOKUP($B11,'International Exports-Detailed'!$A:$Q,F$6-2000,FALSE)),IF(AND($A11=TRUE,$C$2=2),(VLOOKUP($B11,'Rest of the UK Exports -Detail'!$A:$Q,F$6-2000,FALSE)),\"\"))","v":400},{"$f":"IF(AND($A11=TRUE,$C$2=1),(VLOOKUP($B11,'International Exports-Detailed'!$A:$Q,G$6-2000,FALSE)),IF(AND($A11=TRUE,$C$2=2),(VLOOKUP($B11,'Rest of the UK Exports -Detail'!$A:$Q,G$6-2000,FALSE)),\"\"))","v":450},{"$f":"IF(AND($A11=TRUE,$C$2=1),(VLOOKUP($B11,'International Exports-Detailed'!$A:$Q,H$6-2000,FALSE)),IF(AND($A11=TRUE,$C$2=2),(VLOOKUP($B11,'Rest of the UK Exports -Detail'!$A:$Q,H$6-2000,FALSE)),\"\"))","v":515},{"$f":"IF(AND($A11=TRUE,$C$2=1),(VLOOKUP($B11,'International Exports-Detailed'!$A:$Q,I$6-2000,FALSE)),IF(AND($A11=TRUE,$C$2=2),(VLOOKUP($B11,'Rest of the UK Exports -Detail'!$A:$Q,I$6-2000,FALSE)),\"\"))","v":570},{"$f":"IF(AND($A11=TRUE,$C$2=1),(VLOOKUP($B11,'International Exports-Detailed'!$A:$Q,J$6-2000,FALSE)),IF(AND($A11=TRUE,$C$2=2),(VLOOKUP($B11,'Rest of the UK Exports -Detail'!$A:$Q,J$6-2000,FALSE)),\"\"))","v":540},{"$f":"IF(AND($A11=TRUE,$C$2=1),(VLOOKUP($B11,'International Exports-Detailed'!$A:$Q,K$6-2000,FALSE)),IF(AND($A11=TRUE,$C$2=2),(VLOOKUP($B11,'Rest of the UK Exports -Detail'!$A:$Q,K$6-2000,FALSE)),\"\"))","v":485},{"$f":"IF(AND($A11=TRUE,$C$2=1),(VLOOKUP($B11,'International Exports-Detailed'!$A:$Q,L$6-2000,FALSE)),IF(AND($A11=TRUE,$C$2=2),(VLOOKUP($B11,'Rest of the UK Exports -Detail'!$A:$Q,L$6-2000,FALSE)),\"\"))","v":440},{"$f":"IF(AND($A11=TRUE,$C$2=1),(VLOOKUP($B11,'International Exports-Detailed'!$A:$Q,M$6-2000,FALSE)),IF(AND($A11=TRUE,$C$2=2),(VLOOKUP($B11,'Rest of the UK Exports -Detail'!$A:$Q,M$6-2000,FALSE)),\"\"))","v":450},{"$f":"IF(AND($A11=TRUE,$C$2=1),(VLOOKUP($B11,'International Exports-Detailed'!$A:$Q,N$6-2000,FALSE)),IF(AND($A11=TRUE,$C$2=2),(VLOOKUP($B11,'Rest of the UK Exports -Detail'!$A:$Q,N$6-2000,FALSE)),\"\"))","v":460},{"$f":"IF(AND($A11=TRUE,$C$2=1),(VLOOKUP($B11,'International Exports-Detailed'!$A:$Q,O$6-2000,FALSE)),IF(AND($A11=TRUE,$C$2=2),(VLOOKUP($B11,'Rest of the UK Exports -Detail'!$A:$Q,O$6-2000,FALSE)),\"\"))","v":495},{"$f":"IF(AND($A11=TRUE,$C$2=1),(VLOOKUP($B11,'International Exports-Detailed'!$A:$Q,P$6-2000,FALSE)),IF(AND($A11=TRUE,$C$2=2),(VLOOKUP($B11,'Rest of the UK Exports -Detail'!$A:$Q,P$6-2000,FALSE)),\"\"))","v":625},{"$f":"IF(AND($A11=TRUE,$C$2=1),(VLOOKUP($B11,'International Exports-Detailed'!$A:$Q,Q$6-2000,FALSE)),IF(AND($A11=TRUE,$C$2=2),(VLOOKUP($B11,'Rest of the UK Exports -Detail'!$A:$Q,Q$6-2000,FALSE)),\"\"))","v":580},{"$f":"IF(AND($A11=TRUE,$C$2=1),(VLOOKUP($B11,'International Exports-Detailed'!$A:$Q,R$6-2000,FALSE)),IF(AND($A11=TRUE,$C$2=2),(VLOOKUP($B11,'Rest of the UK Exports -Detail'!$A:$Q,R$6-2000,FALSE)),\"\"))","v":530}]
[true,"Other Manufacturing",{"$f":"IF(AND($A12=TRUE,$C$2=1),(VLOOKUP($B12,'International Exports-Detailed'!$A:$Q,C$6-2000,FALSE)),IF(AND($A12=TRUE,$C$2=2),(VLOOKUP($B12,'Rest of the UK Exports -Detail'!$A:$Q,C$6-2000,FALSE)),\"\"))","v":60},{"$f":"IF(AND($A12=TRUE,$C$2=1),(VLOOKUP($B12,'International Exports-Detailed'!$A:$Q,D$6-2000,FALSE)),IF(AND($A12=TRUE,$C$2=2),(VLOOKUP($B12,'Rest of the UK Exports -Detail'!$A:$Q,D$6-2000,FALSE)),\"\"))","v":45},{"$f":"IF(AND($A12=TRUE,$C$2=1),(VLOOKUP($B12,'International Exports-Detailed'!$A:$Q,E$6-2000,FALSE)),IF(AND($A12=TRUE,$C$2=2),(VLOOKUP($B12,'Rest of the UK Exports -Detail'!$A:$Q,E$6-2000,FALSE)),\"\"))","v":35},{"$f":"IF(AND($A12=TRUE,$C$2=1),(VLOOKUP($B12,'International Exports-Detailed'!$A:$Q,F$6-2000,FALSE)),IF(AND($A12=TRUE,$C$2=2),(VLOOKUP($B12,'Rest of the UK Exports -Detail'!$A:$Q,F$6-2000,FALSE)),\"\"))","v":50},{"$f":"IF(AND($A12=TRUE,$C$2=1),(VLOOKUP($B12,'International Exports-Detailed'!$A:$Q,G$6-2000,FALSE)),IF(AND($A12=TRUE,$C$2=2),(VLOOKUP($B12,'Rest of the UK Exports -Detail'!$A:$Q,G$6-2000,FALSE)),\"\"))","v":40},{"$f":"IF(AND($A12=TRUE,$C$2=1),(VLOOKUP($B12,'International Exports-Detailed'!$A:$Q,H$6-2000,FALSE)),IF(AND($A12=TRUE,$C$2=2),(VLOOKUP($B12,'Rest of the UK Exports -Detail'!$A:$Q,H$6-2000,FALSE)),\"\"))","v":30},{"$f":"IF(AND($A12=TRUE,$C$2=1),(VLOOKUP($B12,'International Exports-Detailed'!$A:$Q,I$6-2000,FALSE)),IF(AND($A12=TRUE,$C$2=2),(VLOOKUP($B12,'Rest of the UK Exports -Detail'!$A:$Q,I$6-2000,FALSE)),\"\"))","v":35},{"$f":"IF(AND($A12=TRUE,$C$2=1),(VLOOKUP($B12,'International Exports-Detailed'!$A:$Q,J$6-2000,FALSE)),IF(AND($A12=TRUE,$C$2=2),(VLOOKUP($B12,'Rest of the UK Exports -Detail'!$A:$Q,J$6-2000,FALSE)),\"\"))","v":35},{"$f":"IF(AND($A12=TRUE,$C$2=1),(VLOOKUP($B12,'International Exports-Detailed'!$A:$Q,K$6-2000,FALSE)),IF(AND($A12=TRUE,$C$2=2),(VLOOKUP($B12,'Rest of the UK Exports -Detail'!$A:$Q,K$6-2000,FALSE)),\"\"))","v":35},{"$f":"IF(AND($A12=TRUE,$C$2=1),(VLOOKUP($B12,'International Exports-Detailed'!$A:$Q,L$6-2000,FALSE)),IF(AND($A12=TRUE,$C$2=2),(VLOOKUP($B12,'Rest of the UK Exports -Detail'!$A:$Q,L$6-2000,FALSE)),\"\"))","v":40},{"$f":"IF(AND($A12=TRUE,$C$2=1),(VLOOKUP($B12,'International Exports-Detailed'!$A:$Q,M$6-2000,FALSE)),IF(AND($A12=TRUE,$C$2=2),(VLOOKUP($B12,'Rest of the UK Exports -Detail'!$A:$Q,M$6-2000,FALSE)),\"\"))","v":90},{"$f":"IF(AND($A12=TRUE,$C$2=1),(VLOOKUP($B12,'International Exports-Detailed'!$A:$Q,N$6-2000,FALSE)),IF(AND($A12=TRUE,$C$2=2),(VLOOKUP($B12,'Rest of the UK Exports -Detail'!$A:$Q,N$6-2000,FALSE)),\"\"))","v":45},{"$f":"IF(AND($A12=TRUE,$C$2=1),(VLOOKUP($B12,'International Exports-Detailed'!$A:$Q,O$6-2000,FALSE)),IF(AND($A12=TRUE,$C$2=2),(VLOOKUP($B12,'Rest of the UK Exports -Detail'!$A:$Q,O$6-2000,FALSE)),\"\"))","v":45},{"$f":"IF(AND($A12=TRUE,$C$2=1),(VLOOKUP($B12,'International Exports-Detailed'!$A:$Q,P$6-2000,FALSE)),IF(AND($A12=TRUE,$C$2=2),(VLOOKUP($B12,'Rest of the UK Exports -Detail'!$A:$Q,P$6-2000,FALSE)),\"\"))","v":60},{"$f":"IF(AND($A12=TRUE,$C$2=1),(VLOOKUP($B12,'International Exports-Detailed'!$A:$Q,Q$6-2000,FALSE)),IF(AND($A12=TRUE,$C$2=2),(VLOOKUP($B12,'Rest of the UK Exports -Detail'!$A:$Q,Q$6-2000,FALSE)),\"\"))","v":70},{"$f":"IF(AND($A12=TRUE,$C$2=1),(VLOOKUP($B12,'International Exports-Detailed'!$A:$Q,R$6-2000,FALSE)),IF(AND($A12=TRUE,$C$2=2),(VLOOKUP($B12,'Rest of the UK Exports -Detail'!$A:$Q,R$6-2000,FALSE)),\"\"))","v":70}]
[]
[]
[null,"Food and Drink Chart"]
["Chart control",null,2002,2003,2004,2005,2006,2007,2008,2009,2010,2011,2012,2013,2014,2015,2016,2017]
[true,"Food and Drink",{"$f":"IF(AND($A17=TRUE,$C$2=1),(VLOOKUP($B17,'International Exports-Detailed'!$A:$Q,C$6-2000,FALSE)),IF(AND($A17=TRUE,$C$2=2),(VLOOKUP($B17,'Rest of the UK Exports -Detail'!$A:$Q,C$6-2000,FALSE)),\"\"))","v":3095},{"$f":"IF(AND($A17=TRUE,$C$2=1),(VLOOKUP($B17,'International Exports-Detailed'!$A:$Q,D$6-2000,FALSE)),IF(AND($A17=TRUE,$C$2=2),(VLOOKUP($B17,'Rest of the UK Exports -Detail'!$A:$Q,D$6-2000,FALSE)),\"\"))","v":3205},{"$f":"IF(AND($A17=TRUE,$C$2=1),(VLOOKUP($B17,'International Exports-Detailed'!$A:$Q,E$6-2000,FALSE)),IF(AND($A17=TRUE,$C$2=2),(VLOOKUP($B17,'Rest of the UK Exports -Detail'!$A:$Q,E$6-2000,FALSE)),\"\"))","v":3140},{"$f":"IF(AND($A17=TRUE,$C$2=1),(VLOOKUP($B17,'International Exports-Detailed'!$A:$Q,F$6-2000,FALSE)),IF(AND($A17=TRUE,$C$2=2),(VLOOKUP($B17,'Rest of the UK Exports -Detail'!$A:$Q,F$6-2000,FALSE)),\"\"))","v":3270},{"$f":"IF(AND($A17=TRUE,$C$2=1),(VLOOKUP($B17,'International Exports-Detailed'!$A:$Q,G$6-2000,FALSE)),IF(AND($A17=TRUE,$C$2=2),(VLOOKUP($B17,'Rest of the UK Exports -Detail'!$A:$Q,G$6-2000,FALSE)),\"\"))","v":3305},{"$f":"IF(AND($A17=TRUE,$C$2=1),(VLOOKUP($B17,'International Exports-Detailed'!$A:$Q,H$6-2000,FALSE)),IF(AND($A17=TRUE,$C$2=2),(VLOOKUP($B17,'Rest of the UK Exports -Detail'!$A:$Q,H$6-2000,FALSE)),\"\"))","v":3695},{"$f":"IF(AND($A17=TRUE,$C$2=1),(VLOOKUP($B17,'International Exports-Detailed'!$A:$Q,I$6-2000,FALSE)),IF(AND($A17=TRUE,$C$2=2),(VLOOKUP($B17,'Rest of the UK Exports -Detail'!$A:$Q,I$6-2000,FALSE)),\"\"))","v":3995},{"$f":"IF(AND($A17=TRUE,$C$2=1),(VLOOKUP($B17,'International Exports-Detailed'!$A:$Q,J$6-2000,FALSE)),IF(AND($A17=TRUE,$C$2=2),(VLOOKUP($B17,'Rest of the UK Exports -Detail'!$A:$Q,J$6-2000,FALSE)),\"\"))","v":4230},{"$f":"IF(AND($A17=TRUE,$C$2=1),(VLOOKUP($B17,'International Exports-Detailed'!$A:$Q,K$6-2000,FALSE)),IF(AND($A17=TRUE,$C$2=2),(VLOOKUP($B17,'Rest of the UK Exports -Detail'!$A:$Q,K$6-2000,FALSE)),\"\"))","v":4680},{"$f":"IF(AND($A17=TRUE,$C$2=1),(VLOOKUP($B17,'International Exports-Detailed'!$A:$Q,L$6-2000,FALSE)),IF(AND($A17=TRUE,$C$2=2),(VLOOKUP($B17,'Rest of the UK Exports -Detail'!$A:$Q,L$6-2000,FALSE)),\"\"))","v":5640},{"$f":"IF(AND($A17=TRUE,$C$2=1),(VLOOKUP($B17,'International Exports-Detailed'!$A:$Q,M$6-2000,FALSE)),IF(AND($A17=TRUE,$C$2=2),(VLOOKUP($B17,'Rest of the UK Exports -Detail'!$A:$Q,M$6-2000,FALSE)),\"\"))","v":5805},{"$f":"IF(AND($A17=TRUE,$C$2=1),(VLOOKUP($B17,'International Exports-Detailed'!$A:$Q,N$6-2000,FALSE)),IF(AND($A17=TRUE,$C$2=2),(VLOOKUP($B17,'Rest of the UK Exports -Detail'!$A:$Q,N$6-2000,FALSE)),\"\"))","v":5715},{"$f":"IF(AND($A17=TRUE,$C$2=1),(VLOOKUP($B17,'International Exports-Detailed'!$A:$Q,O$6-2000,FALSE)),IF(AND($A17=TRUE,$C$2=2),(VLOOKUP($B17,'Rest of the UK Exports -Detail'!$A:$Q,O$6-2000,FALSE)),\"\"))","v":5560},{"$f":"IF(AND($A17=TRUE,$C$2=1),(VLOOKUP($B17,'International Exports-Detailed'!$A:$Q,P$6-2000,FALSE)),IF(AND($A17=TRUE,$C$2=2),(VLOOKUP($B17,'Rest of the UK Exports -Detail'!$A:$Q,P$6-2000,FALSE)),\"\"))","v":5550},{"$f":"IF(AND($A17=TRUE,$C$2=1),(VLOOKUP($B17,'International Exports-Detailed'!$A:$Q,Q$6-2000,FALSE)),IF(AND($A17=TRUE,$C$2=2),(VLOOKUP($B17,'Rest of the UK Exports -Detail'!$A:$Q,Q$6-2000,FALSE)),\"\"))","v":5780},{"$f":"IF(AND($A17=TRUE,$C$2=1),(VLOOKUP($B17,'International Exports-Detailed'!$A:$Q,R$6-2000,FALSE)),IF(AND($A17=TRUE,$C$2=2),(VLOOKUP($B17,'Rest of the UK Exports -Detail'!$A:$Q,R$6-2000,FALSE)),\"\"))","v":6345}]
[true,"Drink",{"$f":"IF(AND($A18=TRUE,$C$2=1),(VLOOKUP($B18,'International Exports-Detailed'!$A:$Q,C$6-2000,FALSE)),IF(AND($A18=TRUE,$C$2=2),(VLOOKUP($B18,'Rest of the UK Exports -Detail'!$A:$Q,C$6-2000,FALSE)),\"\"))","v":2475},{"$f":"IF(AND($A18=TRUE,$C$2=1),(VLOOKUP($B18,'International Exports-Detailed'!$A:$Q,D$6-2000,FALSE)),IF(AND($A18=TRUE,$C$2=2),(VLOOKUP($B18,'Rest of the UK Exports -Detail'!$A:$Q,D$6-2000,FALSE)),\"\"))","v":2600},{"$f":"IF(AND($A18=TRUE,$C$2=1),(VLOOKUP($B18,'International Exports-Detailed'!$A:$Q,E$6-2000,FALSE)),IF(AND($A18=TRUE,$C$2=2),(VLOOKUP($B18,'Rest of the UK Exports -Detail'!$A:$Q,E$6-2000,FALSE)),\"\"))","v":2475},{"$f":"IF(AND($A18=TRUE,$C$2=1),(VLOOKUP($B18,'International Exports-Detailed'!$A:$Q,F$6-2000,FALSE)),IF(AND($A18=TRUE,$C$2=2),(VLOOKUP($B18,'Rest of the UK Exports -Detail'!$A:$Q,F$6-2000,FALSE)),\"\"))","v":2570},{"$f":"IF(AND($A18=TRUE,$C$2=1),(VLOOKUP($B18,'International Exports-Detailed'!$A:$Q,G$6-2000,FALSE)),IF(AND($A18=TRUE,$C$2=2),(VLOOKUP($B18,'Rest of the UK Exports -Detail'!$A:$Q,G$6-2000,FALSE)),\"\"))","v":2695},{"$f":"IF(AND($A18=TRUE,$C$2=1),(VLOOKUP($B18,'International Exports-Detailed'!$A:$Q,H$6-2000,FALSE)),IF(AND($A18=TRUE,$C$2=2),(VLOOKUP($B18,'Rest of the UK Exports -Detail'!$A:$Q,H$6-2000,FALSE)),\"\"))","v":3035},{"$f":"IF(AND($A18=TRUE,$C$2=1),(VLOOKUP($B18,'International Exports-Detailed'!$A:$Q,I$6-2000,FALSE)),IF(AND($A18=TRUE,$C$2=2),(VLOOKUP($B18,'Rest of the UK Exports -Detail'!$A:$Q,I$6-2000,FALSE)),\"\"))","v":3325},{"$f":"IF(AND($A18=TRUE,$C$2=1),(VLOOKUP($B18,'International Exports-Detailed'!$A:$Q,J$6-2000,FALSE)),IF(AND($A18=TRUE,$C$2=2),(VLOOKUP($B18,'Rest of the UK Exports -Detail'!$A:$Q,J$6-2000,FALSE)),\"\"))","v":3430},{"$f":"IF(AND($A18=TRUE,$C$2=1),(VLOOKUP($B18,'International Exports-Detailed'!$A:$Q,K$6-2000,FALSE)),IF(AND($A18=TRUE,$C$2=2),(VLOOKUP($B18,'Rest of the UK Exports -Detail'!$A:$Q,K$6-2000,FALSE)),\"\"))","v":3815},{"$f":"IF(AND($A18=TRUE,$C$2=1),(VLOOKUP($B18,'International Exports-Detailed'!$A:$Q,L$6-2000,FALSE)),IF(AND($A18=TRUE,$C$2=2),(VLOOKUP($B18,'Rest of the UK Exports -Detail'!$A:$Q,L$6-2000,FALSE)),\"\"))","v":4710},{"$f":"IF(AND($A18=TRUE,$C$2=1),(VLOOKUP($B18,'International Exports-Detailed'!$A:$Q,M$6-2000,FALSE)),IF(AND($A18=TRUE,$C$2=2),(VLOOKUP($B18,'Rest of the UK Exports -Detail'!$A:$Q,M$6-2000,FALSE)),\"\"))","v":4840},{"$f":"IF(AND($A18=TRUE,$C$2=1),(VLOOKUP($B18,'International Exports-Detailed'!$A:$Q,N$6-2000,FALSE)),IF(AND($A18=TRUE,$C$2=2),(VLOOKUP($B18,'Rest of the UK Exports -Detail'!$A:$Q,N$6-2000,FALSE)),\"\"))","v":4730},{"$f":"IF(AND($A18=TRUE,$C$2=1),(VLOOKUP($B18,'International Exports-Detailed'!$A:$Q,O$6-2000,FALSE)),IF(AND($A18=TRUE,$C$2=2),(VLOOKUP($B18,'Rest of the UK Exports -Detail'!$A:$Q,O$6-2000,FALSE)),\"\"))","v":4400},{"$f":"IF(AND($A18=TRUE,$C$2=1),(VLOOKUP($B18,'International Exports-Detailed'!$A:$Q,P$6-2000,FALSE)),IF(AND($A18=TRUE,$C$2=2),(VLOOKUP($B18,'Rest of the UK Exports -Detail'!$A:$Q,P$6-2000,FALSE)),\"\"))","v":4340},{"$f":"IF(AND($A18=TRUE,$C$2=1),(VLOOKUP($B18,'International Exports-Detailed'!$A:$Q,Q$6-2000,FALSE)),IF(AND($A18=TRUE,$C$2=2),(VLOOKUP($B18,'Rest of the UK Exports -Detail'!$A:$Q,Q$6-2000,FALSE)),\"\"))","v":4530},{"$f":"IF(AND($A18=TRUE,$C$2=1),(VLOOKUP($B18,'International Exports-Detailed'!$A:$Q,R$6-2000,FALSE)),IF(AND($A18=TRUE,$C$2=2),(VLOOKUP($B18,'Rest of the UK Exports -Detail'!$A:$Q,R$6-2000,FALSE)),\"\"))","v":4910}]
[true,"Food",{"$f":"IF(AND($A19=TRUE,$C$2=1),(VLOOKUP($B19,'International Exports-Detailed'!$A:$Q,C$6-2000,FALSE)),IF(AND($A19=TRUE,$C$2=2),(VLOOKUP($B19,'Rest of the UK Exports -Detail'!$A:$Q,C$6-2000,FALSE)),\"\"))","v":625},{"$f":"IF(AND($A19=TRUE,$C$2=1),(VLOOKUP($B19,'International Exports-Detailed'!$A:$Q,D$6-2000,FALSE)),IF(AND($A19=TRUE,$C$2=2),(VLOOKUP($B19,'Rest of the UK Exports -Detail'!$A:$Q,D$6-2000,FALSE)),\"\"))","v":605},{"$f":"IF(AND($A19=TRUE,$C$2=1),(VLOOKUP($B19,'International Exports-Detailed'!$A:$Q,E$6-2000,FALSE)),IF(AND($A19=TRUE,$C$2=2),(VLOOKUP($B19,'Rest of the UK Exports -Detail'!$A:$Q,E$6-2000,FALSE)),\"\"))","v":665},{"$f":"IF(AND($A19=TRUE,$C$2=1),(VLOOKUP($B19,'International Exports-Detailed'!$A:$Q,F$6-2000,FALSE)),IF(AND($A19=TRUE,$C$2=2),(VLOOKUP($B19,'Rest of the UK Exports -Detail'!$A:$Q,F$6-2000,FALSE)),\"\"))","v":695},{"$f":"IF(AND($A19=TRUE,$C$2=1),(VLOOKUP($B19,'International Exports-Detailed'!$A:$Q,G$6-2000,FALSE)),IF(AND($A19=TRUE,$C$2=2),(VLOOKUP($B19,'Rest of the UK Exports -Detail'!$A:$Q,G$6-2000,FALSE)),\"\"))","v":610},{"$f":"IF(AND($A19=TRUE,$C$2=1),(VLOOKUP($B19,'International Exports-Detailed'!$A:$Q,H$6-2000,FALSE)),IF(AND($A19=TRUE,$C$2=2),(VLOOKUP($B19,'Rest of the UK Exports -Detail'!$A:$Q,H$6-2000,FALSE)),\"\"))","v":660},{"$f":"IF(AND($A19=TRUE,$C$2=1),(VLOOKUP($B19,'International Exports-Detailed'!$A:$Q,I$6-2000,FALSE)),IF(AND($A19=TRUE,$C$2=2),(VLOOKUP($B19,'Rest of the UK Exports -Detail'!$A:$Q,I$6-2000,FALSE)),\"\"))","v":670},{"$f":"IF(AND($A19=TRUE,$C$2=1),(VLOOKUP($B19,'International Exports-Detailed'!$A:$Q,J$6-2000,FALSE)),IF(AND($A19=TRUE,$C$2=2),(VLOOKUP($B19,'Rest of the UK Exports -Detail'!$A:$Q,J$6-2000,FALSE)),\"\"))","v":800},{"$f":"IF(AND($A19=TRUE,$C$2=1),(VLOOKUP($B19,'International Exports-Detailed'!$A:$Q,K$6-2000,FALSE)),IF(AND($A19=TRUE,$C$2=2),(VLOOKUP($B19,'Rest of the UK Exports -Detail'!$A:$Q,K$6-2000,FALSE)),\"\"))","v":865},{"$f":"IF(AND($A19=TRUE,$C$2=1),(VLOOKUP($B19,'International Exports-Detailed'!$A:$Q,L$6-2000,FALSE)),IF(AND($A19=TRUE,$C$2=2),(VLOOKUP($B19,'Rest of the UK Exports -Detail'!$A:$Q,L$6-2000,FALSE)),\"\"))","v":930},{"$f":"IF(AND($A19=TRUE,$C$2=1),(VLOOKUP($B19,'International Exports-Detailed'!$A:$Q,M$6-2000,FALSE)),IF(AND($A19=TRUE,$C$2=2),(VLOOKUP($B19,'Rest of the UK Exports -Detail'!$A:$Q,M$6-2000,FALSE)),\"\"))","v":965},{"$f":"IF(AND($A19=TRUE,$C$2=1),(VLOOKUP($B19,'International Exports-Detailed'!$A:$Q,N$6-2000,FALSE)),IF(AND($A19=TRUE,$C$2=2),(VLOOKUP($B19,'Rest of the UK Exports -Detail'!$A:$Q,N$6-2000,FALSE)),\"\"))","v":985},{"$f":"IF(AND($A19=TRUE,$C$2=1),(VLOOKUP($B19,'International Exports-Detailed'!$A:$Q,O$6-2000,FALSE)),IF(AND($A19=TRUE,$C$2=2),(VLOOKUP($B19,'Rest of the UK Exports -Detail'!$A:$Q,O$6-2000,FALSE)),\"\"))","v":1155},{"$f":"IF(AND($A19=TRUE,$C$2=1),(VLOOKUP($B19,'International Exports-Detailed'!$A:$Q,P$6-2000,FALSE)),IF(AND($A19=TRUE,$C$2=2),(VLOOKUP($B19,'Rest of the UK Exports -Detail'!$A:$Q,P$6-2000,FALSE)),\"\"))","v":1210},{"$f":"IF(AND($A19=TRUE,$C$2=1),(VLOOKUP($B19,'International Exports-Detailed'!$A:$Q,Q$6-2000,FALSE)),IF(AND($A19=TRUE,$C$2=2),(VLOOKUP($B19,'Rest of the UK Exports -Detail'!$A:$Q,Q$6-2000,FALSE)),\"\"))","v":1245},{"$f":"IF(AND($A19=TRUE,$C$2=1),(VLOOKUP($B19,'International Exports-Detailed'!$A:$Q,R$6-2000,FALSE)),IF(AND($A19=TRUE,$C$2=2),(VLOOKUP($B19,'Rest of the UK Exports -Detail'!$A:$Q,R$6-2000,FALSE)),\"\"))","v":1440}]
[]
[]
[null,"Energy Chart"]
["Chart control",null,2002,2003,2004,2005,2006,2007,2008,2009,2010,2011,2012,2013,2014,2015,2016,2017]
[true,"Energy",{"$f":"IF(AND($A24=TRUE,$C$2=1),(VLOOKUP($B24,'International Exports-Detailed'!$A:$Q,C$6-2000,FALSE)),IF(AND($A24=TRUE,$C$2=2),(VLOOKUP($B24,'Rest of the UK Exports -Detail'!$A:$Q,C$6-2000,FALSE)),\"\"))","v":745},{"$f":"IF(AND($A24=TRUE,$C$2=1),(VLOOKUP($B24,'International Exports-Detailed'!$A:$Q,D$6-2000,FALSE)),IF(AND($A24=TRUE,$C$2=2),(VLOOKUP($B24,'Rest of the UK Exports -Detail'!$A:$Q,D$6-2000,FALSE)),\"\"))","v":675},{"$f":"IF(AND($A24=TRUE,$C$2=1),(VLOOKUP($B24,'International Exports-Detailed'!$A:$Q,E$6-2000,FALSE)),IF(AND($A24=TRUE,$C$2=2),(VLOOKUP($B24,'Rest of the UK Exports -Detail'!$A:$Q,E$6-2000,FALSE)),\"\"))","v":810},{"$f":"IF(AND($A24=TRUE,$C$2=1),(VLOOKUP($B24,'International Exports-Detailed'!$A:$Q,F$6-2000,FALSE)),IF(AND($A24=TRUE,$C$2=2),(VLOOKUP($B24,'Rest of the UK Exports -Detail'!$A:$Q,F$6-2000,FALSE)),\"\"))","v":965},{"$f":"IF(AND($A24=TRUE,$C$2=1),(VLOOKUP($B24,'International Exports-Detailed'!$A:$Q,G$6-2000,FALSE)),IF(AND($A24=TRUE,$C$2=2),(VLOOKUP($B24,'Rest of the UK Exports -Detail'!$A:$Q,G$6-2000,FALSE)),\"\"))","v":1090},{"$f":"IF(AND($A24=TRUE,$C$2=1),(VLOOKUP($B24,'International Exports-Detailed'!$A:$Q,H$6-2000,FALSE)),IF(AND($A24=TRUE,$C$2=2),(VLOOKUP($B24,'Rest of the UK Exports -Detail'!$A:$Q,H$6-2000,FALSE)),\"\"))","v":1435},{"$f":"IF(AND($A24=TRUE,$C$2=1),(VLOOKUP($B24,'International Exports-Detailed'!$A:$Q,I$6-2000,FALSE)),IF(AND($A24=TRUE,$C$2=2),(VLOOKUP($B24,'Rest of the UK Exports -Detail'!$A:$Q,I$6-2000,FALSE)),\"\"))","v":1410},{"$f":"IF(AND($A24=TRUE,$C$2=1),(VLOOKUP($B24,'International Exports-Detailed'!$A:$Q,J$6-2000,FALSE)),IF(AND($A24=TRUE,$C$2=2),(VLOOKUP($B24,'Rest of the UK Exports -Detail'!$A:$Q,J$6-2000,FALSE)),\"\"))","v":1820},{"$f":"IF(AND($A24=TRUE,$C$2=1),(VLOOKUP($B24,'International Exports-Detailed'!$A:$Q,K$6-2000,FALSE)),IF(AND($A24=TRUE,$C$2=2),(VLOOKUP($B24,'Rest of the UK Exports -Detail'!$A:$Q,K$6-2000,FALSE)),\"\"))","v":2570},{"$f":"IF(AND($A24=TRUE,$C$2=1),(VLOOKUP($B24,'International Exports-Detailed'!$A:$Q,L$6-2000,FALSE)),IF(AND($A24=TRUE,$C$2=2),(VLOOKUP($B24,'Rest of the UK Exports -Detail'!$A:$Q,L$6-2000,FALSE)),\"\"))","v":3080},{"$f":"IF(AND($A24=TRUE,$C$2=1),(VLOOKUP($B24,'International Exports-Detailed'!$A:$Q,M$6-2000,FALSE)),IF(AND($A24=TRUE,$C$2=2),(VLOOKUP($B24,'Rest of the UK Exports -Detail'!$A:$Q,M$6-2000,FALSE)),\"\"))","v":3080},{"$f":"IF(AND($A24=TRUE,$C$2=1),(VLOOKUP($B24,'International Exports-Detailed'!$A:$Q,N$6-2000,FALSE)),IF(AND($A24=TRUE,$C$2=2),(VLOOKUP($B24,'Rest of the UK Exports -Detail'!$A:$Q,N$6-2000,FALSE)),\"\"))","v":3135},{"$f":"IF(AND($A24=TRUE,$C$2=1),(VLOOKUP($B24,'International Exports-Detailed'!$A:$Q,O$6-2000,FALSE)),IF(AND($A24=TRUE,$C$2=2),(VLOOKUP($B24,'Rest of the UK Exports -Detail'!$A:$Q,O$6-2000,FALSE)),\"\"))","v":3530},{"$f":"IF(AND($A24=TRUE,$C$2=1),(VLOOKUP($B24,'International Exports-Detailed'!$A:$Q,P$6-2000,FALSE)),IF(AND($A24=TRUE,$C$2=2),(VLOOKUP($B24,'Rest of the UK Exports -Detail'!$A:$Q,P$6-2000,FALSE)),\"\"))","v":4130},{"$f":"IF(AND($A24=TRUE,$C$2=1),(VLOOKUP($B24,'International Exports-Detailed'!$A:$Q,Q$6-2000,FALSE)),IF(AND($A24=TRUE,$C$2=2),(VLOOKUP($B24,'Rest of the UK Exports -Detail'!$A:$Q,Q$6-2000,FALSE)),\"\"))","v":3895},{"$f":"IF(AND($A24=TRUE,$C$2=1),(VLOOKUP($B24,'International Exports-Detailed'!$A:$Q,R$6-2000,FALSE)),IF(AND($A24=TRUE,$C$2=2),(VLOOKUP($B24,'Rest of the UK Exports -Detail'!$A:$Q,R$6-2000,FALSE)),\"\"))","v":3780}]
[true,"Energy Support",{"$f":"IF(AND($A25=TRUE,$C$2=1),(VLOOKUP($B25,'International Exports-Detailed'!$A:$Q,C$6-2000,FALSE)),IF(AND($A25=TRUE,$C$2=2),(VLOOKUP($B25,'Rest of the UK Exports -Detail'!$A:$Q,C$6-2000,FALSE)),\"\"))","v":620},{"$f":"IF(AND($A25=TRUE,$C$2=1),(VLOOKUP($B25,'International Exports-Detailed'!$A:$Q,D$6-2000,FALSE)),IF(AND($A25=TRUE,$C$2=2),(VLOOKUP($B25,'Rest of the UK Exports -Detail'!$A:$Q,D$6-2000,FALSE)),\"\"))","v":560},{"$f":"IF(AND($A25=TRUE,$C$2=1),(VLOOKUP($B25,'International Exports-Detailed'!$A:$Q,E$6-2000,FALSE)),IF(AND($A25=TRUE,$C$2=2),(VLOOKUP($B25,'Rest of the UK Exports -Detail'!$A:$Q,E$6-2000,FALSE)),\"\"))","v":695},{"$f":"IF(AND($A25=TRUE,$C$2=1),(VLOOKUP($B25,'International Exports-Detailed'!$A:$Q,F$6-2000,FALSE)),IF(AND($A25=TRUE,$C$2=2),(VLOOKUP($B25,'Rest of the UK Exports -Detail'!$A:$Q,F$6-2000,FALSE)),\"\"))","v":825},{"$f":"IF(AND($A25=TRUE,$C$2=1),(VLOOKUP($B25,'International Exports-Detailed'!$A:$Q,G$6-2000,FALSE)),IF(AND($A25=TRUE,$C$2=2),(VLOOKUP($B25,'Rest of the UK Exports -Detail'!$A:$Q,G$6-2000,FALSE)),\"\"))","v":920},{"$f":"IF(AND($A25=TRUE,$C$2=1),(VLOOKUP($B25,'International Exports-Detailed'!$A:$Q,H$6-2000,FALSE)),IF(AND($A25=TRUE,$C$2=2),(VLOOKUP($B25,'Rest of the UK Exports -Detail'!$A:$Q,H$6-2000,FALSE)),\"\"))","v":1240},{"$f":"IF(AND($A25=TRUE,$C$2=1),(VLOOKUP($B25,'International Exports-Detailed'!$A:$Q,I$6-2000,FALSE)),IF(AND($A25=TRUE,$C$2=2),(VLOOKUP($B25,'Rest of the UK Exports -Detail'!$A:$Q,I$6-2000,FALSE)),\"\"))","v":1200},{"$f":"IF(AND($A25=TRUE,$C$2=1),(VLOOKUP($B25,'International Exports-Detailed'!$A:$Q,J$6-2000,FALSE)),IF(AND($A25=TRUE,$C$2=2),(VLOOKUP($B25,'Rest of the UK Exports -Detail'!$A:$Q,J$6-2000,FALSE)),\"\"))","v":1455},{"$f":"IF(AND($A25=TRUE,$C$2=1),(VLOOKUP($B25,'International Exports-Detailed'!$A:$Q,K$6-2000,FALSE)),IF(AND($A25=TRUE,$C$2=2),(VLOOKUP($B25,'Rest of the UK Exports -Detail'!$A:$Q,K$6-2000,FALSE)),\"\"))","v":2255},{"$f":"IF(AND($A25=TRUE,$C$2=1),(VLOOKUP($B25,'International Exports-Detailed'!$A:$Q,L$6-2000,FALSE)),IF(AND($A25=TRUE,$C$2=2),(VLOOKUP($B25,'Rest of the UK Exports -Detail'!$A:$Q,L$6-2000,FALSE)),\"\"))","v":2705},{"$f":"IF(AND($A25=TRUE,$C$2=1),(VLOOKUP($B25,'International Exports-Detailed'!$A:$Q,M$6-2000,FALSE)),IF(AND($A25=TRUE,$C$2=2),(VLOOKUP($B25,'Rest of the UK Exports -Detail'!$A:$Q,M$6-2000,FALSE)),\"\"))","v":2610},{"$f":"IF(AND($A25=TRUE,$C$2=1),(VLOOKUP($B25,'International Exports-Detailed'!$A:$Q,N$6-2000,FALSE)),IF(AND($A25=TRUE,$C$2=2),(VLOOKUP($B25,'Rest of the UK Exports -Detail'!$A:$Q,N$6-2000,FALSE)),\"\"))","v":2715},{"$f":"IF(AND($A25=TRUE,$C$2=1),(VLOOKUP($B25,'International Exports-Detailed'!$A:$Q,O$6-2000,FALSE)),IF(AND($A25=TRUE,$C$2=2),(VLOOKUP($B25,'Rest of the UK Exports -Detail'!$A:$Q,O$6-2000,FALSE)),\"\"))","v":3105},{"$f":"IF(AND($A25=TRUE,$C$2=1),(VLOOKUP($B25,'International Exports-Detailed'!$A:$Q,P$6-2000,FALSE)),IF(AND($A25=TRUE,$C$2=2),(VLOOKUP($B25,'Rest of the UK Exports -Detail'!$A:$Q,P$6-2000,FALSE)),\"\"))","v":3785},{"$f":"IF(AND($A25=TRUE,$C$2=1),(VLOOKUP($B25,'International Exports-Detailed'!$A:$Q,Q$6-2000,FALSE)),IF(AND($A25=TRUE,$C$2=2),(VLOOKUP($B25,'Rest of the UK Exports -Detail'!$A:$Q,Q$6-2000,FALSE)),\"\"))","v":3560},{"$f":"IF(AND($A25=TRUE,$C$2=1),(VLOOKUP($B25,'International Exports-Detailed'!$A:$Q,R$6-2000,FALSE)),IF(AND($A25=TRUE,$C$2=2),(VLOOKUP($B25,'Rest of the UK Exports -Detail'!$A:$Q,R$6-2000,FALSE)),\"\"))","v":3465}]
[true,"Mining and Utilities",{"$f":"IF(AND($A26=TRUE,$C$2=1),(VLOOKUP($B26,'International Exports-Detailed'!$A:$Q,C$6-2000,FALSE)),IF(AND($A26=TRUE,$C$2=2),(VLOOKUP($B26,'Rest of the UK Exports -Detail'!$A:$Q,C$6-2000,FALSE)),\"\"))","v":125},{"$f":"IF(AND($A26=TRUE,$C$2=1),(VLOOKUP($B26,'International Exports-Detailed'!$A:$Q,D$6-2000,FALSE)),IF(AND($A26=TRUE,$C$2=2),(VLOOKUP($B26,'Rest of the UK Exports -Detail'!$A:$Q,D$6-2000,FALSE)),\"\"))","v":115},{"$f":"IF(AND($A26=TRUE,$C$2=1),(VLOOKUP($B26,'International Exports-Detailed'!$A:$Q,E$6-2000,FALSE)),IF(AND($A26=TRUE,$C$2=2),(VLOOKUP($B26,'Rest of the UK Exports -Detail'!$A:$Q,E$6-2000,FALSE)),\"\"))","v":115},{"$f":"IF(AND($A26=TRUE,$C$2=1),(VLOOKUP($B26,'International Exports-Detailed'!$A:$Q,F$6-2000,FALSE)),IF(AND($A26=TRUE,$C$2=2),(VLOOKUP($B26,'Rest of the UK Exports -Detail'!$A:$Q,F$6-2000,FALSE)),\"\"))","v":140},{"$f":"IF(AND($A26=TRUE,$C$2=1),(VLOOKUP($B26,'International Exports-Detailed'!$A:$Q,G$6-2000,FALSE)),IF(AND($A26=TRUE,$C$2=2),(VLOOKUP($B26,'Rest of the UK Exports -Detail'!$A:$Q,G$6-2000,FALSE)),\"\"))","v":170},{"$f":"IF(AND($A26=TRUE,$C$2=1),(VLOOKUP($B26,'International Exports-Detailed'!$A:$Q,H$6-2000,FALSE)),IF(AND($A26=TRUE,$C$2=2),(VLOOKUP($B26,'Rest of the UK Exports -Detail'!$A:$Q,H$6-2000,FALSE)),\"\"))","v":200},{"$f":"IF(AND($A26=TRUE,$C$2=1),(VLOOKUP($B26,'International Exports-Detailed'!$A:$Q,I$6-2000,FALSE)),IF(AND($A26=TRUE,$C$2=2),(VLOOKUP($B26,'Rest of the UK Exports -Detail'!$A:$Q,I$6-2000,FALSE)),\"\"))","v":215},{"$f":"IF(AND($A26=TRUE,$C$2=1),(VLOOKUP($B26,'International Exports-Detailed'!$A:$Q,J$6-2000,FALSE)),IF(AND($A26=TRUE,$C$2=2),(VLOOKUP($B26,'Rest of the UK Exports -Detail'!$A:$Q,J$6-2000,FALSE)),\"\"))","v":360},{"$f":"IF(AND($A26=TRUE,$C$2=1),(VLOOKUP($B26,'International Exports-Detailed'!$A:$Q,K$6-2000,FALSE)),IF(AND($A26=TRUE,$C$2=2),(VLOOKUP($B26,'Rest of the UK Exports -Detail'!$A:$Q,K$6-2000,FALSE)),\"\"))","v":315},{"$f":"IF(AND($A26=TRUE,$C$2=1),(VLOOKUP($B26,'International Exports-Detailed'!$A:$Q,L$6-2000,FALSE)),IF(AND($A26=TRUE,$C$2=2),(VLOOKUP($B26,'Rest of the UK Exports -Detail'!$A:$Q,L$6-2000,FALSE)),\"\"))","v":380},{"$f":"IF(AND($A26=TRUE,$C$2=1),(VLOOKUP($B26,'International Exports-Detailed'!$A:$Q,M$6-2000,FALSE)),IF(AND($A26=TRUE,$C$2=2),(VLOOKUP($B26,'Rest of the UK Exports -Detail'!$A:$Q,M$6-2000,FALSE)),\"\"))","v":470},{"$f":"IF(AND($A26=TRUE,$C$2=1),(VLOOKUP($B26,'International Exports-Detailed'!$A:$Q,N$6-2000,FALSE)),IF(AND($A26=TRUE,$C$2=2),(VLOOKUP($B26,'Rest of the UK Exports -Detail'!$A:$Q,N$6-2000,FALSE)),\"\"))","v":420},{"$f":"IF(AND($A26=TRUE,$C$2=1),(VLOOKUP($B26,'International Exports-Detailed'!$A:$Q,O$6-2000,FALSE)),IF(AND($A26=TRUE,$C$2=2),(VLOOKUP($B26,'Rest of the UK Exports -Detail'!$A:$Q,O$6-2000,FALSE)),\"\"))","v":425},{"$f":"IF(AND($A26=TRUE,$C$2=1),(VLOOKUP($B26,'International Exports-Detailed'!$A:$Q,P$6-2000,FALSE)),IF(AND($A26=TRUE,$C$2=2),(VLOOKUP($B26,'Rest of the UK Exports -Detail'!$A:$Q,P$6-2000,FALSE)),\"\"))","v":345},{"$f":"IF(AND($A26=TRUE,$C$2=1),(VLOOKUP($B26,'International Exports-Detailed'!$A:$Q,Q$6-2000,FALSE)),IF(AND($A26=TRUE,$C$2=2),(VLOOKUP($B26,'Rest of the UK Exports -Detail'!$A:$Q,Q$6-2000,FALSE)),\"\"))","v":335},{"$f":"IF(AND($A26=TRUE,$C$2=1),(VLOOKUP($B26,'International Exports-Detailed'!$A:$Q,R$6-2000,FALSE)),IF(AND($A26=TRUE,$C$2=2),(VLOOKUP($B26,'Rest of the UK Exports -Detail'!$A:$Q,R$6-2000,FALSE)),\"\"))","v":320}]
[]
[]
[null,"Financial and Business Services Chart"]
["Chart control",null,2002,2003,2004,2005,2006,2007,2008,2009,2010,2011,2012,2013,2014,2015,2016,2017]
[true,"Financial and Business Services",{"$f":"IF(AND($A31=TRUE,$C$2=1),(VLOOKUP($B31,'International Exports-Detailed'!$A:$Q,C$6-2000,FALSE)),IF(AND($A31=TRUE,$C$2=2),(VLOOKUP($B31,'Rest of the UK Exports -Detail'!$A:$Q,C$6-2000,FALSE)),\"\"))","v":1600},{"$f":"IF(AND($A31=TRUE,$C$2=1),(VLOOKUP($B31,'International Exports-Detailed'!$A:$Q,D$6-2000,FALSE)),IF(AND($A31=TRUE,$C$2=2),(VLOOKUP($B31,'Rest of the UK Exports -Detail'!$A:$Q,D$6-2000,FALSE)),\"\"))","v":1355},{"$f":"IF(AND($A31=TRUE,$C$2=1),(VLOOKUP($B31,'International Exports-Detailed'!$A:$Q,E$6-2000,FALSE)),IF(AND($A31=TRUE,$C$2=2),(VLOOKUP($B31,'Rest of the UK Exports -Detail'!$A:$Q,E$6-2000,FALSE)),\"\"))","v":1615},{"$f":"IF(AND($A31=TRUE,$C$2=1),(VLOOKUP($B31,'International Exports-Detailed'!$A:$Q,F$6-2000,FALSE)),IF(AND($A31=TRUE,$C$2=2),(VLOOKUP($B31,'Rest of the UK Exports -Detail'!$A:$Q,F$6-2000,FALSE)),\"\"))","v":1715},{"$f":"IF(AND($A31=TRUE,$C$2=1),(VLOOKUP($B31,'International Exports-Detailed'!$A:$Q,G$6-2000,FALSE)),IF(AND($A31=TRUE,$C$2=2),(VLOOKUP($B31,'Rest of the UK Exports -Detail'!$A:$Q,G$6-2000,FALSE)),\"\"))","v":1915},{"$f":"IF(AND($A31=TRUE,$C$2=1),(VLOOKUP($B31,'International Exports-Detailed'!$A:$Q,H$6-2000,FALSE)),IF(AND($A31=TRUE,$C$2=2),(VLOOKUP($B31,'Rest of the UK Exports -Detail'!$A:$Q,H$6-2000,FALSE)),\"\"))","v":1595},{"$f":"IF(AND($A31=TRUE,$C$2=1),(VLOOKUP($B31,'International Exports-Detailed'!$A:$Q,I$6-2000,FALSE)),IF(AND($A31=TRUE,$C$2=2),(VLOOKUP($B31,'Rest of the UK Exports -Detail'!$A:$Q,I$6-2000,FALSE)),\"\"))","v":1835},{"$f":"IF(AND($A31=TRUE,$C$2=1),(VLOOKUP($B31,'International Exports-Detailed'!$A:$Q,J$6-2000,FALSE)),IF(AND($A31=TRUE,$C$2=2),(VLOOKUP($B31,'Rest of the UK Exports -Detail'!$A:$Q,J$6-2000,FALSE)),\"\"))","v":2465},{"$f":"IF(AND($A31=TRUE,$C$2=1),(VLOOKUP($B31,'International Exports-Detailed'!$A:$Q,K$6-2000,FALSE)),IF(AND($A31=TRUE,$C$2=2),(VLOOKUP($B31,'Rest of the UK Exports -Detail'!$A:$Q,K$6-2000,FALSE)),\"\"))","v":2515},{"$f":"IF(AND($A31=TRUE,$C$2=1),(VLOOKUP($B31,'International Exports-Detailed'!$A:$Q,L$6-2000,FALSE)),IF(AND($A31=TRUE,$C$2=2),(VLOOKUP($B31,'Rest of the UK Exports -Detail'!$A:$Q,L$6-2000,FALSE)),\"\"))","v":2915},{"$f":"IF(AND($A31=TRUE,$C$2=1),(VLOOKUP($B31,'International Exports-Detailed'!$A:$Q,M$6-2000,FALSE)),IF(AND($A31=TRUE,$C$2=2),(VLOOKUP($B31,'Rest of the UK Exports -Detail'!$A:$Q,M$6-2000,FALSE)),\"\"))","v":2880},{"$f":"IF(AND($A31=TRUE,$C$2=1),(VLOOKUP($B31,'International Exports-Detailed'!$A:$Q,N$6-2000,FALSE)),IF(AND($A31=TRUE,$C$2=2),(VLOOKUP($B31,'Rest of the UK Exports -Detail'!$A:$Q,N$6-2000,FALSE)),\"\"))","v":3090},{"$f":"IF(AND($A31=TRUE,$C$2=1),(VLOOKUP($B31,'International Exports-Detailed'!$A:$Q,O$6-2000,FALSE)),IF(AND($A31=TRUE,$C$2=2),(VLOOKUP($B31,'Rest of the UK Exports -Detail'!$A:$Q,O$6-2000,FALSE)),\"\"))","v":3235},{"$f":"IF(AND($A31=TRUE,$C$2=1),(VLOOKUP($B31,'International Exports-Detailed'!$A:$Q,P$6-2000,FALSE)),IF(AND($A31=TRUE,$C$2=2),(VLOOKUP($B31,'Rest of the UK Exports -Detail'!$A:$Q,P$6-2000,FALSE)),\"\"))","v":3135},{"$f":"IF(AND($A31=TRUE,$C$2=1),(VLOOKUP($B31,'International Exports-Detailed'!$A:$Q,Q$6-2000,FALSE)),IF(AND($A31=TRUE,$C$2=2),(VLOOKUP($B31,'Rest of the UK Exports -Detail'!$A:$Q,Q$6-2000,FALSE)),\"\"))","v":3285},{"$f":"IF(AND($A31=TRUE,$C$2=1),(VLOOKUP($B31,'International Exports-Detailed'!$A:$Q,R$6-2000,FALSE)),IF(AND($A31=TRUE,$C$2=2),(VLOOKUP($B31,'Rest of the UK Exports -Detail'!$A:$Q,R$6-2000,FALSE)),\"\"))","v":3355}]
[true,"Financial Support Activities",{"$f":"IF(AND($A32=TRUE,$C$2=1),(VLOOKUP($B32,'International Exports-Detailed'!$A:$Q,C$6-2000,FALSE)),IF(AND($A32=TRUE,$C$2=2),(VLOOKUP($B32,'Rest of the UK Exports -Detail'!$A:$Q,C$6-2000,FALSE)),\"\"))","v":370},{"$f":"IF(AND($A32=TRUE,$C$2=1),(VLOOKUP($B32,'International Exports-Detailed'!$A:$Q,D$6-2000,FALSE)),IF(AND($A32=TRUE,$C$2=2),(VLOOKUP($B32,'Rest of the UK Exports -Detail'!$A:$Q,D$6-2000,FALSE)),\"\"))","v":310},{"$f":"IF(AND($A32=TRUE,$C$2=1),(VLOOKUP($B32,'International Exports-Detailed'!$A:$Q,E$6-2000,FALSE)),IF(AND($A32=TRUE,$C$2=2),(VLOOKUP($B32,'Rest of the UK Exports -Detail'!$A:$Q,E$6-2000,FALSE)),\"\"))","v":270},{"$f":"IF(AND($A32=TRUE,$C$2=1),(VLOOKUP($B32,'International Exports-Detailed'!$A:$Q,F$6-2000,FALSE)),IF(AND($A32=TRUE,$C$2=2),(VLOOKUP($B32,'Rest of the UK Exports -Detail'!$A:$Q,F$6-2000,FALSE)),\"\"))","v":275},{"$f":"IF(AND($A32=TRUE,$C$2=1),(VLOOKUP($B32,'International Exports-Detailed'!$A:$Q,G$6-2000,FALSE)),IF(AND($A32=TRUE,$C$2=2),(VLOOKUP($B32,'Rest of the UK Exports -Detail'!$A:$Q,G$6-2000,FALSE)),\"\"))","v":310},{"$f":"IF(AND($A32=TRUE,$C$2=1),(VLOOKUP($B32,'International Exports-Detailed'!$A:$Q,H$6-2000,FALSE)),IF(AND($A32=TRUE,$C$2=2),(VLOOKUP($B32,'Rest of the UK Exports -Detail'!$A:$Q,H$6-2000,FALSE)),\"\"))","v":425},{"$f":"IF(AND($A32=TRUE,$C$2=1),(VLOOKUP($B32,'International Exports-Detailed'!$A:$Q,I$6-2000,FALSE)),IF(AND($A32=TRUE,$C$2=2),(VLOOKUP($B32,'Rest of the UK Exports -Detail'!$A:$Q,I$6-2000,FALSE)),\"\"))","v":535},{"$f":"IF(AND($A32=TRUE,$C$2=1),(VLOOKUP($B32,'International Exports-Detailed'!$A:$Q,J$6-2000,FALSE)),IF(AND($A32=TRUE,$C$2=2),(VLOOKUP($B32,'Rest of the UK Exports -Detail'!$A:$Q,J$6-2000,FALSE)),\"\"))","v":670},{"$f":"IF(AND($A32=TRUE,$C$2=1),(VLOOKUP($B32,'International Exports-Detailed'!$A:$Q,K$6-2000,FALSE)),IF(AND($A32=TRUE,$C$2=2),(VLOOKUP($B32,'Rest of the UK Exports -Detail'!$A:$Q,K$6-2000,FALSE)),\"\"))","v":775},{"$f":"IF(AND($A32=TRUE,$C$2=1),(VLOOKUP($B32,'International Exports-Detailed'!$A:$Q,L$6-2000,FALSE)),IF(AND($A32=TRUE,$C$2=2),(VLOOKUP($B32,'Rest of the UK Exports -Detail'!$A:$Q,L$6-2000,FALSE)),\"\"))","v":860},{"$f":"IF(AND($A32=TRUE,$C$2=1),(VLOOKUP($B32,'International Exports-Detailed'!$A:$Q,M$6-2000,FALSE)),IF(AND($A32=TRUE,$C$2=2),(VLOOKUP($B32,'Rest of the UK Exports -Detail'!$A:$Q,M$6-2000,FALSE)),\"\"))","v":865},{"$f":"IF(AND($A32=TRUE,$C$2=1),(VLOOKUP($B32,'International Exports-Detailed'!$A:$Q,N$6-2000,FALSE)),IF(AND($A32=TRUE,$C$2=2),(VLOOKUP($B32,'Rest of the UK Exports -Detail'!$A:$Q,N$6-2000,FALSE)),\"\"))","v":950},{"$f":"IF(AND($A32=TRUE,$C$2=1),(VLOOKUP($B32,'International Exports-Detailed'!$A:$Q,O$6-2000,FALSE)),IF(AND($A32=TRUE,$C$2=2),(VLOOKUP($B32,'Rest of the UK Exports -Detail'!$A:$Q,O$6-2000,FALSE)),\"\"))","v":970},{"$f":"IF(AND($A32=TRUE,$C$2=1),(VLOOKUP($B32,'International Exports-Detailed'!$A:$Q,P$6-2000,FALSE)),IF(AND($A32=TRUE,$C$2=2),(VLOOKUP($B32,'Rest of the UK Exports -Detail'!$A:$Q,P$6-2000,FALSE)),\"\"))","v":1065},{"$f":"IF(AND($A32=TRUE,$C$2=1),(VLOOKUP($B32,'International Exports-Detailed'!$A:$Q,Q$6-2000,FALSE)),IF(AND($A32=TRUE,$C$2=2),(VLOOKUP($B32,'Rest of the UK Exports -Detail'!$A:$Q,Q$6-2000,FALSE)),\"\"))","v":1105},{"$f":"IF(AND($A32=TRUE,$C$2=1),(VLOOKUP($B32,'International Exports-Detailed'!$A:$Q,R$6-2000,FALSE)),IF(AND($A32=TRUE,$C$2=2),(VLOOKUP($B32,'Rest of the UK Exports -Detail'!$A:$Q,R$6-2000,FALSE)),\"\"))","v":1155}]
[true,"Business Support Activities",{"$f":"IF(AND($A33=TRUE,$C$2=1),(VLOOKUP($B33,'International Exports-Detailed'!$A:$Q,C$6-2000,FALSE)),IF(AND($A33=TRUE,$C$2=2),(VLOOKUP($B33,'Rest of the UK Exports -Detail'!$A:$Q,C$6-2000,FALSE)),\"\"))","v":325},{"$f":"IF(AND($A33=TRUE,$C$2=1),(VLOOKUP($B33,'International Exports-Detailed'!$A:$Q,D$6-2000,FALSE)),IF(AND($A33=TRUE,$C$2=2),(VLOOKUP($B33,'Rest of the UK Exports -Detail'!$A:$Q,D$6-2000,FALSE)),\"\"))","v":285},{"$f":"IF(AND($A33=TRUE,$C$2=1),(VLOOKUP($B33,'International Exports-Detailed'!$A:$Q,E$6-2000,FALSE)),IF(AND($A33=TRUE,$C$2=2),(VLOOKUP($B33,'Rest of the UK Exports -Detail'!$A:$Q,E$6-2000,FALSE)),\"\"))","v":300},{"$f":"IF(AND($A33=TRUE,$C$2=1),(VLOOKUP($B33,'International Exports-Detailed'!$A:$Q,F$6-2000,FALSE)),IF(AND($A33=TRUE,$C$2=2),(VLOOKUP($B33,'Rest of the UK Exports -Detail'!$A:$Q,F$6-2000,FALSE)),\"\"))","v":355},{"$f":"IF(AND($A33=TRUE,$C$2=1),(VLOOKUP($B33,'International Exports-Detailed'!$A:$Q,G$6-2000,FALSE)),IF(AND($A33=TRUE,$C$2=2),(VLOOKUP($B33,'Rest of the UK Exports -Detail'!$A:$Q,G$6-2000,FALSE)),\"\"))","v":475},{"$f":"IF(AND($A33=TRUE,$C$2=1),(VLOOKUP($B33,'International Exports-Detailed'!$A:$Q,H$6-2000,FALSE)),IF(AND($A33=TRUE,$C$2=2),(VLOOKUP($B33,'Rest of the UK Exports -Detail'!$A:$Q,H$6-2000,FALSE)),\"\"))","v":575},{"$f":"IF(AND($A33=TRUE,$C$2=1),(VLOOKUP($B33,'International Exports-Detailed'!$A:$Q,I$6-2000,FALSE)),IF(AND($A33=TRUE,$C$2=2),(VLOOKUP($B33,'Rest of the UK Exports -Detail'!$A:$Q,I$6-2000,FALSE)),\"\"))","v":650},{"$f":"IF(AND($A33=TRUE,$C$2=1),(VLOOKUP($B33,'International Exports-Detailed'!$A:$Q,J$6-2000,FALSE)),IF(AND($A33=TRUE,$C$2=2),(VLOOKUP($B33,'Rest of the UK Exports -Detail'!$A:$Q,J$6-2000,FALSE)),\"\"))","v":645},{"$f":"IF(AND($A33=TRUE,$C$2=1),(VLOOKUP($B33,'International Exports-Detailed'!$A:$Q,K$6-2000,FALSE)),IF(AND($A33=TRUE,$C$2=2),(VLOOKUP($B33,'Rest of the UK Exports -Detail'!$A:$Q,K$6-2000,FALSE)),\"\"))","v":555},{"$f":"IF(AND($A33=TRUE,$C$2=1),(VLOOKUP($B33,'International Exports-Detailed'!$A:$Q,L$6-2000,FALSE)),IF(AND($A33=TRUE,$C$2=2),(VLOOKUP($B33,'Rest of the UK Exports -Detail'!$A:$Q,L$6-2000,FALSE)),\"\"))","v":565},{"$f":"IF(AND($A33=TRUE,$C$2=1),(VLOOKUP($B33,'International Exports-Detailed'!$A:$Q,M$6-2000,FALSE)),IF(AND($A33=TRUE,$C$2=2),(VLOOKUP($B33,'Rest of the UK Exports -Detail'!$A:$Q,M$6-2000,FALSE)),\"\"))","v":880},{"$f":"IF(AND($A33=TRUE,$C$2=1),(VLOOKUP($B33,'International Exports-Detailed'!$A:$Q,N$6-2000,FALSE)),IF(AND($A33=TRUE,$C$2=2),(VLOOKUP($B33,'Rest of the UK Exports -Detail'!$A:$Q,N$6-2000,FALSE)),\"\"))","v":985},{"$f":"IF(AND($A33=TRUE,$C$2=1),(VLOOKUP($B33,'International Exports-Detailed'!$A:$Q,O$6-2000,FALSE)),IF(AND($A33=TRUE,$C$2=2),(VLOOKUP($B33,'Rest of the UK Exports -Detail'!$A:$Q,O$6-2000,FALSE)),\"\"))","v":1155},{"$f":"IF(AND($A33=TRUE,$C$2=1),(VLOOKUP($B33,'International Exports-Detailed'!$A:$Q,P$6-2000,FALSE)),IF(AND($A33=TRUE,$C$2=2),(VLOOKUP($B33,'Rest of the UK Exports -Detail'!$A:$Q,P$6-2000,FALSE)),\"\"))","v":780},{"$f":"IF(AND($A33=TRUE,$C$2=1),(VLOOKUP($B33,'International Exports-Detailed'!$A:$Q,Q$6-2000,FALSE)),IF(AND($A33=TRUE,$C$2=2),(VLOOKUP($B33,'Rest of the UK Exports -Detail'!$A:$Q,Q$6-2000,FALSE)),\"\"))","v":705},{"$f":"IF(AND($A33=TRUE,$C$2=1),(VLOOKUP($B33,'International Exports-Detailed'!$A:$Q,R$6-2000,FALSE)),IF(AND($A33=TRUE,$C$2=2),(VLOOKUP($B33,'Rest of the UK Exports -Detail'!$A:$Q,R$6-2000,FALSE)),\"\"))","v":680}]
[true,"Management Consultancy",{"$f":"IF(AND($A34=TRUE,$C$2=1),(VLOOKUP($B34,'International Exports-Detailed'!$A:$Q,C$6-2000,FALSE)),IF(AND($A34=TRUE,$C$2=2),(VLOOKUP($B34,'Rest of the UK Exports -Detail'!$A:$Q,C$6-2000,FALSE)),\"\"))","v":375},{"$f":"IF(AND($A34=TRUE,$C$2=1),(VLOOKUP($B34,'International Exports-Detailed'!$A:$Q,D$6-2000,FALSE)),IF(AND($A34=TRUE,$C$2=2),(VLOOKUP($B34,'Rest of the UK Exports -Detail'!$A:$Q,D$6-2000,FALSE)),\"\"))","v":255},{"$f":"IF(AND($A34=TRUE,$C$2=1),(VLOOKUP($B34,'International Exports-Detailed'!$A:$Q,E$6-2000,FALSE)),IF(AND($A34=TRUE,$C$2=2),(VLOOKUP($B34,'Rest of the UK Exports -Detail'!$A:$Q,E$6-2000,FALSE)),\"\"))","v":235},{"$f":"IF(AND($A34=TRUE,$C$2=1),(VLOOKUP($B34,'International Exports-Detailed'!$A:$Q,F$6-2000,FALSE)),IF(AND($A34=TRUE,$C$2=2),(VLOOKUP($B34,'Rest of the UK Exports -Detail'!$A:$Q,F$6-2000,FALSE)),\"\"))","v":240},{"$f":"IF(AND($A34=TRUE,$C$2=1),(VLOOKUP($B34,'International Exports-Detailed'!$A:$Q,G$6-2000,FALSE)),IF(AND($A34=TRUE,$C$2=2),(VLOOKUP($B34,'Rest of the UK Exports -Detail'!$A:$Q,G$6-2000,FALSE)),\"\"))","v":275},{"$f":"IF(AND($A34=TRUE,$C$2=1),(VLOOKUP($B34,'International Exports-Detailed'!$A:$Q,H$6-2000,FALSE)),IF(AND($A34=TRUE,$C$2=2),(VLOOKUP($B34,'Rest of the UK Exports -Detail'!$A:$Q,H$6-2000,FALSE)),\"\"))","v":290},{"$f":"IF(AND($A34=TRUE,$C$2=1),(VLOOKUP($B34,'International Exports-Detailed'!$A:$Q,I$6-2000,FALSE)),IF(AND($A34=TRUE,$C$2=2),(VLOOKUP($B34,'Rest of the UK Exports -Detail'!$A:$Q,I$6-2000,FALSE)),\"\"))","v":340},{"$f":"IF(AND($A34=TRUE,$C$2=1),(VLOOKUP($B34,'International Exports-Detailed'!$A:$Q,J$6-2000,FALSE)),IF(AND($A34=TRUE,$C$2=2),(VLOOKUP($B34,'Rest of the UK Exports -Detail'!$A:$Q,J$6-2000,FALSE)),\"\"))","v":440},{"$f":"IF(AND($A34=TRUE,$C$2=1),(VLOOKUP($B34,'International Exports-Detailed'!$A:$Q,K$6-2000,FALSE)),IF(AND($A34=TRUE,$C$2=2),(VLOOKUP($B34,'Rest of the UK Exports -Detail'!$A:$Q,K$6-2000,FALSE)),\"\"))","v":380},{"$f":"IF(AND($A34=TRUE,$C$2=1),(VLOOKUP($B34,'International Exports-Detailed'!$A:$Q,L$6-2000,FALSE)),IF(AND($A34=TRUE,$C$2=2),(VLOOKUP($B34,'Rest of the UK Exports -Detail'!$A:$Q,L$6-2000,FALSE)),\"\"))","v":565},{"$f":"IF(AND($A34=TRUE,$C$2=1),(VLOOKUP($B34,'International Exports-Detailed'!$A:$Q,M$6-2000,FALSE)),IF(AND($A34=TRUE,$C$2=2),(VLOOKUP($B34,'Rest of the UK Exports -Detail'!$A:$Q,M$6-2000,FALSE)),\"\"))","v":485},{"$f":"IF(AND($A34=TRUE,$C$2=1),(VLOOKUP($B34,'International Exports-Detailed'!$A:$Q,N$6-2000,FALSE)),IF(AND($A34=TRUE,$C$2=2),(VLOOKUP($B34,'Rest of the UK Exports -Detail'!$A:$Q,N$6-2000,FALSE)),\"\"))","v":495},{"$f":"IF(AND($A34=TRUE,$C$2=1),(VLOOKUP($B34,'International Exports-Detailed'!$A:$Q,O$6-2000,FALSE)),IF(AND($A34=TRUE,$C$2=2),(VLOOKUP($B34,'Rest of the UK Exports -Detail'!$A:$Q,O$6-2000,FALSE)),\"\"))","v":560},{"$f":"IF(AND($A34=TRUE,$C$2=1),(VLOOKUP($B34,'International Exports-Detailed'!$A:$Q,P$6-2000,FALSE)),IF(AND($A34=TRUE,$C$2=2),(VLOOKUP($B34,'Rest of the UK Exports -Detail'!$A:$Q,P$6-2000,FALSE)),\"\"))","v":685},{"$f":"IF(AND($A34=TRUE,$C$2=1),(VLOOKUP($B34,'International Exports-Detailed'!$A:$Q,Q$6-2000,FALSE)),IF(AND($A34=TRUE,$C$2=2),(VLOOKUP($B34,'Rest of the UK Exports -Detail'!$A:$Q,Q$6-2000,FALSE)),\"\"))","v":775},{"$f":"IF(AND($A34=TRUE,$C$2=1),(VLOOKUP($B34,'International Exports-Detailed'!$A:$Q,R$6-2000,FALSE)),IF(AND($A34=TRUE,$C$2=2),(VLOOKUP($B34,'Rest of the UK Exports -Detail'!$A:$Q,R$6-2000,FALSE)),\"\"))","v":680}]
[true,"Financial Service Activities",{"$f":"IF(AND($A35=TRUE,$C$2=1),(VLOOKUP($B35,'International Exports-Detailed'!$A:$Q,C$6-2000,FALSE)),IF(AND($A35=TRUE,$C$2=2),(VLOOKUP($B35,'Rest of the UK Exports -Detail'!$A:$Q,C$6-2000,FALSE)),\"\"))","v":460},{"$f":"IF(AND($A35=TRUE,$C$2=1),(VLOOKUP($B35,'International Exports-Detailed'!$A:$Q,D$6-2000,FALSE)),IF(AND($A35=TRUE,$C$2=2),(VLOOKUP($B35,'Rest of the UK Exports -Detail'!$A:$Q,D$6-2000,FALSE)),\"\"))","v":410},{"$f":"IF(AND($A35=TRUE,$C$2=1),(VLOOKUP($B35,'International Exports-Detailed'!$A:$Q,E$6-2000,FALSE)),IF(AND($A35=TRUE,$C$2=2),(VLOOKUP($B35,'Rest of the UK Exports -Detail'!$A:$Q,E$6-2000,FALSE)),\"\"))","v":710},{"$f":"IF(AND($A35=TRUE,$C$2=1),(VLOOKUP($B35,'International Exports-Detailed'!$A:$Q,F$6-2000,FALSE)),IF(AND($A35=TRUE,$C$2=2),(VLOOKUP($B35,'Rest of the UK Exports -Detail'!$A:$Q,F$6-2000,FALSE)),\"\"))","v":745},{"$f":"IF(AND($A35=TRUE,$C$2=1),(VLOOKUP($B35,'International Exports-Detailed'!$A:$Q,G$6-2000,FALSE)),IF(AND($A35=TRUE,$C$2=2),(VLOOKUP($B35,'Rest of the UK Exports -Detail'!$A:$Q,G$6-2000,FALSE)),\"\"))","v":745},{"$f":"IF(AND($A35=TRUE,$C$2=1),(VLOOKUP($B35,'International Exports-Detailed'!$A:$Q,H$6-2000,FALSE)),IF(AND($A35=TRUE,$C$2=2),(VLOOKUP($B35,'Rest of the UK Exports -Detail'!$A:$Q,H$6-2000,FALSE)),\"\"))","v":190},{"$f":"IF(AND($A35=TRUE,$C$2=1),(VLOOKUP($B35,'International Exports-Detailed'!$A:$Q,I$6-2000,FALSE)),IF(AND($A35=TRUE,$C$2=2),(VLOOKUP($B35,'Rest of the UK Exports -Detail'!$A:$Q,I$6-2000,FALSE)),\"\"))","v":210},{"$f":"IF(AND($A35=TRUE,$C$2=1),(VLOOKUP($B35,'International Exports-Detailed'!$A:$Q,J$6-2000,FALSE)),IF(AND($A35=TRUE,$C$2=2),(VLOOKUP($B35,'Rest of the UK Exports -Detail'!$A:$Q,J$6-2000,FALSE)),\"\"))","v":610},{"$f":"IF(AND($A35=TRUE,$C$2=1),(VLOOKUP($B35,'International Exports-Detailed'!$A:$Q,K$6-2000,FALSE)),IF(AND($A35=TRUE,$C$2=2),(VLOOKUP($B35,'Rest of the UK Exports -Detail'!$A:$Q,K$6-2000,FALSE)),\"\"))","v":685},{"$f":"IF(AND($A35=TRUE,$C$2=1),(VLOOKUP($B35,'International Exports-Detailed'!$A:$Q,L$6-2000,FALSE)),IF(AND($A35=TRUE,$C$2=2),(VLOOKUP($B35,'Rest of the UK Exports -Detail'!$A:$Q,L$6-2000,FALSE)),\"\"))","v":765},{"$f":"IF(AND($A35=TRUE,$C$2=1),(VLOOKUP($B35,'International Exports-Detailed'!$A:$Q,M$6-2000,FALSE)),IF(AND($A35=TRUE,$C$2=2),(VLOOKUP($B35,'Rest of the UK Exports -Detail'!$A:$Q,M$6-2000,FALSE)),\"\"))","v":505},{"$f":"IF(AND($A35=TRUE,$C$2=1),(VLOOKUP($B35,'International Exports-Detailed'!$A:$Q,N$6-2000,FALSE)),IF(AND($A35=TRUE,$C$2=2),(VLOOKUP($B35,'Rest of the UK Exports -Detail'!$A:$Q,N$6-2000,FALSE)),\"\"))","v":505},{"$f":"IF(AND($A35=TRUE,$C$2=1),(VLOOKUP($B35,'International Exports-Detailed'!$A:$Q,O$6-2000,FALSE)),IF(AND($A35=TRUE,$C$2=2),(VLOOKUP($B35,'Rest of the UK Exports -Detail'!$A:$Q,O$6-2000,FALSE)),\"\"))","v":385},{"$f":"IF(AND($A35=TRUE,$C$2=1),(VLOOKUP($B35,'International Exports-Detailed'!$A:$Q,P$6-2000,FALSE)),IF(AND($A35=TRUE,$C$2=2),(VLOOKUP($B35,'Rest of the UK Exports -Detail'!$A:$Q,P$6-2000,FALSE)),\"\"))","v":415},{"$f":"IF(AND($A35=TRUE,$C$2=1),(VLOOKUP($B35,'International Exports-Detailed'!$A:$Q,Q$6-2000,FALSE)),IF(AND($A35=TRUE,$C$2=2),(VLOOKUP($B35,'Rest of the UK Exports -Detail'!$A:$Q,Q$6-2000,FALSE)),\"\"))","v":500},{"$f":"IF(AND($A35=TRUE,$C$2=1),(VLOOKUP($B35,'International Exports-Detailed'!$A:$Q,R$6-2000,FALSE)),IF(AND($A35=TRUE,$C$2=2),(VLOOKUP($B35,'Rest of the UK Exports -Detail'!$A:$Q,R$6-2000,FALSE)),\"\"))","v":590}]
[true,"Legal and Accounting",{"$f":"IF(AND($A36=TRUE,$C$2=1),(VLOOKUP($B36,'International Exports-Detailed'!$A:$Q,C$6-2000,FALSE)),IF(AND($A36=TRUE,$C$2=2),(VLOOKUP($B36,'Rest of the UK Exports -Detail'!$A:$Q,C$6-2000,FALSE)),\"\"))","v":65},{"$f":"IF(AND($A36=TRUE,$C$2=1),(VLOOKUP($B36,'International Exports-Detailed'!$A:$Q,D$6-2000,FALSE)),IF(AND($A36=TRUE,$C$2=2),(VLOOKUP($B36,'Rest of the UK Exports -Detail'!$A:$Q,D$6-2000,FALSE)),\"\"))","v":60},{"$f":"IF(AND($A36=TRUE,$C$2=1),(VLOOKUP($B36,'International Exports-Detailed'!$A:$Q,E$6-2000,FALSE)),IF(AND($A36=TRUE,$C$2=2),(VLOOKUP($B36,'Rest of the UK Exports -Detail'!$A:$Q,E$6-2000,FALSE)),\"\"))","v":70},{"$f":"IF(AND($A36=TRUE,$C$2=1),(VLOOKUP($B36,'International Exports-Detailed'!$A:$Q,F$6-2000,FALSE)),IF(AND($A36=TRUE,$C$2=2),(VLOOKUP($B36,'Rest of the UK Exports -Detail'!$A:$Q,F$6-2000,FALSE)),\"\"))","v":75},{"$f":"IF(AND($A36=TRUE,$C$2=1),(VLOOKUP($B36,'International Exports-Detailed'!$A:$Q,G$6-2000,FALSE)),IF(AND($A36=TRUE,$C$2=2),(VLOOKUP($B36,'Rest of the UK Exports -Detail'!$A:$Q,G$6-2000,FALSE)),\"\"))","v":80},{"$f":"IF(AND($A36=TRUE,$C$2=1),(VLOOKUP($B36,'International Exports-Detailed'!$A:$Q,H$6-2000,FALSE)),IF(AND($A36=TRUE,$C$2=2),(VLOOKUP($B36,'Rest of the UK Exports -Detail'!$A:$Q,H$6-2000,FALSE)),\"\"))","v":80},{"$f":"IF(AND($A36=TRUE,$C$2=1),(VLOOKUP($B36,'International Exports-Detailed'!$A:$Q,I$6-2000,FALSE)),IF(AND($A36=TRUE,$C$2=2),(VLOOKUP($B36,'Rest of the UK Exports -Detail'!$A:$Q,I$6-2000,FALSE)),\"\"))","v":95},{"$f":"IF(AND($A36=TRUE,$C$2=1),(VLOOKUP($B36,'International Exports-Detailed'!$A:$Q,J$6-2000,FALSE)),IF(AND($A36=TRUE,$C$2=2),(VLOOKUP($B36,'Rest of the UK Exports -Detail'!$A:$Q,J$6-2000,FALSE)),\"\"))","v":85},{"$f":"IF(AND($A36=TRUE,$C$2=1),(VLOOKUP($B36,'International Exports-Detailed'!$A:$Q,K$6-2000,FALSE)),IF(AND($A36=TRUE,$C$2=2),(VLOOKUP($B36,'Rest of the UK Exports -Detail'!$A:$Q,K$6-2000,FALSE)),\"\"))","v":100},{"$f":"IF(AND($A36=TRUE,$C$2=1),(VLOOKUP($B36,'International Exports-Detailed'!$A:$Q,L$6-2000,FALSE)),IF(AND($A36=TRUE,$C$2=2),(VLOOKUP($B36,'Rest of the UK Exports -Detail'!$A:$Q,L$6-2000,FALSE)),\"\"))","v":140},{"$f":"IF(AND($A36=TRUE,$C$2=1),(VLOOKUP($B36,'International Exports-Detailed'!$A:$Q,M$6-2000,FALSE)),IF(AND($A36=TRUE,$C$2=2),(VLOOKUP($B36,'Rest of the UK Exports -Detail'!$A:$Q,M$6-2000,FALSE)),\"\"))","v":125},{"$f":"IF(AND($A36=TRUE,$C$2=1),(VLOOKUP($B36,'International Exports-Detailed'!$A:$Q,N$6-2000,FALSE)),IF(AND($A36=TRUE,$C$2=2),(VLOOKUP($B36,'Rest of the UK Exports -Detail'!$A:$Q,N$6-2000,FALSE)),\"\"))","v":145},{"$f":"IF(AND($A36=TRUE,$C$2=1),(VLOOKUP($B36,'International Exports-Detailed'!$A:$Q,O$6-2000,FALSE)),IF(AND($A36=TRUE,$C$2=2),(VLOOKUP($B36,'Rest of the UK Exports -Detail'!$A:$Q,O$6-2000,FALSE)),\"\"))","v":150},{"$f":"IF(AND($A36=TRUE,$C$2=1),(VLOOKUP($B36,'International Exports-Detailed'!$A:$Q,P$6-2000,FALSE)),IF(AND($A36=TRUE,$C$2=2),(VLOOKUP($B36,'Rest of the UK Exports -Detail'!$A:$Q,P$6-2000,FALSE)),\"\"))","v":175},{"$f":"IF(AND($A36=TRUE,$C$2=1),(VLOOKUP($B36,'International Exports-Detailed'!$A:$Q,Q$6-2000,FALSE)),IF(AND($A36=TRUE,$C$2=2),(VLOOKUP($B36,'Rest of the UK Exports -Detail'!$A:$Q,Q$6-2000,FALSE)),\"\"))","v":195},{"$f":"IF(AND($A36=TRUE,$C$2=1),(VLOOKUP($B36,'International Exports-Detailed'!$A:$Q,R$6-2000,FALSE)),IF(AND($A36=TRUE,$C$2=2),(VLOOKUP($B36,'Rest of the UK Exports -Detail'!$A:$Q,R$6-2000,FALSE)),\"\"))","v":240}]
[true,"Insurance and Pensions",{"$f":"IF(AND($A37=TRUE,$C$2=1),(VLOOKUP($B37,'International Exports-Detailed'!$A:$Q,C$6-2000,FALSE)),IF(AND($A37=TRUE,$C$2=2),(VLOOKUP($B37,'Rest of the UK Exports -Detail'!$A:$Q,C$6-2000,FALSE)),\"\"))","v":5},{"$f":"IF(AND($A37=TRUE,$C$2=1),(VLOOKUP($B37,'International Exports-Detailed'!$A:$Q,D$6-2000,FALSE)),IF(AND($A37=TRUE,$C$2=2),(VLOOKUP($B37,'Rest of the UK Exports -Detail'!$A:$Q,D$6-2000,FALSE)),\"\"))","v":40},{"$f":"IF(AND($A37=TRUE,$C$2=1),(VLOOKUP($B37,'International Exports-Detailed'!$A:$Q,E$6-2000,FALSE)),IF(AND($A37=TRUE,$C$2=2),(VLOOKUP($B37,'Rest of the UK Exports -Detail'!$A:$Q,E$6-2000,FALSE)),\"\"))","v":30},{"$f":"IF(AND($A37=TRUE,$C$2=1),(VLOOKUP($B37,'International Exports-Detailed'!$A:$Q,F$6-2000,FALSE)),IF(AND($A37=TRUE,$C$2=2),(VLOOKUP($B37,'Rest of the UK Exports -Detail'!$A:$Q,F$6-2000,FALSE)),\"\"))","v":25},{"$f":"IF(AND($A37=TRUE,$C$2=1),(VLOOKUP($B37,'International Exports-Detailed'!$A:$Q,G$6-2000,FALSE)),IF(AND($A37=TRUE,$C$2=2),(VLOOKUP($B37,'Rest of the UK Exports -Detail'!$A:$Q,G$6-2000,FALSE)),\"\"))","v":35},{"$f":"IF(AND($A37=TRUE,$C$2=1),(VLOOKUP($B37,'International Exports-Detailed'!$A:$Q,H$6-2000,FALSE)),IF(AND($A37=TRUE,$C$2=2),(VLOOKUP($B37,'Rest of the UK Exports -Detail'!$A:$Q,H$6-2000,FALSE)),\"\"))","v":35},{"$f":"IF(AND($A37=TRUE,$C$2=1),(VLOOKUP($B37,'International Exports-Detailed'!$A:$Q,I$6-2000,FALSE)),IF(AND($A37=TRUE,$C$2=2),(VLOOKUP($B37,'Rest of the UK Exports -Detail'!$A:$Q,I$6-2000,FALSE)),\"\"))","v":5},{"$f":"IF(AND($A37=TRUE,$C$2=1),(VLOOKUP($B37,'International Exports-Detailed'!$A:$Q,J$6-2000,FALSE)),IF(AND($A37=TRUE,$C$2=2),(VLOOKUP($B37,'Rest of the UK Exports -Detail'!$A:$Q,J$6-2000,FALSE)),\"\"))","v":15},{"$f":"IF(AND($A37=TRUE,$C$2=1),(VLOOKUP($B37,'International Exports-Detailed'!$A:$Q,K$6-2000,FALSE)),IF(AND($A37=TRUE,$C$2=2),(VLOOKUP($B37,'Rest of the UK Exports -Detail'!$A:$Q,K$6-2000,FALSE)),\"\"))","v":20},{"$f":"IF(AND($A37=TRUE,$C$2=1),(VLOOKUP($B37,'International Exports-Detailed'!$A:$Q,L$6-2000,FALSE)),IF(AND($A37=TRUE,$C$2=2),(VLOOKUP($B37,'Rest of the UK Exports -Detail'!$A:$Q,L$6-2000,FALSE)),\"\"))","v":20},{"$f":"IF(AND($A37=TRUE,$C$2=1),(VLOOKUP($B37,'International Exports-Detailed'!$A:$Q,M$6-2000,FALSE)),IF(AND($A37=TRUE,$C$2=2),(VLOOKUP($B37,'Rest of the UK Exports -Detail'!$A:$Q,M$6-2000,FALSE)),\"\"))","v":15},{"$f":"IF(AND($A37=TRUE,$C$2=1),(VLOOKUP($B37,'International Exports-Detailed'!$A:$Q,N$6-2000,FALSE)),IF(AND($A37=TRUE,$C$2=2),(VLOOKUP($B37,'Rest of the UK Exports -Detail'!$A:$Q,N$6-2000,FALSE)),\"\"))","v":15},{"$f":"IF(AND($A37=TRUE,$C$2=1),(VLOOKUP($B37,'International Exports-Detailed'!$A:$Q,O$6-2000,FALSE)),IF(AND($A37=TRUE,$C$2=2),(VLOOKUP($B37,'Rest of the UK Exports -Detail'!$A:$Q,O$6-2000,FALSE)),\"\"))","v":15},{"$f":"IF(AND($A37=TRUE,$C$2=1),(VLOOKUP($B37,'International Exports-Detailed'!$A:$Q,P$6-2000,FALSE)),IF(AND($A37=TRUE,$C$2=2),(VLOOKUP($B37,'Rest of the UK Exports -Detail'!$A:$Q,P$6-2000,FALSE)),\"\"))","v":10},{"$f":"IF(AND($A37=TRUE,$C$2=1),(VLOOKUP($B37,'International Exports-Detailed'!$A:$Q,Q$6-2000,FALSE)),IF(AND($A37=TRUE,$C$2=2),(VLOOKUP($B37,'Rest of the UK Exports -Detail'!$A:$Q,Q$6-2000,FALSE)),\"\"))","v":10},{"$f":"IF(AND($A37=TRUE,$C$2=1),(VLOOKUP($B37,'International Exports-Detailed'!$A:$Q,R$6-2000,FALSE)),IF(AND($A37=TRUE,$C$2=2),(VLOOKUP($B37,'Rest of the UK Exports -Detail'!$A:$Q,R$6-2000,FALSE)),\"\"))","v":10}]
[]
[]
[null,"Chemical Sciences Chart"]
["Chart control",null,2002,2003,2004,2005,2006,2007,2008,2009,2010,2011,2012,2013,2014,2015,2016,2017]
[true,"Chemical Sciences",{"$f":"IF(AND($A42=TRUE,$C$2=1),(VLOOKUP($B42,'International Exports-Detailed'!$A:$Q,C$6-2000,FALSE)),IF(AND($A42=TRUE,$C$2=2),(VLOOKUP($B42,'Rest of the UK Exports -Detail'!$A:$Q,C$6-2000,FALSE)),\"\"))","v":1950},{"$f":"IF(AND($A42=TRUE,$C$2=1),(VLOOKUP($B42,'International Exports-Detailed'!$A:$Q,D$6-2000,FALSE)),IF(AND($A42=TRUE,$C$2=2),(VLOOKUP($B42,'Rest of the UK Exports -Detail'!$A:$Q,D$6-2000,FALSE)),\"\"))","v":1985},{"$f":"IF(AND($A42=TRUE,$C$2=1),(VLOOKUP($B42,'International Exports-Detailed'!$A:$Q,E$6-2000,FALSE)),IF(AND($A42=TRUE,$C$2=2),(VLOOKUP($B42,'Rest of the UK Exports -Detail'!$A:$Q,E$6-2000,FALSE)),\"\"))","v":2045},{"$f":"IF(AND($A42=TRUE,$C$2=1),(VLOOKUP($B42,'International Exports-Detailed'!$A:$Q,F$6-2000,FALSE)),IF(AND($A42=TRUE,$C$2=2),(VLOOKUP($B42,'Rest of the UK Exports -Detail'!$A:$Q,F$6-2000,FALSE)),\"\"))","v":2155},{"$f":"IF(AND($A42=TRUE,$C$2=1),(VLOOKUP($B42,'International Exports-Detailed'!$A:$Q,G$6-2000,FALSE)),IF(AND($A42=TRUE,$C$2=2),(VLOOKUP($B42,'Rest of the UK Exports -Detail'!$A:$Q,G$6-2000,FALSE)),\"\"))","v":2310},{"$f":"IF(AND($A42=TRUE,$C$2=1),(VLOOKUP($B42,'International Exports-Detailed'!$A:$Q,H$6-2000,FALSE)),IF(AND($A42=TRUE,$C$2=2),(VLOOKUP($B42,'Rest of the UK Exports -Detail'!$A:$Q,H$6-2000,FALSE)),\"\"))","v":2510},{"$f":"IF(AND($A42=TRUE,$C$2=1),(VLOOKUP($B42,'International Exports-Detailed'!$A:$Q,I$6-2000,FALSE)),IF(AND($A42=TRUE,$C$2=2),(VLOOKUP($B42,'Rest of the UK Exports -Detail'!$A:$Q,I$6-2000,FALSE)),\"\"))","v":2990},{"$f":"IF(AND($A42=TRUE,$C$2=1),(VLOOKUP($B42,'International Exports-Detailed'!$A:$Q,J$6-2000,FALSE)),IF(AND($A42=TRUE,$C$2=2),(VLOOKUP($B42,'Rest of the UK Exports -Detail'!$A:$Q,J$6-2000,FALSE)),\"\"))","v":2320},{"$f":"IF(AND($A42=TRUE,$C$2=1),(VLOOKUP($B42,'International Exports-Detailed'!$A:$Q,K$6-2000,FALSE)),IF(AND($A42=TRUE,$C$2=2),(VLOOKUP($B42,'Rest of the UK Exports -Detail'!$A:$Q,K$6-2000,FALSE)),\"\"))","v":2550},{"$f":"IF(AND($A42=TRUE,$C$2=1),(VLOOKUP($B42,'International Exports-Detailed'!$A:$Q,L$6-2000,FALSE)),IF(AND($A42=TRUE,$C$2=2),(VLOOKUP($B42,'Rest of the UK Exports -Detail'!$A:$Q,L$6-2000,FALSE)),\"\"))","v":3345},{"$f":"IF(AND($A42=TRUE,$C$2=1),(VLOOKUP($B42,'International Exports-Detailed'!$A:$Q,M$6-2000,FALSE)),IF(AND($A42=TRUE,$C$2=2),(VLOOKUP($B42,'Rest of the UK Exports -Detail'!$A:$Q,M$6-2000,FALSE)),\"\"))","v":2825},{"$f":"IF(AND($A42=TRUE,$C$2=1),(VLOOKUP($B42,'International Exports-Detailed'!$A:$Q,N$6-2000,FALSE)),IF(AND($A42=TRUE,$C$2=2),(VLOOKUP($B42,'Rest of the UK Exports -Detail'!$A:$Q,N$6-2000,FALSE)),\"\"))","v":2755},{"$f":"IF(AND($A42=TRUE,$C$2=1),(VLOOKUP($B42,'International Exports-Detailed'!$A:$Q,O$6-2000,FALSE)),IF(AND($A42=TRUE,$C$2=2),(VLOOKUP($B42,'Rest of the UK Exports -Detail'!$A:$Q,O$6-2000,FALSE)),\"\"))","v":2130},{"$f":"IF(AND($A42=TRUE,$C$2=1),(VLOOKUP($B42,'International Exports-Detailed'!$A:$Q,P$6-2000,FALSE)),IF(AND($A42=TRUE,$C$2=2),(VLOOKUP($B42,'Rest of the UK Exports -Detail'!$A:$Q,P$6-2000,FALSE)),\"\"))","v":2580},{"$f":"IF(AND($A42=TRUE,$C$2=1),(VLOOKUP($B42,'International Exports-Detailed'!$A:$Q,Q$6-2000,FALSE)),IF(AND($A42=TRUE,$C$2=2),(VLOOKUP($B42,'Rest of the UK Exports -Detail'!$A:$Q,Q$6-2000,FALSE)),\"\"))","v":2345},{"$f":"IF(AND($A42=TRUE,$C$2=1),(VLOOKUP($B42,'International Exports-Detailed'!$A:$Q,R$6-2000,FALSE)),IF(AND($A42=TRUE,$C$2=2),(VLOOKUP($B42,'Rest of the UK Exports -Detail'!$A:$Q,R$6-2000,FALSE)),\"\"))","v":3160}]
[]
[]
[]
[null,"Digital Economy Chart"]
["Chart control",null,2002,2003,2004,2005,2006,2007,2008,2009,2010,2011,2012,2013,2014,2015,2016,2017]
[true,"Technology, Digital and Media",{"$f":"IF(AND($A48=TRUE,$C$2=1),(VLOOKUP($B48,'International Exports-Detailed'!$A:$Q,C$6-2000,FALSE)),IF(AND($A48=TRUE,$C$2=2),(VLOOKUP($B48,'Rest of the UK Exports -Detail'!$A:$Q,C$6-2000,FALSE)),\"\"))","v":5920},{"$f":"IF(AND($A48=TRUE,$C$2=1),(VLOOKUP($B48,'International Exports-Detailed'!$A:$Q,D$6-2000,FALSE)),IF(AND($A48=TRUE,$C$2=2),(VLOOKUP($B48,'Rest of the UK Exports -Detail'!$A:$Q,D$6-2000,FALSE)),\"\"))","v":4690},{"$f":"IF(AND($A48=TRUE,$C$2=1),(VLOOKUP($B48,'International Exports-Detailed'!$A:$Q,E$6-2000,FALSE)),IF(AND($A48=TRUE,$C$2=2),(VLOOKUP($B48,'Rest of the UK Exports -Detail'!$A:$Q,E$6-2000,FALSE)),\"\"))","v":3705},{"$f":"IF(AND($A48=TRUE,$C$2=1),(VLOOKUP($B48,'International Exports-Detailed'!$A:$Q,F$6-2000,FALSE)),IF(AND($A48=TRUE,$C$2=2),(VLOOKUP($B48,'Rest of the UK Exports -Detail'!$A:$Q,F$6-2000,FALSE)),\"\"))","v":2715},{"$f":"IF(AND($A48=TRUE,$C$2=1),(VLOOKUP($B48,'International Exports-Detailed'!$A:$Q,G$6-2000,FALSE)),IF(AND($A48=TRUE,$C$2=2),(VLOOKUP($B48,'Rest of the UK Exports -Detail'!$A:$Q,G$6-2000,FALSE)),\"\"))","v":2460},{"$f":"IF(AND($A48=TRUE,$C$2=1),(VLOOKUP($B48,'International Exports-Detailed'!$A:$Q,H$6-2000,FALSE)),IF(AND($A48=TRUE,$C$2=2),(VLOOKUP($B48,'Rest of the UK Exports -Detail'!$A:$Q,H$6-2000,FALSE)),\"\"))","v":2200},{"$f":"IF(AND($A48=TRUE,$C$2=1),(VLOOKUP($B48,'International Exports-Detailed'!$A:$Q,I$6-2000,FALSE)),IF(AND($A48=TRUE,$C$2=2),(VLOOKUP($B48,'Rest of the UK Exports -Detail'!$A:$Q,I$6-2000,FALSE)),\"\"))","v":2270},{"$f":"IF(AND($A48=TRUE,$C$2=1),(VLOOKUP($B48,'International Exports-Detailed'!$A:$Q,J$6-2000,FALSE)),IF(AND($A48=TRUE,$C$2=2),(VLOOKUP($B48,'Rest of the UK Exports -Detail'!$A:$Q,J$6-2000,FALSE)),\"\"))","v":2190},{"$f":"IF(AND($A48=TRUE,$C$2=1),(VLOOKUP($B48,'International Exports-Detailed'!$A:$Q,K$6-2000,FALSE)),IF(AND($A48=TRUE,$C$2=2),(VLOOKUP($B48,'Rest of the UK Exports -Detail'!$A:$Q,K$6-2000,FALSE)),\"\"))","v":2180},{"$f":"IF(AND($A48=TRUE,$C$2=1),(VLOOKUP($B48,'International Exports-Detailed'!$A:$Q,L$6-2000,FALSE)),IF(AND($A48=TRUE,$C$2=2),(VLOOKUP($B48,'Rest of the UK Exports -Detail'!$A:$Q,L$6-2000,FALSE)),\"\"))","v":2185},{"$f":"IF(AND($A48=TRUE,$C$2=1),(VLOOKUP($B48,'International Exports-Detailed'!$A:$Q,M$6-2000,FALSE)),IF(AND($A48=TRUE,$C$2=2),(VLOOKUP($B48,'Rest of the UK Exports -Detail'!$A:$Q,M$6-2000,FALSE)),\"\"))","v":2170},{"$f":"IF(AND($A48=TRUE,$C$2=1),(VLOOKUP($B48,'International Exports-Detailed'!$A:$Q,N$6-2000,FALSE)),IF(AND($A48=TRUE,$C$2=2),(VLOOKUP($B48,'Rest of the UK Exports -Detail'!$A:$Q,N$6-2000,FALSE)),\"\"))","v":2400},{"$f":"IF(AND($A48=TRUE,$C$2=1),(VLOOKUP($B48,'International Exports-Detailed'!$A:$Q,O$6-2000,FALSE)),IF(AND($A48=TRUE,$C$2=2),(VLOOKUP($B48,'Rest of the UK Exports -Detail'!$A:$Q,O$6-2000,FALSE)),\"\"))","v":2055},{"$f":"IF(AND($A48=TRUE,$C$2=1),(VLOOKUP($B48,'International Exports-Detailed'!$A:$Q,P$6-2000,FALSE)),IF(AND($A48=TRUE,$C$2=2),(VLOOKUP($B48,'Rest of the UK Exports -Detail'!$A:$Q,P$6-2000,FALSE)),\"\"))","v":2530},{"$f":"IF(AND($A48=TRUE,$C$2=1),(VLOOKUP($B48,'International Exports-Detailed'!$A:$Q,Q$6-2000,FALSE)),IF(AND($A48=TRUE,$C$2=2),(VLOOKUP($B48,'Rest of the UK Exports -Detail'!$A:$Q,Q$6-2000,FALSE)),\"\"))","v":2415},{"$f":"IF(AND($A48=TRUE,$C$2=1),(VLOOKUP($B48,'International Exports-Detailed'!$A:$Q,R$6-2000,FALSE)),IF(AND($A48=TRUE,$C$2=2),(VLOOKUP($B48,'Rest of the UK Exports -Detail'!$A:$Q,R$6-2000,FALSE)),\"\"))","v":3345}]
[true,"Manufacture of Computer, Electronic and Optical Products",{"$f":"IF(AND($A49=TRUE,$C$2=1),(VLOOKUP($B49,'International Exports-Detailed'!$A:$Q,C$6-2000,FALSE)),IF(AND($A49=TRUE,$C$2=2),(VLOOKUP($B49,'Rest of the UK Exports -Detail'!$A:$Q,C$6-2000,FALSE)),\"\"))","v":5570},{"$f":"IF(AND($A49=TRUE,$C$2=1),(VLOOKUP($B49,'International Exports-Detailed'!$A:$Q,D$6-2000,FALSE)),IF(AND($A49=TRUE,$C$2=2),(VLOOKUP($B49,'Rest of the UK Exports -Detail'!$A:$Q,D$6-2000,FALSE)),\"\"))","v":4275},{"$f":"IF(AND($A49=TRUE,$C$2=1),(VLOOKUP($B49,'International Exports-Detailed'!$A:$Q,E$6-2000,FALSE)),IF(AND($A49=TRUE,$C$2=2),(VLOOKUP($B49,'Rest of the UK Exports -Detail'!$A:$Q,E$6-2000,FALSE)),\"\"))","v":3230},{"$f":"IF(AND($A49=TRUE,$C$2=1),(VLOOKUP($B49,'International Exports-Detailed'!$A:$Q,F$6-2000,FALSE)),IF(AND($A49=TRUE,$C$2=2),(VLOOKUP($B49,'Rest of the UK Exports -Detail'!$A:$Q,F$6-2000,FALSE)),\"\"))","v":2110},{"$f":"IF(AND($A49=TRUE,$C$2=1),(VLOOKUP($B49,'International Exports-Detailed'!$A:$Q,G$6-2000,FALSE)),IF(AND($A49=TRUE,$C$2=2),(VLOOKUP($B49,'Rest of the UK Exports -Detail'!$A:$Q,G$6-2000,FALSE)),\"\"))","v":1810},{"$f":"IF(AND($A49=TRUE,$C$2=1),(VLOOKUP($B49,'International Exports-Detailed'!$A:$Q,H$6-2000,FALSE)),IF(AND($A49=TRUE,$C$2=2),(VLOOKUP($B49,'Rest of the UK Exports -Detail'!$A:$Q,H$6-2000,FALSE)),\"\"))","v":1590},{"$f":"IF(AND($A49=TRUE,$C$2=1),(VLOOKUP($B49,'International Exports-Detailed'!$A:$Q,I$6-2000,FALSE)),IF(AND($A49=TRUE,$C$2=2),(VLOOKUP($B49,'Rest of the UK Exports -Detail'!$A:$Q,I$6-2000,FALSE)),\"\"))","v":1495},{"$f":"IF(AND($A49=TRUE,$C$2=1),(VLOOKUP($B49,'International Exports-Detailed'!$A:$Q,J$6-2000,FALSE)),IF(AND($A49=TRUE,$C$2=2),(VLOOKUP($B49,'Rest of the UK Exports -Detail'!$A:$Q,J$6-2000,FALSE)),\"\"))","v":1455},{"$f":"IF(AND($A49=TRUE,$C$2=1),(VLOOKUP($B49,'International Exports-Detailed'!$A:$Q,K$6-2000,FALSE)),IF(AND($A49=TRUE,$C$2=2),(VLOOKUP($B49,'Rest of the UK Exports -Detail'!$A:$Q,K$6-2000,FALSE)),\"\"))","v":1390},{"$f":"IF(AND($A49=TRUE,$C$2=1),(VLOOKUP($B49,'International Exports-Detailed'!$A:$Q,L$6-2000,FALSE)),IF(AND($A49=TRUE,$C$2=2),(VLOOKUP($B49,'Rest of the UK Exports -Detail'!$A:$Q,L$6-2000,FALSE)),\"\"))","v":1385},{"$f":"IF(AND($A49=TRUE,$C$2=1),(VLOOKUP($B49,'International Exports-Detailed'!$A:$Q,M$6-2000,FALSE)),IF(AND($A49=TRUE,$C$2=2),(VLOOKUP($B49,'Rest of the UK Exports -Detail'!$A:$Q,M$6-2000,FALSE)),\"\"))","v":1395},{"$f":"IF(AND($A49=TRUE,$C$2=1),(VLOOKUP($B49,'International Exports-Detailed'!$A:$Q,N$6-2000,FALSE)),IF(AND($A49=TRUE,$C$2=2),(VLOOKUP($B49,'Rest of the UK Exports -Detail'!$A:$Q,N$6-2000,FALSE)),\"\"))","v":1600},{"$f":"IF(AND($A49=TRUE,$C$2=1),(VLOOKUP($B49,'International Exports-Detailed'!$A:$Q,O$6-2000,FALSE)),IF(AND($A49=TRUE,$C$2=2),(VLOOKUP($B49,'Rest of the UK Exports -Detail'!$A:$Q,O$6-2000,FALSE)),\"\"))","v":1120},{"$f":"IF(AND($A49=TRUE,$C$2=1),(VLOOKUP($B49,'International Exports-Detailed'!$A:$Q,P$6-2000,FALSE)),IF(AND($A49=TRUE,$C$2=2),(VLOOKUP($B49,'Rest of the UK Exports -Detail'!$A:$Q,P$6-2000,FALSE)),\"\"))","v":1355},{"$f":"IF(AND($A49=TRUE,$C$2=1),(VLOOKUP($B49,'International Exports-Detailed'!$A:$Q,Q$6-2000,FALSE)),IF(AND($A49=TRUE,$C$2=2),(VLOOKUP($B49,'Rest of the UK Exports -Detail'!$A:$Q,Q$6-2000,FALSE)),\"\"))","v":1335},{"$f":"IF(AND($A49=TRUE,$C$2=1),(VLOOKUP($B49,'International Exports-Detailed'!$A:$Q,R$6-2000,FALSE)),IF(AND($A49=TRUE,$C$2=2),(VLOOKUP($B49,'Rest of the UK Exports -Detail'!$A:$Q,R$6-2000,FALSE)),\"\"))","v":1885}]
[true,"Digital Industries",{"$f":"IF(AND($A50=TRUE,$C$2=1),(VLOOKUP($B50,'International Exports-Detailed'!$A:$Q,C$6-2000,FALSE)),IF(AND($A50=TRUE,$C$2=2),(VLOOKUP($B50,'Rest of the UK Exports -Detail'!$A:$Q,C$6-2000,FALSE)),\"\"))","v":220},{"$f":"IF(AND($A50=TRUE,$C$2=1),(VLOOKUP($B50,'International Exports-Detailed'!$A:$Q,D$6-2000,FALSE)),IF(AND($A50=TRUE,$C$2=2),(VLOOKUP($B50,'Rest of the UK Exports -Detail'!$A:$Q,D$6-2000,FALSE)),\"\"))","v":225},{"$f":"IF(AND($A50=TRUE,$C$2=1),(VLOOKUP($B50,'International Exports-Detailed'!$A:$Q,E$6-2000,FALSE)),IF(AND($A50=TRUE,$C$2=2),(VLOOKUP($B50,'Rest of the UK Exports -Detail'!$A:$Q,E$6-2000,FALSE)),\"\"))","v":235},{"$f":"IF(AND($A50=TRUE,$C$2=1),(VLOOKUP($B50,'International Exports-Detailed'!$A:$Q,F$6-2000,FALSE)),IF(AND($A50=TRUE,$C$2=2),(VLOOKUP($B50,'Rest of the UK Exports -Detail'!$A:$Q,F$6-2000,FALSE)),\"\"))","v":315},{"$f":"IF(AND($A50=TRUE,$C$2=1),(VLOOKUP($B50,'International Exports-Detailed'!$A:$Q,G$6-2000,FALSE)),IF(AND($A50=TRUE,$C$2=2),(VLOOKUP($B50,'Rest of the UK Exports -Detail'!$A:$Q,G$6-2000,FALSE)),\"\"))","v":400},{"$f":"IF(AND($A50=TRUE,$C$2=1),(VLOOKUP($B50,'International Exports-Detailed'!$A:$Q,H$6-2000,FALSE)),IF(AND($A50=TRUE,$C$2=2),(VLOOKUP($B50,'Rest of the UK Exports -Detail'!$A:$Q,H$6-2000,FALSE)),\"\"))","v":345},{"$f":"IF(AND($A50=TRUE,$C$2=1),(VLOOKUP($B50,'International Exports-Detailed'!$A:$Q,I$6-2000,FALSE)),IF(AND($A50=TRUE,$C$2=2),(VLOOKUP($B50,'Rest of the UK Exports -Detail'!$A:$Q,I$6-2000,FALSE)),\"\"))","v":470},{"$f":"IF(AND($A50=TRUE,$C$2=1),(VLOOKUP($B50,'International Exports-Detailed'!$A:$Q,J$6-2000,FALSE)),IF(AND($A50=TRUE,$C$2=2),(VLOOKUP($B50,'Rest of the UK Exports -Detail'!$A:$Q,J$6-2000,FALSE)),\"\"))","v":385},{"$f":"IF(AND($A50=TRUE,$C$2=1),(VLOOKUP($B50,'International Exports-Detailed'!$A:$Q,K$6-2000,FALSE)),IF(AND($A50=TRUE,$C$2=2),(VLOOKUP($B50,'Rest of the UK Exports -Detail'!$A:$Q,K$6-2000,FALSE)),\"\"))","v":450},{"$f":"IF(AND($A50=TRUE,$C$2=1),(VLOOKUP($B50,'International Exports-Detailed'!$A:$Q,L$6-2000,FALSE)),IF(AND($A50=TRUE,$C$2=2),(VLOOKUP($B50,'Rest of the UK Exports -Detail'!$A:$Q,L$6-2000,FALSE)),\"\"))","v":445},{"$f":"IF(AND($A50=TRUE,$C$2=1),(VLOOKUP($B50,'International Exports-Detailed'!$A:$Q,M$6-2000,FALSE)),IF(AND($A50=TRUE,$C$2=2),(VLOOKUP($B50,'Rest of the UK Exports -Detail'!$A:$Q,M$6-2000,FALSE)),\"\"))","v":450},{"$f":"IF(AND($A50=TRUE,$C$2=1),(VLOOKUP($B50,'International Exports-Detailed'!$A:$Q,N$6-2000,FALSE)),IF(AND($A50=TRUE,$C$2=2),(VLOOKUP($B50,'Rest of the UK Exports -Detail'!$A:$Q,N$6-2000,FALSE)),\"\"))","v":485},{"$f":"IF(AND($A50=TRUE,$C$2=1),(VLOOKUP($B50,'International Exports-Detailed'!$A:$Q,O$6-2000,FALSE)),IF(AND($A50=TRUE,$C$2=2),(VLOOKUP($B50,'Rest of the UK Exports -Detail'!$A:$Q,O$6-2000,FALSE)),\"\"))","v":545},{"$f":"IF(AND($A50=TRUE,$C$2=1),(VLOOKUP($B50,'International Exports-Detailed'!$A:$Q,P$6-2000,FALSE)),IF(AND($A50=TRUE,$C$2=2),(VLOOKUP($B50,'Rest of the UK Exports -Detail'!$A:$Q,P$6-2000,FALSE)),\"\"))","v":690},{"$f":"IF(AND($A50=TRUE,$C$2=1),(VLOOKUP($B50,'International Exports-Detailed'!$A:$Q,Q$6-2000,FALSE)),IF(AND($A50=TRUE,$C$2=2),(VLOOKUP($B50,'Rest of the UK Exports -Detail'!$A:$Q,Q$6-2000,FALSE)),\"\"))","v":605},{"$f":"IF(AND($A50=TRUE,$C$2=1),(VLOOKUP($B50,'International Exports-Detailed'!$A:$Q,R$6-2000,FALSE)),IF(AND($A50=TRUE,$C$2=2),(VLOOKUP($B50,'Rest of the UK Exports -Detail'!$A:$Q,R$6-2000,FALSE)),\"\"))","v":895}]
[true,"IT and Telecommunications",{"$f":"IF(AND($A51=TRUE,$C$2=1),(VLOOKUP($B51,'International Exports-Detailed'!$A:$Q,C$6-2000,FALSE)),IF(AND($A51=TRUE,$C$2=2),(VLOOKUP($B51,'Rest of the UK Exports -Detail'!$A:$Q,C$6-2000,FALSE)),\"\"))","v":35},{"$f":"IF(AND($A51=TRUE,$C$2=1),(VLOOKUP($B51,'International Exports-Detailed'!$A:$Q,D$6-2000,FALSE)),IF(AND($A51=TRUE,$C$2=2),(VLOOKUP($B51,'Rest of the UK Exports -Detail'!$A:$Q,D$6-2000,FALSE)),\"\"))","v":65},{"$f":"IF(AND($A51=TRUE,$C$2=1),(VLOOKUP($B51,'International Exports-Detailed'!$A:$Q,E$6-2000,FALSE)),IF(AND($A51=TRUE,$C$2=2),(VLOOKUP($B51,'Rest of the UK Exports -Detail'!$A:$Q,E$6-2000,FALSE)),\"\"))","v":130},{"$f":"IF(AND($A51=TRUE,$C$2=1),(VLOOKUP($B51,'International Exports-Detailed'!$A:$Q,F$6-2000,FALSE)),IF(AND($A51=TRUE,$C$2=2),(VLOOKUP($B51,'Rest of the UK Exports -Detail'!$A:$Q,F$6-2000,FALSE)),\"\"))","v":185},{"$f":"IF(AND($A51=TRUE,$C$2=1),(VLOOKUP($B51,'International Exports-Detailed'!$A:$Q,G$6-2000,FALSE)),IF(AND($A51=TRUE,$C$2=2),(VLOOKUP($B51,'Rest of the UK Exports -Detail'!$A:$Q,G$6-2000,FALSE)),\"\"))","v":135},{"$f":"IF(AND($A51=TRUE,$C$2=1),(VLOOKUP($B51,'International Exports-Detailed'!$A:$Q,H$6-2000,FALSE)),IF(AND($A51=TRUE,$C$2=2),(VLOOKUP($B51,'Rest of the UK Exports -Detail'!$A:$Q,H$6-2000,FALSE)),\"\"))","v":140},{"$f":"IF(AND($A51=TRUE,$C$2=1),(VLOOKUP($B51,'International Exports-Detailed'!$A:$Q,I$6-2000,FALSE)),IF(AND($A51=TRUE,$C$2=2),(VLOOKUP($B51,'Rest of the UK Exports -Detail'!$A:$Q,I$6-2000,FALSE)),\"\"))","v":200},{"$f":"IF(AND($A51=TRUE,$C$2=1),(VLOOKUP($B51,'International Exports-Detailed'!$A:$Q,J$6-2000,FALSE)),IF(AND($A51=TRUE,$C$2=2),(VLOOKUP($B51,'Rest of the UK Exports -Detail'!$A:$Q,J$6-2000,FALSE)),\"\"))","v":210},{"$f":"IF(AND($A51=TRUE,$C$2=1),(VLOOKUP($B51,'International Exports-Detailed'!$A:$Q,K$6-2000,FALSE)),IF(AND($A51=TRUE,$C$2=2),(VLOOKUP($B51,'Rest of the UK Exports -Detail'!$A:$Q,K$6-2000,FALSE)),\"\"))","v":220},{"$f":"IF(AND($A51=TRUE,$C$2=1),(VLOOKUP($B51,'International Exports-Detailed'!$A:$Q,L$6-2000,FALSE)),IF(AND($A51=TRUE,$C$2=2),(VLOOKUP($B51,'Rest of the UK Exports -Detail'!$A:$Q,L$6-2000,FALSE)),\"\"))","v":215},{"$f":"IF(AND($A51=TRUE,$C$2=1),(VLOOKUP($B51,'International Exports-Detailed'!$A:$Q,M$6-2000,FALSE)),IF(AND($A51=TRUE,$C$2=2),(VLOOKUP($B51,'Rest of the UK Exports -Detail'!$A:$Q,M$6-2000,FALSE)),\"\"))","v":195},{"$f":"IF(AND($A51=TRUE,$C$2=1),(VLOOKUP($B51,'International Exports-Detailed'!$A:$Q,N$6-2000,FALSE)),IF(AND($A51=TRUE,$C$2=2),(VLOOKUP($B51,'Rest of the UK Exports -Detail'!$A:$Q,N$6-2000,FALSE)),\"\"))","v":225},{"$f":"IF(AND($A51=TRUE,$C$2=1),(VLOOKUP($B51,'International Exports-Detailed'!$A:$Q,O$6-2000,FALSE)),IF(AND($A51=TRUE,$C$2=2),(VLOOKUP($B51,'Rest of the UK Exports -Detail'!$A:$Q,O$6-2000,FALSE)),\"\"))","v":295},{"$f":"IF(AND($A51=TRUE,$C$2=1),(VLOOKUP($B51,'International Exports-Detailed'!$A:$Q,P$6-2000,FALSE)),IF(AND($A51=TRUE,$C$2=2),(VLOOKUP($B51,'Rest of the UK Exports -Detail'!$A:$Q,P$6-2000,FALSE)),\"\"))","v":375},{"$f":"IF(AND($A51=TRUE,$C$2=1),(VLOOKUP($B51,'International Exports-Detailed'!$A:$Q,Q$6-2000,FALSE)),IF(AND($A51=TRUE,$C$2=2),(VLOOKUP($B51,'Rest of the UK Exports -Detail'!$A:$Q,Q$6-2000,FALSE)),\"\"))","v":365},{"$f":"IF(AND($A51=TRUE,$C$2=1),(VLOOKUP($B51,'International Exports-Detailed'!$A:$Q,R$6-2000,FALSE)),IF(AND($A51=TRUE,$C$2=2),(VLOOKUP($B51,'Rest of the UK Exports -Detail'!$A:$Q,R$6-2000,FALSE)),\"\"))","v":435}]
[true,"Publishing and Audio Visual",{"$f":"IF(AND($A52=TRUE,$C$2=1),(VLOOKUP($B52,'International Exports-Detailed'!$A:$Q,C$6-2000,FALSE)),IF(AND($A52=TRUE,$C$2=2),(VLOOKUP($B52,'Rest of the UK Exports -Detail'!$A:$Q,C$6-2000,FALSE)),\"\"))","v":95},{"$f":"IF(AND($A52=TRUE,$C$2=1),(VLOOKUP($B52,'International Exports-Detailed'!$A:$Q,D$6-2000,FALSE)),IF(AND($A52=TRUE,$C$2=2),(VLOOKUP($B52,'Rest of the UK Exports -Detail'!$A:$Q,D$6-2000,FALSE)),\"\"))","v":120},{"$f":"IF(AND($A52=TRUE,$C$2=1),(VLOOKUP($B52,'International Exports-Detailed'!$A:$Q,E$6-2000,FALSE)),IF(AND($A52=TRUE,$C$2=2),(VLOOKUP($B52,'Rest of the UK Exports -Detail'!$A:$Q,E$6-2000,FALSE)),\"\"))","v":110},{"$f":"IF(AND($A52=TRUE,$C$2=1),(VLOOKUP($B52,'International Exports-Detailed'!$A:$Q,F$6-2000,FALSE)),IF(AND($A52=TRUE,$C$2=2),(VLOOKUP($B52,'Rest of the UK Exports -Detail'!$A:$Q,F$6-2000,FALSE)),\"\"))","v":110},{"$f":"IF(AND($A52=TRUE,$C$2=1),(VLOOKUP($B52,'International Exports-Detailed'!$A:$Q,G$6-2000,FALSE)),IF(AND($A52=TRUE,$C$2=2),(VLOOKUP($B52,'Rest of the UK Exports -Detail'!$A:$Q,G$6-2000,FALSE)),\"\"))","v":120},{"$f":"IF(AND($A52=TRUE,$C$2=1),(VLOOKUP($B52,'International Exports-Detailed'!$A:$Q,H$6-2000,FALSE)),IF(AND($A52=TRUE,$C$2=2),(VLOOKUP($B52,'Rest of the UK Exports -Detail'!$A:$Q,H$6-2000,FALSE)),\"\"))","v":130},{"$f":"IF(AND($A52=TRUE,$C$2=1),(VLOOKUP($B52,'International Exports-Detailed'!$A:$Q,I$6-2000,FALSE)),IF(AND($A52=TRUE,$C$2=2),(VLOOKUP($B52,'Rest of the UK Exports -Detail'!$A:$Q,I$6-2000,FALSE)),\"\"))","v":110},{"$f":"IF(AND($A52=TRUE,$C$2=1),(VLOOKUP($B52,'International Exports-Detailed'!$A:$Q,J$6-2000,FALSE)),IF(AND($A52=TRUE,$C$2=2),(VLOOKUP($B52,'Rest of the UK Exports -Detail'!$A:$Q,J$6-2000,FALSE)),\"\"))","v":135},{"$f":"IF(AND($A52=TRUE,$C$2=1),(VLOOKUP($B52,'International Exports-Detailed'!$A:$Q,K$6-2000,FALSE)),IF(AND($A52=TRUE,$C$2=2),(VLOOKUP($B52,'Rest of the UK Exports -Detail'!$A:$Q,K$6-2000,FALSE)),\"\"))","v":115},{"$f":"IF(AND($A52=TRUE,$C$2=1),(VLOOKUP($B52,'International Exports-Detailed'!$A:$Q,L$6-2000,FALSE)),IF(AND($A52=TRUE,$C$2=2),(VLOOKUP($B52,'Rest of the UK Exports -Detail'!$A:$Q,L$6-2000,FALSE)),\"\"))","v":135},{"$f":"IF(AND($A52=TRUE,$C$2=1),(VLOOKUP($B52,'International Exports-Detailed'!$A:$Q,M$6-2000,FALSE)),IF(AND($A52=TRUE,$C$2=2),(VLOOKUP($B52,'Rest of the UK Exports -Detail'!$A:$Q,M$6-2000,FALSE)),\"\"))","v":130},{"$f":"IF(AND($A52=TRUE,$C$2=1),(VLOOKUP($B52,'International Exports-Detailed'!$A:$Q,N$6-2000,FALSE)),IF(AND($A52=TRUE,$C$2=2),(VLOOKUP($B52,'Rest of the UK Exports -Detail'!$A:$Q,N$6-2000,FALSE)),\"\"))","v":90},{"$f":"IF(AND($A52=TRUE,$C$2=1),(VLOOKUP($B52,'International Exports-Detailed'!$A:$Q,O$6-2000,FALSE)),IF(AND($A52=TRUE,$C$2=2),(VLOOKUP($B52,'Rest of the UK Exports -Detail'!$A:$Q,O$6-2000,FALSE)),\"\"))","v":100},{"$f":"IF(AND($A52=TRUE,$C$2=1),(VLOOKUP($B52,'International Exports-Detailed'!$A:$Q,P$6-2000,FALSE)),IF(AND($A52=TRUE,$C$2=2),(VLOOKUP($B52,'Rest of the UK Exports -Detail'!$A:$Q,P$6-2000,FALSE)),\"\"))","v":110},{"$f":"IF(AND($A52=TRUE,$C$2=1),(VLOOKUP($B52,'International Exports-Detailed'!$A:$Q,Q$6-2000,FALSE)),IF(AND($A52=TRUE,$C$2=2),(VLOOKUP($B52,'Rest of the UK Exports -Detail'!$A:$Q,Q$6-2000,FALSE)),\"\"))","v":110},{"$f":"IF(AND($A52=TRUE,$C$2=1),(VLOOKUP($B52,'International Exports-Detailed'!$A:$Q,R$6-2000,FALSE)),IF(AND($A52=TRUE,$C$2=2),(VLOOKUP($B52,'Rest of the UK Exports -Detail'!$A:$Q,R$6-2000,FALSE)),\"\"))","v":130}]
[]
[]
[null,"Life Sciences Chart"]
["Chart control",null,2002,2003,2004,2005,2006,2007,2008,2009,2010,2011,2012,2013,2014,2015,2016,2017]
[true,"Life Sciences",{"$f":"IF(AND($A57=TRUE,$C$2=1),(VLOOKUP($B57,'International Exports-Detailed'!$A:$Q,C$6-2000,FALSE)),IF(AND($A57=TRUE,$C$2=2),(VLOOKUP($B57,'Rest of the UK Exports -Detail'!$A:$Q,C$6-2000,FALSE)),\"\"))","v":745},{"$f":"IF(AND($A57=TRUE,$C$2=1),(VLOOKUP($B57,'International Exports-Detailed'!$A:$Q,D$6-2000,FALSE)),IF(AND($A57=TRUE,$C$2=2),(VLOOKUP($B57,'Rest of the UK Exports -Detail'!$A:$Q,D$6-2000,FALSE)),\"\"))","v":875},{"$f":"IF(AND($A57=TRUE,$C$2=1),(VLOOKUP($B57,'International Exports-Detailed'!$A:$Q,E$6-2000,FALSE)),IF(AND($A57=TRUE,$C$2=2),(VLOOKUP($B57,'Rest of the UK Exports -Detail'!$A:$Q,E$6-2000,FALSE)),\"\"))","v":790},{"$f":"IF(AND($A57=TRUE,$C$2=1),(VLOOKUP($B57,'International Exports-Detailed'!$A:$Q,F$6-2000,FALSE)),IF(AND($A57=TRUE,$C$2=2),(VLOOKUP($B57,'Rest of the UK Exports -Detail'!$A:$Q,F$6-2000,FALSE)),\"\"))","v":800},{"$f":"IF(AND($A57=TRUE,$C$2=1),(VLOOKUP($B57,'International Exports-Detailed'!$A:$Q,G$6-2000,FALSE)),IF(AND($A57=TRUE,$C$2=2),(VLOOKUP($B57,'Rest of the UK Exports -Detail'!$A:$Q,G$6-2000,FALSE)),\"\"))","v":805},{"$f":"IF(AND($A57=TRUE,$C$2=1),(VLOOKUP($B57,'International Exports-Detailed'!$A:$Q,H$6-2000,FALSE)),IF(AND($A57=TRUE,$C$2=2),(VLOOKUP($B57,'Rest of the UK Exports -Detail'!$A:$Q,H$6-2000,FALSE)),\"\"))","v":935},{"$f":"IF(AND($A57=TRUE,$C$2=1),(VLOOKUP($B57,'International Exports-Detailed'!$A:$Q,I$6-2000,FALSE)),IF(AND($A57=TRUE,$C$2=2),(VLOOKUP($B57,'Rest of the UK Exports -Detail'!$A:$Q,I$6-2000,FALSE)),\"\"))","v":925},{"$f":"IF(AND($A57=TRUE,$C$2=1),(VLOOKUP($B57,'International Exports-Detailed'!$A:$Q,J$6-2000,FALSE)),IF(AND($A57=TRUE,$C$2=2),(VLOOKUP($B57,'Rest of the UK Exports -Detail'!$A:$Q,J$6-2000,FALSE)),\"\"))","v":835},{"$f":"IF(AND($A57=TRUE,$C$2=1),(VLOOKUP($B57,'International Exports-Detailed'!$A:$Q,K$6-2000,FALSE)),IF(AND($A57=TRUE,$C$2=2),(VLOOKUP($B57,'Rest of the UK Exports -Detail'!$A:$Q,K$6-2000,FALSE)),\"\"))","v":1005},{"$f":"IF(AND($A57=TRUE,$C$2=1),(VLOOKUP($B57,'International Exports-Detailed'!$A:$Q,L$6-2000,FALSE)),IF(AND($A57=TRUE,$C$2=2),(VLOOKUP($B57,'Rest of the UK Exports -Detail'!$A:$Q,L$6-2000,FALSE)),\"\"))","v":900},{"$f":"IF(AND($A57=TRUE,$C$2=1),(VLOOKUP($B57,'International Exports-Detailed'!$A:$Q,M$6-2000,FALSE)),IF(AND($A57=TRUE,$C$2=2),(VLOOKUP($B57,'Rest of the UK Exports -Detail'!$A:$Q,M$6-2000,FALSE)),\"\"))","v":925},{"$f":"IF(AND($A57=TRUE,$C$2=1),(VLOOKUP($B57,'International Exports-Detailed'!$A:$Q,N$6-2000,FALSE)),IF(AND($A57=TRUE,$C$2=2),(VLOOKUP($B57,'Rest of the UK Exports -Detail'!$A:$Q,N$6-2000,FALSE)),\"\"))","v":1015},{"$f":"IF(AND($A57=TRUE,$C$2=1),(VLOOKUP($B57,'International Exports-Detailed'!$A:$Q,O$6-2000,FALSE)),IF(AND($A57=TRUE,$C$2=2),(VLOOKUP($B57,'Rest of the UK Exports -Detail'!$A:$Q,O$6-2000,FALSE)),\"\"))","v":1130},{"$f":"IF(AND($A57=TRUE,$C$2=1),(VLOOKUP($B57,'International Exports-Detailed'!$A:$Q,P$6-2000,FALSE)),IF(AND($A57=TRUE,$C$2=2),(VLOOKUP($B57,'Rest of the UK Exports -Detail'!$A:$Q,P$6-2000,FALSE)),\"\"))","v":1280},{"$f":"IF(AND($A57=TRUE,$C$2=1),(VLOOKUP($B57,'International Exports-Detailed'!$A:$Q,Q$6-2000,FALSE)),IF(AND($A57=TRUE,$C$2=2),(VLOOKUP($B57,'Rest of the UK Exports -Detail'!$A:$Q,Q$6-2000,FALSE)),\"\"))","v":1330},{"$f":"IF(AND($A57=TRUE,$C$2=1),(VLOOKUP($B57,'International Exports-Detailed'!$A:$Q,R$6-2000,FALSE)),IF(AND($A57=TRUE,$C$2=2),(VLOOKUP($B57,'Rest of the UK Exports -Detail'!$A:$Q,R$6-2000,FALSE)),\"\"))","v":1570}]
[true,"Research",{"$f":"IF(AND($A58=TRUE,$C$2=1),(VLOOKUP($B58,'International Exports-Detailed'!$A:$Q,C$6-2000,FALSE)),IF(AND($A58=TRUE,$C$2=2),(VLOOKUP($B58,'Rest of the UK Exports -Detail'!$A:$Q,C$6-2000,FALSE)),\"\"))","v":335},{"$f":"IF(AND($A58=TRUE,$C$2=1),(VLOOKUP($B58,'International Exports-Detailed'!$A:$Q,D$6-2000,FALSE)),IF(AND($A58=TRUE,$C$2=2),(VLOOKUP($B58,'Rest of the UK Exports -Detail'!$A:$Q,D$6-2000,FALSE)),\"\"))","v":405},{"$f":"IF(AND($A58=TRUE,$C$2=1),(VLOOKUP($B58,'International Exports-Detailed'!$A:$Q,E$6-2000,FALSE)),IF(AND($A58=TRUE,$C$2=2),(VLOOKUP($B58,'Rest of the UK Exports -Detail'!$A:$Q,E$6-2000,FALSE)),\"\"))","v":370},{"$f":"IF(AND($A58=TRUE,$C$2=1),(VLOOKUP($B58,'International Exports-Detailed'!$A:$Q,F$6-2000,FALSE)),IF(AND($A58=TRUE,$C$2=2),(VLOOKUP($B58,'Rest of the UK Exports -Detail'!$A:$Q,F$6-2000,FALSE)),\"\"))","v":405},{"$f":"IF(AND($A58=TRUE,$C$2=1),(VLOOKUP($B58,'International Exports-Detailed'!$A:$Q,G$6-2000,FALSE)),IF(AND($A58=TRUE,$C$2=2),(VLOOKUP($B58,'Rest of the UK Exports -Detail'!$A:$Q,G$6-2000,FALSE)),\"\"))","v":420},{"$f":"IF(AND($A58=TRUE,$C$2=1),(VLOOKUP($B58,'International Exports-Detailed'!$A:$Q,H$6-2000,FALSE)),IF(AND($A58=TRUE,$C$2=2),(VLOOKUP($B58,'Rest of the UK Exports -Detail'!$A:$Q,H$6-2000,FALSE)),\"\"))","v":505},{"$f":"IF(AND($A58=TRUE,$C$2=1),(VLOOKUP($B58,'International Exports-Detailed'!$A:$Q,I$6-2000,FALSE)),IF(AND($A58=TRUE,$C$2=2),(VLOOKUP($B58,'Rest of the UK Exports -Detail'!$A:$Q,I$6-2000,FALSE)),\"\"))","v":360},{"$f":"IF(AND($A58=TRUE,$C$2=1),(VLOOKUP($B58,'International Exports-Detailed'!$A:$Q,J$6-2000,FALSE)),IF(AND($A58=TRUE,$C$2=2),(VLOOKUP($B58,'Rest of the UK Exports -Detail'!$A:$Q,J$6-2000,FALSE)),\"\"))","v":380},{"$f":"IF(AND($A58=TRUE,$C$2=1),(VLOOKUP($B58,'International Exports-Detailed'!$A:$Q,K$6-2000,FALSE)),IF(AND($A58=TRUE,$C$2=2),(VLOOKUP($B58,'Rest of the UK Exports -Detail'!$A:$Q,K$6-2000,FALSE)),\"\"))","v":530},{"$f":"IF(AND($A58=TRUE,$C$2=1),(VLOOKUP($B58,'International Exports-Detailed'!$A:$Q,L$6-2000,FALSE)),IF(AND($A58=TRUE,$C$2=2),(VLOOKUP($B58,'Rest of the UK Exports -Detail'!$A:$Q,L$6-2000,FALSE)),\"\"))","v":425},{"$f":"IF(AND($A58=TRUE,$C$2=1),(VLOOKUP($B58,'International Exports-Detailed'!$A:$Q,M$6-2000,FALSE)),IF(AND($A58=TRUE,$C$2=2),(VLOOKUP($B58,'Rest of the UK Exports -Detail'!$A:$Q,M$6-2000,FALSE)),\"\"))","v":490},{"$f":"IF(AND($A58=TRUE,$C$2=1),(VLOOKUP($B58,'International Exports-Detailed'!$A:$Q,N$6-2000,FALSE)),IF(AND($A58=TRUE,$C$2=2),(VLOOKUP($B58,'Rest of the UK Exports -Detail'!$A:$Q,N$6-2000,FALSE)),\"\"))","v":575},{"$f":"IF(AND($A58=TRUE,$C$2=1),(VLOOKUP($B58,'International Exports-Detailed'!$A:$Q,O$6-2000,FALSE)),IF(AND($A58=TRUE,$C$2=2),(VLOOKUP($B58,'Rest of the UK Exports -Detail'!$A:$Q,O$6-2000,FALSE)),\"\"))","v":595},{"$f":"IF(AND($A58=TRUE,$C$2=1),(VLOOKUP($B58,'International Exports-Detailed'!$A:$Q,P$6-2000,FALSE)),IF(AND($A58=TRUE,$C$2=2),(VLOOKUP($B58,'Rest of the UK Exports -Detail'!$A:$Q,P$6-2000,FALSE)),\"\"))","v":690},{"$f":"IF(AND($A58=TRUE,$C$2=1),(VLOOKUP($B58,'International Exports-Detailed'!$A:$Q,Q$6-2000,FALSE)),IF(AND($A58=TRUE,$C$2=2),(VLOOKUP($B58,'Rest of the UK Exports -Detail'!$A:$Q,Q$6-2000,FALSE)),\"\"))","v":800},{"$f":"IF(AND($A58=TRUE,$C$2=1),(VLOOKUP($B58,'International Exports-Detailed'!$A:$Q,R$6-2000,FALSE)),IF(AND($A58=TRUE,$C$2=2),(VLOOKUP($B58,'Rest of the UK Exports -Detail'!$A:$Q,R$6-2000,FALSE)),\"\"))","v":1010}]
[true,"Pharmaceuticals",{"$f":"IF(AND($A59=TRUE,$C$2=1),(VLOOKUP($B59,'International Exports-Detailed'!$A:$Q,C$6-2000,FALSE)),IF(AND($A59=TRUE,$C$2=2),(VLOOKUP($B59,'Rest of the UK Exports -Detail'!$A:$Q,C$6-2000,FALSE)),\"\"))","v":305},{"$f":"IF(AND($A59=TRUE,$C$2=1),(VLOOKUP($B59,'International Exports-Detailed'!$A:$Q,D$6-2000,FALSE)),IF(AND($A59=TRUE,$C$2=2),(VLOOKUP($B59,'Rest of the UK Exports -Detail'!$A:$Q,D$6-2000,FALSE)),\"\"))","v":370},{"$f":"IF(AND($A59=TRUE,$C$2=1),(VLOOKUP($B59,'International Exports-Detailed'!$A:$Q,E$6-2000,FALSE)),IF(AND($A59=TRUE,$C$2=2),(VLOOKUP($B59,'Rest of the UK Exports -Detail'!$A:$Q,E$6-2000,FALSE)),\"\"))","v":295},{"$f":"IF(AND($A59=TRUE,$C$2=1),(VLOOKUP($B59,'International Exports-Detailed'!$A:$Q,F$6-2000,FALSE)),IF(AND($A59=TRUE,$C$2=2),(VLOOKUP($B59,'Rest of the UK Exports -Detail'!$A:$Q,F$6-2000,FALSE)),\"\"))","v":275},{"$f":"IF(AND($A59=TRUE,$C$2=1),(VLOOKUP($B59,'International Exports-Detailed'!$A:$Q,G$6-2000,FALSE)),IF(AND($A59=TRUE,$C$2=2),(VLOOKUP($B59,'Rest of the UK Exports -Detail'!$A:$Q,G$6-2000,FALSE)),\"\"))","v":235},{"$f":"IF(AND($A59=TRUE,$C$2=1),(VLOOKUP($B59,'International Exports-Detailed'!$A:$Q,H$6-2000,FALSE)),IF(AND($A59=TRUE,$C$2=2),(VLOOKUP($B59,'Rest of the UK Exports -Detail'!$A:$Q,H$6-2000,FALSE)),\"\"))","v":260},{"$f":"IF(AND($A59=TRUE,$C$2=1),(VLOOKUP($B59,'International Exports-Detailed'!$A:$Q,I$6-2000,FALSE)),IF(AND($A59=TRUE,$C$2=2),(VLOOKUP($B59,'Rest of the UK Exports -Detail'!$A:$Q,I$6-2000,FALSE)),\"\"))","v":400},{"$f":"IF(AND($A59=TRUE,$C$2=1),(VLOOKUP($B59,'International Exports-Detailed'!$A:$Q,J$6-2000,FALSE)),IF(AND($A59=TRUE,$C$2=2),(VLOOKUP($B59,'Rest of the UK Exports -Detail'!$A:$Q,J$6-2000,FALSE)),\"\"))","v":315},{"$f":"IF(AND($A59=TRUE,$C$2=1),(VLOOKUP($B59,'International Exports-Detailed'!$A:$Q,K$6-2000,FALSE)),IF(AND($A59=TRUE,$C$2=2),(VLOOKUP($B59,'Rest of the UK Exports -Detail'!$A:$Q,K$6-2000,FALSE)),\"\"))","v":340},{"$f":"IF(AND($A59=TRUE,$C$2=1),(VLOOKUP($B59,'International Exports-Detailed'!$A:$Q,L$6-2000,FALSE)),IF(AND($A59=TRUE,$C$2=2),(VLOOKUP($B59,'Rest of the UK Exports -Detail'!$A:$Q,L$6-2000,FALSE)),\"\"))","v":325},{"$f":"IF(AND($A59=TRUE,$C$2=1),(VLOOKUP($B59,'International Exports-Detailed'!$A:$Q,M$6-2000,FALSE)),IF(AND($A59=TRUE,$C$2=2),(VLOOKUP($B59,'Rest of the UK Exports -Detail'!$A:$Q,M$6-2000,FALSE)),\"\"))","v":315},{"$f":"IF(AND($A59=TRUE,$C$2=1),(VLOOKUP($B59,'International Exports-Detailed'!$A:$Q,N$6-2000,FALSE)),IF(AND($A59=TRUE,$C$2=2),(VLOOKUP($B59,'Rest of the UK Exports -Detail'!$A:$Q,N$6-2000,FALSE)),\"\"))","v":295},{"$f":"IF(AND($A59=TRUE,$C$2=1),(VLOOKUP($B59,'International Exports-Detailed'!$A:$Q,O$6-2000,FALSE)),IF(AND($A59=TRUE,$C$2=2),(VLOOKUP($B59,'Rest of the UK Exports -Detail'!$A:$Q,O$6-2000,FALSE)),\"\"))","v":395},{"$f":"IF(AND($A59=TRUE,$C$2=1),(VLOOKUP($B59,'International Exports-Detailed'!$A:$Q,P$6-2000,FALSE)),IF(AND($A59=TRUE,$C$2=2),(VLOOKUP($B59,'Rest of the UK Exports -Detail'!$A:$Q,P$6-2000,FALSE)),\"\"))","v":445},{"$f":"IF(AND($A59=TRUE,$C$2=1),(VLOOKUP($B59,'International Exports-Detailed'!$A:$Q,Q$6-2000,FALSE)),IF(AND($A59=TRUE,$C$2=2),(VLOOKUP($B59,'Rest of the UK Exports -Detail'!$A:$Q,Q$6-2000,FALSE)),\"\"))","v":395},{"$f":"IF(AND($A59=TRUE,$C$2=1),(VLOOKUP($B59,'International Exports-Detailed'!$A:$Q,R$6-2000,FALSE)),IF(AND($A59=TRUE,$C$2=2),(VLOOKUP($B59,'Rest of the UK Exports -Detail'!$A:$Q,R$6-2000,FALSE)),\"\"))","v":425}]
[true,"Manufacture of Medical Equipment",{"$f":"IF(AND($A60=TRUE,$C$2=1),(VLOOKUP($B60,'International Exports-Detailed'!$A:$Q,C$6-2000,FALSE)),IF(AND($A60=TRUE,$C$2=2),(VLOOKUP($B60,'Rest of the UK Exports -Detail'!$A:$Q,C$6-2000,FALSE)),\"\"))","v":105},{"$f":"IF(AND($A60=TRUE,$C$2=1),(VLOOKUP($B60,'International Exports-Detailed'!$A:$Q,D$6-2000,FALSE)),IF(AND($A60=TRUE,$C$2=2),(VLOOKUP($B60,'Rest of the UK Exports -Detail'!$A:$Q,D$6-2000,FALSE)),\"\"))","v":100},{"$f":"IF(AND($A60=TRUE,$C$2=1),(VLOOKUP($B60,'International Exports-Detailed'!$A:$Q,E$6-2000,FALSE)),IF(AND($A60=TRUE,$C$2=2),(VLOOKUP($B60,'Rest of the UK Exports -Detail'!$A:$Q,E$6-2000,FALSE)),\"\"))","v":120},{"$f":"IF(AND($A60=TRUE,$C$2=1),(VLOOKUP($B60,'International Exports-Detailed'!$A:$Q,F$6-2000,FALSE)),IF(AND($A60=TRUE,$C$2=2),(VLOOKUP($B60,'Rest of the UK Exports -Detail'!$A:$Q,F$6-2000,FALSE)),\"\"))","v":120},{"$f":"IF(AND($A60=TRUE,$C$2=1),(VLOOKUP($B60,'International Exports-Detailed'!$A:$Q,G$6-2000,FALSE)),IF(AND($A60=TRUE,$C$2=2),(VLOOKUP($B60,'Rest of the UK Exports -Detail'!$A:$Q,G$6-2000,FALSE)),\"\"))","v":150},{"$f":"IF(AND($A60=TRUE,$C$2=1),(VLOOKUP($B60,'International Exports-Detailed'!$A:$Q,H$6-2000,FALSE)),IF(AND($A60=TRUE,$C$2=2),(VLOOKUP($B60,'Rest of the UK Exports -Detail'!$A:$Q,H$6-2000,FALSE)),\"\"))","v":170},{"$f":"IF(AND($A60=TRUE,$C$2=1),(VLOOKUP($B60,'International Exports-Detailed'!$A:$Q,I$6-2000,FALSE)),IF(AND($A60=TRUE,$C$2=2),(VLOOKUP($B60,'Rest of the UK Exports -Detail'!$A:$Q,I$6-2000,FALSE)),\"\"))","v":160},{"$f":"IF(AND($A60=TRUE,$C$2=1),(VLOOKUP($B60,'International Exports-Detailed'!$A:$Q,J$6-2000,FALSE)),IF(AND($A60=TRUE,$C$2=2),(VLOOKUP($B60,'Rest of the UK Exports -Detail'!$A:$Q,J$6-2000,FALSE)),\"\"))","v":145},{"$f":"IF(AND($A60=TRUE,$C$2=1),(VLOOKUP($B60,'International Exports-Detailed'!$A:$Q,K$6-2000,FALSE)),IF(AND($A60=TRUE,$C$2=2),(VLOOKUP($B60,'Rest of the UK Exports -Detail'!$A:$Q,K$6-2000,FALSE)),\"\"))","v":135},{"$f":"IF(AND($A60=TRUE,$C$2=1),(VLOOKUP($B60,'International Exports-Detailed'!$A:$Q,L$6-2000,FALSE)),IF(AND($A60=TRUE,$C$2=2),(VLOOKUP($B60,'Rest of the UK Exports -Detail'!$A:$Q,L$6-2000,FALSE)),\"\"))","v":155},{"$f":"IF(AND($A60=TRUE,$C$2=1),(VLOOKUP($B60,'International Exports-Detailed'!$A:$Q,M$6-2000,FALSE)),IF(AND($A60=TRUE,$C$2=2),(VLOOKUP($B60,'Rest of the UK Exports -Detail'!$A:$Q,M$6-2000,FALSE)),\"\"))","v":120},{"$f":"IF(AND($A60=TRUE,$C$2=1),(VLOOKUP($B60,'International Exports-Detailed'!$A:$Q,N$6-2000,FALSE)),IF(AND($A60=TRUE,$C$2=2),(VLOOKUP($B60,'Rest of the UK Exports -Detail'!$A:$Q,N$6-2000,FALSE)),\"\"))","v":145},{"$f":"IF(AND($A60=TRUE,$C$2=1),(VLOOKUP($B60,'International Exports-Detailed'!$A:$Q,O$6-2000,FALSE)),IF(AND($A60=TRUE,$C$2=2),(VLOOKUP($B60,'Rest of the UK Exports -Detail'!$A:$Q,O$6-2000,FALSE)),\"\"))","v":140},{"$f":"IF(AND($A60=TRUE,$C$2=1),(VLOOKUP($B60,'International Exports-Detailed'!$A:$Q,P$6-2000,FALSE)),IF(AND($A60=TRUE,$C$2=2),(VLOOKUP($B60,'Rest of the UK Exports -Detail'!$A:$Q,P$6-2000,FALSE)),\"\"))","v":140},{"$f":"IF(AND($A60=TRUE,$C$2=1),(VLOOKUP($B60,'International Exports-Detailed'!$A:$Q,Q$6-2000,FALSE)),IF(AND($A60=TRUE,$C$2=2),(VLOOKUP($B60,'Rest of the UK Exports -Detail'!$A:$Q,Q$6-2000,FALSE)),\"\"))","v":135},{"$f":"IF(AND($A60=TRUE,$C$2=1),(VLOOKUP($B60,'International Exports-Detailed'!$A:$Q,R$6-2000,FALSE)),IF(AND($A60=TRUE,$C$2=2),(VLOOKUP($B60,'Rest of the UK Exports -Detail'!$A:$Q,R$6-2000,FALSE)),\"\"))","v":130}]
[]
[]
[null,"Sustainable Construction Chart"]
["Chart control",null,2002,2003,2004,2005,2006,2007,2008,2009,2010,2011,2012,2013,2014,2015,2016,2017]
[true,"Construction",{"$f":"IF(AND($A65=TRUE,$C$2=1),(VLOOKUP($B65,'International Exports-Detailed'!$A:$Q,C$6-2000,FALSE)),IF(AND($A65=TRUE,$C$2=2),(VLOOKUP($B65,'Rest of the UK Exports -Detail'!$A:$Q,C$6-2000,FALSE)),\"\"))","v":85},{"$f":"IF(AND($A65=TRUE,$C$2=1),(VLOOKUP($B65,'International Exports-Detailed'!$A:$Q,D$6-2000,FALSE)),IF(AND($A65=TRUE,$C$2=2),(VLOOKUP($B65,'Rest of the UK Exports -Detail'!$A:$Q,D$6-2000,FALSE)),\"\"))","v":265},{"$f":"IF(AND($A65=TRUE,$C$2=1),(VLOOKUP($B65,'International Exports-Detailed'!$A:$Q,E$6-2000,FALSE)),IF(AND($A65=TRUE,$C$2=2),(VLOOKUP($B65,'Rest of the UK Exports -Detail'!$A:$Q,E$6-2000,FALSE)),\"\"))","v":180},{"$f":"IF(AND($A65=TRUE,$C$2=1),(VLOOKUP($B65,'International Exports-Detailed'!$A:$Q,F$6-2000,FALSE)),IF(AND($A65=TRUE,$C$2=2),(VLOOKUP($B65,'Rest of the UK Exports -Detail'!$A:$Q,F$6-2000,FALSE)),\"\"))","v":230},{"$f":"IF(AND($A65=TRUE,$C$2=1),(VLOOKUP($B65,'International Exports-Detailed'!$A:$Q,G$6-2000,FALSE)),IF(AND($A65=TRUE,$C$2=2),(VLOOKUP($B65,'Rest of the UK Exports -Detail'!$A:$Q,G$6-2000,FALSE)),\"\"))","v":180},{"$f":"IF(AND($A65=TRUE,$C$2=1),(VLOOKUP($B65,'International Exports-Detailed'!$A:$Q,H$6-2000,FALSE)),IF(AND($A65=TRUE,$C$2=2),(VLOOKUP($B65,'Rest of the UK Exports -Detail'!$A:$Q,H$6-2000,FALSE)),\"\"))","v":155},{"$f":"IF(AND($A65=TRUE,$C$2=1),(VLOOKUP($B65,'International Exports-Detailed'!$A:$Q,I$6-2000,FALSE)),IF(AND($A65=TRUE,$C$2=2),(VLOOKUP($B65,'Rest of the UK Exports -Detail'!$A:$Q,I$6-2000,FALSE)),\"\"))","v":185},{"$f":"IF(AND($A65=TRUE,$C$2=1),(VLOOKUP($B65,'International Exports-Detailed'!$A:$Q,J$6-2000,FALSE)),IF(AND($A65=TRUE,$C$2=2),(VLOOKUP($B65,'Rest of the UK Exports -Detail'!$A:$Q,J$6-2000,FALSE)),\"\"))","v":150},{"$f":"IF(AND($A65=TRUE,$C$2=1),(VLOOKUP($B65,'International Exports-Detailed'!$A:$Q,K$6-2000,FALSE)),IF(AND($A65=TRUE,$C$2=2),(VLOOKUP($B65,'Rest of the UK Exports -Detail'!$A:$Q,K$6-2000,FALSE)),\"\"))","v":115},{"$f":"IF(AND($A65=TRUE,$C$2=1),(VLOOKUP($B65,'International Exports-Detailed'!$A:$Q,L$6-2000,FALSE)),IF(AND($A65=TRUE,$C$2=2),(VLOOKUP($B65,'Rest of the UK Exports -Detail'!$A:$Q,L$6-2000,FALSE)),\"\"))","v":95},{"$f":"IF(AND($A65=TRUE,$C$2=1),(VLOOKUP($B65,'International Exports-Detailed'!$A:$Q,M$6-2000,FALSE)),IF(AND($A65=TRUE,$C$2=2),(VLOOKUP($B65,'Rest of the UK Exports -Detail'!$A:$Q,M$6-2000,FALSE)),\"\"))","v":90},{"$f":"IF(AND($A65=TRUE,$C$2=1),(VLOOKUP($B65,'International Exports-Detailed'!$A:$Q,N$6-2000,FALSE)),IF(AND($A65=TRUE,$C$2=2),(VLOOKUP($B65,'Rest of the UK Exports -Detail'!$A:$Q,N$6-2000,FALSE)),\"\"))","v":105},{"$f":"IF(AND($A65=TRUE,$C$2=1),(VLOOKUP($B65,'International Exports-Detailed'!$A:$Q,O$6-2000,FALSE)),IF(AND($A65=TRUE,$C$2=2),(VLOOKUP($B65,'Rest of the UK Exports -Detail'!$A:$Q,O$6-2000,FALSE)),\"\"))","v":140},{"$f":"IF(AND($A65=TRUE,$C$2=1),(VLOOKUP($B65,'International Exports-Detailed'!$A:$Q,P$6-2000,FALSE)),IF(AND($A65=TRUE,$C$2=2),(VLOOKUP($B65,'Rest of the UK Exports -Detail'!$A:$Q,P$6-2000,FALSE)),\"\"))","v":110},{"$f":"IF(AND($A65=TRUE,$C$2=1),(VLOOKUP($B65,'International Exports-Detailed'!$A:$Q,Q$6-2000,FALSE)),IF(AND($A65=TRUE,$C$2=2),(VLOOKUP($B65,'Rest of the UK Exports -Detail'!$A:$Q,Q$6-2000,FALSE)),\"\"))","v":140},{"$f":"IF(AND($A65=TRUE,$C$2=1),(VLOOKUP($B65,'International Exports-Detailed'!$A:$Q,R$6-2000,FALSE)),IF(AND($A65=TRUE,$C$2=2),(VLOOKUP($B65,'Rest of the UK Exports -Detail'!$A:$Q,R$6-2000,FALSE)),\"\"))","v":140}]
[]
[null,"Chemical Sciences Chart"]
[null,null,2002,2003,2004,2005,2006,2007,2008,2009,2010,2011,2012,2013,2014,2015,2016,2017]
[true,"Chemical Sciences",{"$f":"IF(AND($A69=TRUE,$C$2=1),(VLOOKUP($B69,'International Exports-Detailed'!$A:$Q,C$6-2000,FALSE)),IF(AND($A69=TRUE,$C$2=2),(VLOOKUP($B69,'Rest of the UK Exports -Detail'!$A:$Q,C$6-2000,FALSE)),\"\"))","v":1950},{"$f":"IF(AND($A69=TRUE,$C$2=1),(VLOOKUP($B69,'International Exports-Detailed'!$A:$Q,D$6-2000,FALSE)),IF(AND($A69=TRUE,$C$2=2),(VLOOKUP($B69,'Rest of the UK Exports -Detail'!$A:$Q,D$6-2000,FALSE)),\"\"))","v":1985},{"$f":"IF(AND($A69=TRUE,$C$2=1),(VLOOKUP($B69,'International Exports-Detailed'!$A:$Q,E$6-2000,FALSE)),IF(AND($A69=TRUE,$C$2=2),(VLOOKUP($B69,'Rest of the UK Exports -Detail'!$A:$Q,E$6-2000,FALSE)),\"\"))","v":2045},{"$f":"IF(AND($A69=TRUE,$C$2=1),(VLOOKUP($B69,'International Exports-Detailed'!$A:$Q,F$6-2000,FALSE)),IF(AND($A69=TRUE,$C$2=2),(VLOOKUP($B69,'Rest of the UK Exports -Detail'!$A:$Q,F$6-2000,FALSE)),\"\"))","v":2155},{"$f":"IF(AND($A69=TRUE,$C$2=1),(VLOOKUP($B69,'International Exports-Detailed'!$A:$Q,G$6-2000,FALSE)),IF(AND($A69=TRUE,$C$2=2),(VLOOKUP($B69,'Rest of the UK Exports -Detail'!$A:$Q,G$6-2000,FALSE)),\"\"))","v":2310},{"$f":"IF(AND($A69=TRUE,$C$2=1),(VLOOKUP($B69,'International Exports-Detailed'!$A:$Q,H$6-2000,FALSE)),IF(AND($A69=TRUE,$C$2=2),(VLOOKUP($B69,'Rest of the UK Exports -Detail'!$A:$Q,H$6-2000,FALSE)),\"\"))","v":2510},{"$f":"IF(AND($A69=TRUE,$C$2=1),(VLOOKUP($B69,'International Exports-Detailed'!$A:$Q,I$6-2000,FALSE)),IF(AND($A69=TRUE,$C$2=2),(VLOOKUP($B69,'Rest of the UK Exports -Detail'!$A:$Q,I$6-2000,FALSE)),\"\"))","v":2990},{"$f":"IF(AND($A69=TRUE,$C$2=1),(VLOOKUP($B69,'International Exports-Detailed'!$A:$Q,J$6-2000,FALSE)),IF(AND($A69=TRUE,$C$2=2),(VLOOKUP($B69,'Rest of the UK Exports -Detail'!$A:$Q,J$6-2000,FALSE)),\"\"))","v":2320},{"$f":"IF(AND($A69=TRUE,$C$2=1),(VLOOKUP($B69,'International Exports-Detailed'!$A:$Q,K$6-2000,FALSE)),IF(AND($A69=TRUE,$C$2=2),(VLOOKUP($B69,'Rest of the UK Exports -Detail'!$A:$Q,K$6-2000,FALSE)),\"\"))","v":2550},{"$f":"IF(AND($A69=TRUE,$C$2=1),(VLOOKUP($B69,'International Exports-Detailed'!$A:$Q,L$6-2000,FALSE)),IF(AND($A69=TRUE,$C$2=2),(VLOOKUP($B69,'Rest of the UK Exports -Detail'!$A:$Q,L$6-2000,FALSE)),\"\"))","v":3345},{"$f":"IF(AND($A69=TRUE,$C$2=1),(VLOOKUP($B69,'International Exports-Detailed'!$A:$Q,M$6-2000,FALSE)),IF(AND($A69=TRUE,$C$2=2),(VLOOKUP($B69,'Rest of the UK Exports -Detail'!$A:$Q,M$6-2000,FALSE)),\"\"))","v":2825},{"$f":"IF(AND($A69=TRUE,$C$2=1),(VLOOKUP($B69,'International Exports-Detailed'!$A:$Q,N$6-2000,FALSE)),IF(AND($A69=TRUE,$C$2=2),(VLOOKUP($B69,'Rest of the UK Exports -Detail'!$A:$Q,N$6-2000,FALSE)),\"\"))","v":2755},{"$f":"IF(AND($A69=TRUE,$C$2=1),(VLOOKUP($B69,'International Exports-Detailed'!$A:$Q,O$6-2000,FALSE)),IF(AND($A69=TRUE,$C$2=2),(VLOOKUP($B69,'Rest of the UK Exports -Detail'!$A:$Q,O$6-2000,FALSE)),\"\"))","v":2130},{"$f":"IF(AND($A69=TRUE,$C$2=1),(VLOOKUP($B69,'International Exports-Detailed'!$A:$Q,P$6-2000,FALSE)),IF(AND($A69=TRUE,$C$2=2),(VLOOKUP($B69,'Rest of the UK Exports -Detail'!$A:$Q,P$6-2000,FALSE)),\"\"))","v":2580},{"$f":"IF(AND($A69=TRUE,$C$2=1),(VLOOKUP($B69,'International Exports-Detailed'!$A:$Q,Q$6-2000,FALSE)),IF(AND($A69=TRUE,$C$2=2),(VLOOKUP($B69,'Rest of the UK Exports -Detail'!$A:$Q,Q$6-2000,FALSE)),\"\"))","v":2345},{"$f":"IF(AND($A69=TRUE,$C$2=1),(VLOOKUP($B69,'International Exports-Detailed'!$A:$Q,R$6-2000,FALSE)),IF(AND($A69=TRUE,$C$2=2),(VLOOKUP($B69,'Rest of the UK Exports -Detail'!$A:$Q,R$6-2000,FALSE)),\"\"))","v":3160}]
[]
[null,"Forest and Timber Technologies Chart"]
[null,null,2002,2003,2004,2005,2006,2007,2008,2009,2010,2011,2012,2013,2014,2015,2016,2017]
[true,"Forest and Timber Technologies",{"$f":"IF(AND($A73=TRUE,$C$2=1),(VLOOKUP($B73,'International Exports-Detailed'!$A:$Q,C$6-2000,FALSE)),IF(AND($A73=TRUE,$C$2=2),(VLOOKUP($B73,'Rest of the UK Exports -Detail'!$A:$Q,C$6-2000,FALSE)),\"\"))","v":305},{"$f":"IF(AND($A73=TRUE,$C$2=1),(VLOOKUP($B73,'International Exports-Detailed'!$A:$Q,D$6-2000,FALSE)),IF(AND($A73=TRUE,$C$2=2),(VLOOKUP($B73,'Rest of the UK Exports -Detail'!$A:$Q,D$6-2000,FALSE)),\"\"))","v":335},{"$f":"IF(AND($A73=TRUE,$C$2=1),(VLOOKUP($B73,'International Exports-Detailed'!$A:$Q,E$6-2000,FALSE)),IF(AND($A73=TRUE,$C$2=2),(VLOOKUP($B73,'Rest of the UK Exports -Detail'!$A:$Q,E$6-2000,FALSE)),\"\"))","v":385},{"$f":"IF(AND($A73=TRUE,$C$2=1),(VLOOKUP($B73,'International Exports-Detailed'!$A:$Q,F$6-2000,FALSE)),IF(AND($A73=TRUE,$C$2=2),(VLOOKUP($B73,'Rest of the UK Exports -Detail'!$A:$Q,F$6-2000,FALSE)),\"\"))","v":375},{"$f":"IF(AND($A73=TRUE,$C$2=1),(VLOOKUP($B73,'International Exports-Detailed'!$A:$Q,G$6-2000,FALSE)),IF(AND($A73=TRUE,$C$2=2),(VLOOKUP($B73,'Rest of the UK Exports -Detail'!$A:$Q,G$6-2000,FALSE)),\"\"))","v":345},{"$f":"IF(AND($A73=TRUE,$C$2=1),(VLOOKUP($B73,'International Exports-Detailed'!$A:$Q,H$6-2000,FALSE)),IF(AND($A73=TRUE,$C$2=2),(VLOOKUP($B73,'Rest of the UK Exports -Detail'!$A:$Q,H$6-2000,FALSE)),\"\"))","v":330},{"$f":"IF(AND($A73=TRUE,$C$2=1),(VLOOKUP($B73,'International Exports-Detailed'!$A:$Q,I$6-2000,FALSE)),IF(AND($A73=TRUE,$C$2=2),(VLOOKUP($B73,'Rest of the UK Exports -Detail'!$A:$Q,I$6-2000,FALSE)),\"\"))","v":340},{"$f":"IF(AND($A73=TRUE,$C$2=1),(VLOOKUP($B73,'International Exports-Detailed'!$A:$Q,J$6-2000,FALSE)),IF(AND($A73=TRUE,$C$2=2),(VLOOKUP($B73,'Rest of the UK Exports -Detail'!$A:$Q,J$6-2000,FALSE)),\"\"))","v":320},{"$f":"IF(AND($A73=TRUE,$C$2=1),(VLOOKUP($B73,'International Exports-Detailed'!$A:$Q,K$6-2000,FALSE)),IF(AND($A73=TRUE,$C$2=2),(VLOOKUP($B73,'Rest of the UK Exports -Detail'!$A:$Q,K$6-2000,FALSE)),\"\"))","v":365},{"$f":"IF(AND($A73=TRUE,$C$2=1),(VLOOKUP($B73,'International Exports-Detailed'!$A:$Q,L$6-2000,FALSE)),IF(AND($A73=TRUE,$C$2=2),(VLOOKUP($B73,'Rest of the UK Exports -Detail'!$A:$Q,L$6-2000,FALSE)),\"\"))","v":350},{"$f":"IF(AND($A73=TRUE,$C$2=1),(VLOOKUP($B73,'International Exports-Detailed'!$A:$Q,M$6-2000,FALSE)),IF(AND($A73=TRUE,$C$2=2),(VLOOKUP($B73,'Rest of the UK Exports -Detail'!$A:$Q,M$6-2000,FALSE)),\"\"))","v":375},{"$f":"IF(AND($A73=TRUE,$C$2=1),(VLOOKUP($B73,'International Exports-Detailed'!$A:$Q,N$6-2000,FALSE)),IF(AND($A73=TRUE,$C$2=2),(VLOOKUP($B73,'Rest of the UK Exports -Detail'!$A:$Q,N$6-2000,FALSE)),\"\"))","v":395},{"$f":"IF(AND($A73=TRUE,$C$2=1),(VLOOKUP($B73,'International Exports-Detailed'!$A:$Q,O$6-2000,FALSE)),IF(AND($A73=TRUE,$C$2=2),(VLOOKUP($B73,'Rest of the UK Exports -Detail'!$A:$Q,O$6-2000,FALSE)),\"\"))","v":335},{"$f":"IF(AND($A73=TRUE,$C$2=1),(VLOOKUP($B73,'International Exports-Detailed'!$A:$Q,P$6-2000,FALSE)),IF(AND($A73=TRUE,$C$2=2),(VLOOKUP($B73,'Rest of the UK Exports -Detail'!$A:$Q,P$6-2000,FALSE)),\"\"))","v":435},{"$f":"IF(AND($A73=TRUE,$C$2=1),(VLOOKUP($B73,'International Exports-Detailed'!$A:$Q,Q$6-2000,FALSE)),IF(AND($A73=TRUE,$C$2=2),(VLOOKUP($B73,'Rest of the UK Exports -Detail'!$A:$Q,Q$6-2000,FALSE)),\"\"))","v":370},{"$f":"IF(AND($A73=TRUE,$C$2=1),(VLOOKUP($B73,'International Exports-Detailed'!$A:$Q,R$6-2000,FALSE)),IF(AND($A73=TRUE,$C$2=2),(VLOOKUP($B73,'Rest of the UK Exports -Detail'!$A:$Q,R$6-2000,FALSE)),\"\"))","v":290}]
[]
[null,"Textiles Chart"]
[null,null,2002,2003,2004,2005,2006,2007,2008,2009,2010,2011,2012,2013,2014,2015,2016,2017]
[true,"Textiles",{"$f":"IF(AND($A77=TRUE,$C$2=1),(VLOOKUP($B77,'International Exports-Detailed'!$A:$Q,C$6-2000,FALSE)),IF(AND($A77=TRUE,$C$2=2),(VLOOKUP($B77,'Rest of the UK Exports -Detail'!$A:$Q,C$6-2000,FALSE)),\"\"))","v":395},{"$f":"IF(AND($A77=TRUE,$C$2=1),(VLOOKUP($B77,'International Exports-Detailed'!$A:$Q,D$6-2000,FALSE)),IF(AND($A77=TRUE,$C$2=2),(VLOOKUP($B77,'Rest of the UK Exports -Detail'!$A:$Q,D$6-2000,FALSE)),\"\"))","v":390},{"$f":"IF(AND($A77=TRUE,$C$2=1),(VLOOKUP($B77,'International Exports-Detailed'!$A:$Q,E$6-2000,FALSE)),IF(AND($A77=TRUE,$C$2=2),(VLOOKUP($B77,'Rest of the UK Exports -Detail'!$A:$Q,E$6-2000,FALSE)),\"\"))","v":395},{"$f":"IF(AND($A77=TRUE,$C$2=1),(VLOOKUP($B77,'International Exports-Detailed'!$A:$Q,F$6-2000,FALSE)),IF(AND($A77=TRUE,$C$2=2),(VLOOKUP($B77,'Rest of the UK Exports -Detail'!$A:$Q,F$6-2000,FALSE)),\"\"))","v":375},{"$f":"IF(AND($A77=TRUE,$C$2=1),(VLOOKUP($B77,'International Exports-Detailed'!$A:$Q,G$6-2000,FALSE)),IF(AND($A77=TRUE,$C$2=2),(VLOOKUP($B77,'Rest of the UK Exports -Detail'!$A:$Q,G$6-2000,FALSE)),\"\"))","v":390},{"$f":"IF(AND($A77=TRUE,$C$2=1),(VLOOKUP($B77,'International Exports-Detailed'!$A:$Q,H$6-2000,FALSE)),IF(AND($A77=TRUE,$C$2=2),(VLOOKUP($B77,'Rest of the UK Exports -Detail'!$A:$Q,H$6-2000,FALSE)),\"\"))","v":340},{"$f":"IF(AND($A77=TRUE,$C$2=1),(VLOOKUP($B77,'International Exports-Detailed'!$A:$Q,I$6-2000,FALSE)),IF(AND($A77=TRUE,$C$2=2),(VLOOKUP($B77,'Rest of the UK Exports -Detail'!$A:$Q,I$6-2000,FALSE)),\"\"))","v":340},{"$f":"IF(AND($A77=TRUE,$C$2=1),(VLOOKUP($B77,'International Exports-Detailed'!$A:$Q,J$6-2000,FALSE)),IF(AND($A77=TRUE,$C$2=2),(VLOOKUP($B77,'Rest of the UK Exports -Detail'!$A:$Q,J$6-2000,FALSE)),\"\"))","v":295},{"$f":"IF(AND($A77=TRUE,$C$2=1),(VLOOKUP($B77,'International Exports-Detailed'!$A:$Q,K$6-2000,FALSE)),IF(AND($A77=TRUE,$C$2=2),(VLOOKUP($B77,'Rest of the UK Exports -Detail'!$A:$Q,K$6-2000,FALSE)),\"\"))","v":290},{"$f":"IF(AND($A77=TRUE,$C$2=1),(VLOOKUP($B77,'International Exports-Detailed'!$A:$Q,L$6-2000,FALSE)),IF(AND($A77=TRUE,$C$2=2),(VLOOKUP($B77,'Rest of the UK Exports -Detail'!$A:$Q,L$6-2000,FALSE)),\"\"))","v":350},{"$f":"IF(AND($A77=TRUE,$C$2=1),(VLOOKUP($B77,'International Exports-Detailed'!$A:$Q,M$6-2000,FALSE)),IF(AND($A77=TRUE,$C$2=2),(VLOOKUP($B77,'Rest of the UK Exports -Detail'!$A:$Q,M$6-2000,FALSE)),\"\"))","v":370},{"$f":"IF(AND($A77=TRUE,$C$2=1),(VLOOKUP($B77,'International Exports-Detailed'!$A:$Q,N$6-2000,FALSE)),IF(AND($A77=TRUE,$C$2=2),(VLOOKUP($B77,'Rest of the UK Exports -Detail'!$A:$Q,N$6-2000,FALSE)),\"\"))","v":360},{"$f":"IF(AND($A77=TRUE,$C$2=1),(VLOOKUP($B77,'International Exports-Detailed'!$A:$Q,O$6-2000,FALSE)),IF(AND($A77=TRUE,$C$2=2),(VLOOKUP($B77,'Rest of the UK Exports -Detail'!$A:$Q,O$6-2000,FALSE)),\"\"))","v":360},{"$f":"IF(AND($A77=TRUE,$C$2=1),(VLOOKUP($B77,'International Exports-Detailed'!$A:$Q,P$6-2000,FALSE)),IF(AND($A77=TRUE,$C$2=2),(VLOOKUP($B77,'Rest of the UK Exports -Detail'!$A:$Q,P$6-2000,FALSE)),\"\"))","v":375},{"$f":"IF(AND($A77=TRUE,$C$2=1),(VLOOKUP($B77,'International Exports-Detailed'!$A:$Q,Q$6-2000,FALSE)),IF(AND($A77=TRUE,$C$2=2),(VLOOKUP($B77,'Rest of the UK Exports -Detail'!$A:$Q,Q$6-2000,FALSE)),\"\"))","v":340},{"$f":"IF(AND($A77=TRUE,$C$2=1),(VLOOKUP($B77,'International Exports-Detailed'!$A:$Q,R$6-2000,FALSE)),IF(AND($A77=TRUE,$C$2=2),(VLOOKUP($B77,'Rest of the UK Exports -Detail'!$A:$Q,R$6-2000,FALSE)),\"\"))","v":325}]
[]
[null,"Sustainable Tourism Chart"]
[null,null,2002,2003,2004,2005,2006,2007,2008,2009,2010,2011,2012,2013,2014,2015,2016,2017]
[true,"Sustainable Tourism",{"$f":"IF(AND($A81=TRUE,$C$2=1),(VLOOKUP($B81,'International Exports-Detailed'!$A:$Q,C$6-2000,FALSE)),IF(AND($A81=TRUE,$C$2=2),(VLOOKUP($B81,'Rest of the UK Exports -Detail'!$A:$Q,C$6-2000,FALSE)),\"\"))","v":175},{"$f":"IF(AND($A81=TRUE,$C$2=1),(VLOOKUP($B81,'International Exports-Detailed'!$A:$Q,D$6-2000,FALSE)),IF(AND($A81=TRUE,$C$2=2),(VLOOKUP($B81,'Rest of the UK Exports -Detail'!$A:$Q,D$6-2000,FALSE)),\"\"))","v":280},{"$f":"IF(AND($A81=TRUE,$C$2=1),(VLOOKUP($B81,'International Exports-Detailed'!$A:$Q,E$6-2000,FALSE)),IF(AND($A81=TRUE,$C$2=2),(VLOOKUP($B81,'Rest of the UK Exports -Detail'!$A:$Q,E$6-2000,FALSE)),\"\"))","v":265},{"$f":"IF(AND($A81=TRUE,$C$2=1),(VLOOKUP($B81,'International Exports-Detailed'!$A:$Q,F$6-2000,FALSE)),IF(AND($A81=TRUE,$C$2=2),(VLOOKUP($B81,'Rest of the UK Exports -Detail'!$A:$Q,F$6-2000,FALSE)),\"\"))","v":285},{"$f":"IF(AND($A81=TRUE,$C$2=1),(VLOOKUP($B81,'International Exports-Detailed'!$A:$Q,G$6-2000,FALSE)),IF(AND($A81=TRUE,$C$2=2),(VLOOKUP($B81,'Rest of the UK Exports -Detail'!$A:$Q,G$6-2000,FALSE)),\"\"))","v":320},{"$f":"IF(AND($A81=TRUE,$C$2=1),(VLOOKUP($B81,'International Exports-Detailed'!$A:$Q,H$6-2000,FALSE)),IF(AND($A81=TRUE,$C$2=2),(VLOOKUP($B81,'Rest of the UK Exports -Detail'!$A:$Q,H$6-2000,FALSE)),\"\"))","v":280},{"$f":"IF(AND($A81=TRUE,$C$2=1),(VLOOKUP($B81,'International Exports-Detailed'!$A:$Q,I$6-2000,FALSE)),IF(AND($A81=TRUE,$C$2=2),(VLOOKUP($B81,'Rest of the UK Exports -Detail'!$A:$Q,I$6-2000,FALSE)),\"\"))","v":280},{"$f":"IF(AND($A81=TRUE,$C$2=1),(VLOOKUP($B81,'International Exports-Detailed'!$A:$Q,J$6-2000,FALSE)),IF(AND($A81=TRUE,$C$2=2),(VLOOKUP($B81,'Rest of the UK Exports -Detail'!$A:$Q,J$6-2000,FALSE)),\"\"))","v":280},{"$f":"IF(AND($A81=TRUE,$C$2=1),(VLOOKUP($B81,'International Exports-Detailed'!$A:$Q,K$6-2000,FALSE)),IF(AND($A81=TRUE,$C$2=2),(VLOOKUP($B81,'Rest of the UK Exports -Detail'!$A:$Q,K$6-2000,FALSE)),\"\"))","v":265},{"$f":"IF(AND($A81=TRUE,$C$2=1),(VLOOKUP($B81,'International Exports-Detailed'!$A:$Q,L$6-2000,FALSE)),IF(AND($A81=TRUE,$C$2=2),(VLOOKUP($B81,'Rest of the UK Exports -Detail'!$A:$Q,L$6-2000,FALSE)),\"\"))","v":305},{"$f":"IF(AND($A81=TRUE,$C$2=1),(VLOOKUP($B81,'International Exports-Detailed'!$A:$Q,M$6-2000,FALSE)),IF(AND($A81=TRUE,$C$2=2),(VLOOKUP($B81,'Rest of the UK Exports -Detail'!$A:$Q,M$6-2000,FALSE)),\"\"))","v":285},{"$f":"IF(AND($A81=TRUE,$C$2=1),(VLOOKUP($B81,'International Exports-Detailed'!$A:$Q,N$6-2000,FALSE)),IF(AND($A81=TRUE,$C$2=2),(VLOOKUP($B81,'Rest of the UK Exports -Detail'!$A:$Q,N$6-2000,FALSE)),\"\"))","v":290},{"$f":"IF(AND($A81=TRUE,$C$2=1),(VLOOKUP($B81,'International Exports-Detailed'!$A:$Q,O$6-2000,FALSE)),IF(AND($A81=TRUE,$C$2=2),(VLOOKUP($B81,'Rest of the UK Exports -Detail'!$A:$Q,O$6-2000,FALSE)),\"\"))","v":390},{"$f":"IF(AND($A81=TRUE,$C$2=1),(VLOOKUP($B81,'International Exports-Detailed'!$A:$Q,P$6-2000,FALSE)),IF(AND($A81=TRUE,$C$2=2),(VLOOKUP($B81,'Rest of the UK Exports -Detail'!$A:$Q,P$6-2000,FALSE)),\"\"))","v":360},{"$f":"IF(AND($A81=TRUE,$C$2=1),(VLOOKUP($B81,'International Exports-Detailed'!$A:$Q,Q$6-2000,FALSE)),IF(AND($A81=TRUE,$C$2=2),(VLOOKUP($B81,'Rest of the UK Exports -Detail'!$A:$Q,Q$6-2000,FALSE)),\"\"))","v":330},{"$f":"IF(AND($A81=TRUE,$C$2=1),(VLOOKUP($B81,'International Exports-Detailed'!$A:$Q,R$6-2000,FALSE)),IF(AND($A81=TRUE,$C$2=2),(VLOOKUP($B81,'Rest of the UK Exports -Detail'!$A:$Q,R$6-2000,FALSE)),\"\"))","v":335}]
[]
[]
[null,"Wholesale, Retail Trade; repair of motor vehicles and motorcycles Chart"]
[null,null,2002,2003,2004,2005,2006,2007,2008,2009,2010,2011,2012,2013,2014,2015,2016,2017]
[true,"Wholesale and Retail Trade",{"$f":"IF(AND($A86=TRUE,$C$2=1),(VLOOKUP($B86,'International Exports-Detailed'!$A:$Q,C$6-2000,FALSE)),IF(AND($A86=TRUE,$C$2=2),(VLOOKUP($B86,'Rest of the UK Exports -Detail'!$A:$Q,C$6-2000,FALSE)),\"\"))","v":995},{"$f":"IF(AND($A86=TRUE,$C$2=1),(VLOOKUP($B86,'International Exports-Detailed'!$A:$Q,D$6-2000,FALSE)),IF(AND($A86=TRUE,$C$2=2),(VLOOKUP($B86,'Rest of the UK Exports -Detail'!$A:$Q,D$6-2000,FALSE)),\"\"))","v":960},{"$f":"IF(AND($A86=TRUE,$C$2=1),(VLOOKUP($B86,'International Exports-Detailed'!$A:$Q,E$6-2000,FALSE)),IF(AND($A86=TRUE,$C$2=2),(VLOOKUP($B86,'Rest of the UK Exports -Detail'!$A:$Q,E$6-2000,FALSE)),\"\"))","v":1095},{"$f":"IF(AND($A86=TRUE,$C$2=1),(VLOOKUP($B86,'International Exports-Detailed'!$A:$Q,F$6-2000,FALSE)),IF(AND($A86=TRUE,$C$2=2),(VLOOKUP($B86,'Rest of the UK Exports -Detail'!$A:$Q,F$6-2000,FALSE)),\"\"))","v":1065},{"$f":"IF(AND($A86=TRUE,$C$2=1),(VLOOKUP($B86,'International Exports-Detailed'!$A:$Q,G$6-2000,FALSE)),IF(AND($A86=TRUE,$C$2=2),(VLOOKUP($B86,'Rest of the UK Exports -Detail'!$A:$Q,G$6-2000,FALSE)),\"\"))","v":1395},{"$f":"IF(AND($A86=TRUE,$C$2=1),(VLOOKUP($B86,'International Exports-Detailed'!$A:$Q,H$6-2000,FALSE)),IF(AND($A86=TRUE,$C$2=2),(VLOOKUP($B86,'Rest of the UK Exports -Detail'!$A:$Q,H$6-2000,FALSE)),\"\"))","v":1560},{"$f":"IF(AND($A86=TRUE,$C$2=1),(VLOOKUP($B86,'International Exports-Detailed'!$A:$Q,I$6-2000,FALSE)),IF(AND($A86=TRUE,$C$2=2),(VLOOKUP($B86,'Rest of the UK Exports -Detail'!$A:$Q,I$6-2000,FALSE)),\"\"))","v":1605},{"$f":"IF(AND($A86=TRUE,$C$2=1),(VLOOKUP($B86,'International Exports-Detailed'!$A:$Q,J$6-2000,FALSE)),IF(AND($A86=TRUE,$C$2=2),(VLOOKUP($B86,'Rest of the UK Exports -Detail'!$A:$Q,J$6-2000,FALSE)),\"\"))","v":1460},{"$f":"IF(AND($A86=TRUE,$C$2=1),(VLOOKUP($B86,'International Exports-Detailed'!$A:$Q,K$6-2000,FALSE)),IF(AND($A86=TRUE,$C$2=2),(VLOOKUP($B86,'Rest of the UK Exports -Detail'!$A:$Q,K$6-2000,FALSE)),\"\"))","v":1365},{"$f":"IF(AND($A86=TRUE,$C$2=1),(VLOOKUP($B86,'International Exports-Detailed'!$A:$Q,L$6-2000,FALSE)),IF(AND($A86=TRUE,$C$2=2),(VLOOKUP($B86,'Rest of the UK Exports -Detail'!$A:$Q,L$6-2000,FALSE)),\"\"))","v":1595},{"$f":"IF(AND($A86=TRUE,$C$2=1),(VLOOKUP($B86,'International Exports-Detailed'!$A:$Q,M$6-2000,FALSE)),IF(AND($A86=TRUE,$C$2=2),(VLOOKUP($B86,'Rest of the UK Exports -Detail'!$A:$Q,M$6-2000,FALSE)),\"\"))","v":1850},{"$f":"IF(AND($A86=TRUE,$C$2=1),(VLOOKUP($B86,'International Exports-Detailed'!$A:$Q,N$6-2000,FALSE)),IF(AND($A86=TRUE,$C$2=2),(VLOOKUP($B86,'Rest of the UK Exports -Detail'!$A:$Q,N$6-2000,FALSE)),\"\"))","v":1855},{"$f":"IF(AND($A86=TRUE,$C$2=1),(VLOOKUP($B86,'International Exports-Detailed'!$A:$Q,O$6-2000,FALSE)),IF(AND($A86=TRUE,$C$2=2),(VLOOKUP($B86,'Rest of the UK Exports -Detail'!$A:$Q,O$6-2000,FALSE)),\"\"))","v":1690},{"$f":"IF(AND($A86=TRUE,$C$2=1),(VLOOKUP($B86,'International Exports-Detailed'!$A:$Q,P$6-2000,FALSE)),IF(AND($A86=TRUE,$C$2=2),(VLOOKUP($B86,'Rest of the UK Exports -Detail'!$A:$Q,P$6-2000,FALSE)),\"\"))","v":1745},{"$f":"IF(AND($A86=TRUE,$C$2=1),(VLOOKUP($B86,'International Exports-Detailed'!$A:$Q,Q$6-2000,FALSE)),IF(AND($A86=TRUE,$C$2=2),(VLOOKUP($B86,'Rest of the UK Exports -Detail'!$A:$Q,Q$6-2000,FALSE)),\"\"))","v":2015},{"$f":"IF(AND($A86=TRUE,$C$2=1),(VLOOKUP($B86,'International Exports-Detailed'!$A:$Q,R$6-2000,FALSE)),IF(AND($A86=TRUE,$C$2=2),(VLOOKUP($B86,'Rest of the UK Exports -Detail'!$A:$Q,R$6-2000,FALSE)),\"\"))","v":1890}]
[true,"Wholesale Trade",{"$f":"IF(AND($A87=TRUE,$C$2=1),(VLOOKUP($B87,'International Exports-Detailed'!$A:$Q,C$6-2000,FALSE)),IF(AND($A87=TRUE,$C$2=2),(VLOOKUP($B87,'Rest of the UK Exports -Detail'!$A:$Q,C$6-2000,FALSE)),\"\"))","v":805},{"$f":"IF(AND($A87=TRUE,$C$2=1),(VLOOKUP($B87,'International Exports-Detailed'!$A:$Q,D$6-2000,FALSE)),IF(AND($A87=TRUE,$C$2=2),(VLOOKUP($B87,'Rest of the UK Exports -Detail'!$A:$Q,D$6-2000,FALSE)),\"\"))","v":750},{"$f":"IF(AND($A87=TRUE,$C$2=1),(VLOOKUP($B87,'International Exports-Detailed'!$A:$Q,E$6-2000,FALSE)),IF(AND($A87=TRUE,$C$2=2),(VLOOKUP($B87,'Rest of the UK Exports -Detail'!$A:$Q,E$6-2000,FALSE)),\"\"))","v":930},{"$f":"IF(AND($A87=TRUE,$C$2=1),(VLOOKUP($B87,'International Exports-Detailed'!$A:$Q,F$6-2000,FALSE)),IF(AND($A87=TRUE,$C$2=2),(VLOOKUP($B87,'Rest of the UK Exports -Detail'!$A:$Q,F$6-2000,FALSE)),\"\"))","v":905},{"$f":"IF(AND($A87=TRUE,$C$2=1),(VLOOKUP($B87,'International Exports-Detailed'!$A:$Q,G$6-2000,FALSE)),IF(AND($A87=TRUE,$C$2=2),(VLOOKUP($B87,'Rest of the UK Exports -Detail'!$A:$Q,G$6-2000,FALSE)),\"\"))","v":1140},{"$f":"IF(AND($A87=TRUE,$C$2=1),(VLOOKUP($B87,'International Exports-Detailed'!$A:$Q,H$6-2000,FALSE)),IF(AND($A87=TRUE,$C$2=2),(VLOOKUP($B87,'Rest of the UK Exports -Detail'!$A:$Q,H$6-2000,FALSE)),\"\"))","v":1335},{"$f":"IF(AND($A87=TRUE,$C$2=1),(VLOOKUP($B87,'International Exports-Detailed'!$A:$Q,I$6-2000,FALSE)),IF(AND($A87=TRUE,$C$2=2),(VLOOKUP($B87,'Rest of the UK Exports -Detail'!$A:$Q,I$6-2000,FALSE)),\"\"))","v":1375},{"$f":"IF(AND($A87=TRUE,$C$2=1),(VLOOKUP($B87,'International Exports-Detailed'!$A:$Q,J$6-2000,FALSE)),IF(AND($A87=TRUE,$C$2=2),(VLOOKUP($B87,'Rest of the UK Exports -Detail'!$A:$Q,J$6-2000,FALSE)),\"\"))","v":1215},{"$f":"IF(AND($A87=TRUE,$C$2=1),(VLOOKUP($B87,'International Exports-Detailed'!$A:$Q,K$6-2000,FALSE)),IF(AND($A87=TRUE,$C$2=2),(VLOOKUP($B87,'Rest of the UK Exports -Detail'!$A:$Q,K$6-2000,FALSE)),\"\"))","v":1105},{"$f":"IF(AND($A87=TRUE,$C$2=1),(VLOOKUP($B87,'International Exports-Detailed'!$A:$Q,L$6-2000,FALSE)),IF(AND($A87=TRUE,$C$2=2),(VLOOKUP($B87,'Rest of the UK Exports -Detail'!$A:$Q,L$6-2000,FALSE)),\"\"))","v":1280},{"$f":"IF(AND($A87=TRUE,$C$2=1),(VLOOKUP($B87,'International Exports-Detailed'!$A:$Q,M$6-2000,FALSE)),IF(AND($A87=TRUE,$C$2=2),(VLOOKUP($B87,'Rest of the UK Exports -Detail'!$A:$Q,M$6-2000,FALSE)),\"\"))","v":1470},{"$f":"IF(AND($A87=TRUE,$C$2=1),(VLOOKUP($B87,'International Exports-Detailed'!$A:$Q,N$6-2000,FALSE)),IF(AND($A87=TRUE,$C$2=2),(VLOOKUP($B87,'Rest of the UK Exports -Detail'!$A:$Q,N$6-2000,FALSE)),\"\"))","v":1490},{"$f":"IF(AND($A87=TRUE,$C$2=1),(VLOOKUP($B87,'International Exports-Detailed'!$A:$Q,O$6-2000,FALSE)),IF(AND($A87=TRUE,$C$2=2),(VLOOKUP($B87,'Rest of the UK Exports -Detail'!$A:$Q,O$6-2000,FALSE)),\"\"))","v":1370},{"$f":"IF(AND($A87=TRUE,$C$2=1),(VLOOKUP($B87,'International Exports-Detailed'!$A:$Q,P$6-2000,FALSE)),IF(AND($A87=TRUE,$C$2=2),(VLOOKUP($B87,'Rest of the UK Exports -Detail'!$A:$Q,P$6-2000,FALSE)),\"\"))","v":1415},{"$f":"IF(AND($A87=TRUE,$C$2=1),(VLOOKUP($B87,'International Exports-Detailed'!$A:$Q,Q$6-2000,FALSE)),IF(AND($A87=TRUE,$C$2=2),(VLOOKUP($B87,'Rest of the UK Exports -Detail'!$A:$Q,Q$6-2000,FALSE)),\"\"))","v":1700},{"$f":"IF(AND($A87=TRUE,$C$2=1),(VLOOKUP($B87,'International Exports-Detailed'!$A:$Q,R$6-2000,FALSE)),IF(AND($A87=TRUE,$C$2=2),(VLOOKUP($B87,'Rest of the UK Exports -Detail'!$A:$Q,R$6-2000,FALSE)),\"\"))","v":1605}]
[true,"Retail Trade",{"$f":"IF(AND($A88=TRUE,$C$2=1),(VLOOKUP($B88,'International Exports-Detailed'!$A:$Q,C$6-2000,FALSE)),IF(AND($A88=TRUE,$C$2=2),(VLOOKUP($B88,'Rest of the UK Exports -Detail'!$A:$Q,C$6-2000,FALSE)),\"\"))","v":165},{"$f":"IF(AND($A88=TRUE,$C$2=1),(VLOOKUP($B88,'International Exports-Detailed'!$A:$Q,D$6-2000,FALSE)),IF(AND($A88=TRUE,$C$2=2),(VLOOKUP($B88,'Rest of the UK Exports -Detail'!$A:$Q,D$6-2000,FALSE)),\"\"))","v":195},{"$f":"IF(AND($A88=TRUE,$C$2=1),(VLOOKUP($B88,'International Exports-Detailed'!$A:$Q,E$6-2000,FALSE)),IF(AND($A88=TRUE,$C$2=2),(VLOOKUP($B88,'Rest of the UK Exports -Detail'!$A:$Q,E$6-2000,FALSE)),\"\"))","v":150},{"$f":"IF(AND($A88=TRUE,$C$2=1),(VLOOKUP($B88,'International Exports-Detailed'!$A:$Q,F$6-2000,FALSE)),IF(AND($A88=TRUE,$C$2=2),(VLOOKUP($B88,'Rest of the UK Exports -Detail'!$A:$Q,F$6-2000,FALSE)),\"\"))","v":145},{"$f":"IF(AND($A88=TRUE,$C$2=1),(VLOOKUP($B88,'International Exports-Detailed'!$A:$Q,G$6-2000,FALSE)),IF(AND($A88=TRUE,$C$2=2),(VLOOKUP($B88,'Rest of the UK Exports -Detail'!$A:$Q,G$6-2000,FALSE)),\"\"))","v":175},{"$f":"IF(AND($A88=TRUE,$C$2=1),(VLOOKUP($B88,'International Exports-Detailed'!$A:$Q,H$6-2000,FALSE)),IF(AND($A88=TRUE,$C$2=2),(VLOOKUP($B88,'Rest of the UK Exports -Detail'!$A:$Q,H$6-2000,FALSE)),\"\"))","v":180},{"$f":"IF(AND($A88=TRUE,$C$2=1),(VLOOKUP($B88,'International Exports-Detailed'!$A:$Q,I$6-2000,FALSE)),IF(AND($A88=TRUE,$C$2=2),(VLOOKUP($B88,'Rest of the UK Exports -Detail'!$A:$Q,I$6-2000,FALSE)),\"\"))","v":185},{"$f":"IF(AND($A88=TRUE,$C$2=1),(VLOOKUP($B88,'International Exports-Detailed'!$A:$Q,J$6-2000,FALSE)),IF(AND($A88=TRUE,$C$2=2),(VLOOKUP($B88,'Rest of the UK Exports -Detail'!$A:$Q,J$6-2000,FALSE)),\"\"))","v":200},{"$f":"IF(AND($A88=TRUE,$C$2=1),(VLOOKUP($B88,'International Exports-Detailed'!$A:$Q,K$6-2000,FALSE)),IF(AND($A88=TRUE,$C$2=2),(VLOOKUP($B88,'Rest of the UK Exports -Detail'!$A:$Q,K$6-2000,FALSE)),\"\"))","v":205},{"$f":"IF(AND($A88=TRUE,$C$2=1),(VLOOKUP($B88,'International Exports-Detailed'!$A:$Q,L$6-2000,FALSE)),IF(AND($A88=TRUE,$C$2=2),(VLOOKUP($B88,'Rest of the UK Exports -Detail'!$A:$Q,L$6-2000,FALSE)),\"\"))","v":250},{"$f":"IF(AND($A88=TRUE,$C$2=1),(VLOOKUP($B88,'International Exports-Detailed'!$A:$Q,M$6-2000,FALSE)),IF(AND($A88=TRUE,$C$2=2),(VLOOKUP($B88,'Rest of the UK Exports -Detail'!$A:$Q,M$6-2000,FALSE)),\"\"))","v":305},{"$f":"IF(AND($A88=TRUE,$C$2=1),(VLOOKUP($B88,'International Exports-Detailed'!$A:$Q,N$6-2000,FALSE)),IF(AND($A88=TRUE,$C$2=2),(VLOOKUP($B88,'Rest of the UK Exports -Detail'!$A:$Q,N$6-2000,FALSE)),\"\"))","v":320},{"$f":"IF(AND($A88=TRUE,$C$2=1),(VLOOKUP($B88,'International Exports-Detailed'!$A:$Q,O$6-2000,FALSE)),IF(AND($A88=TRUE,$C$2=2),(VLOOKUP($B88,'Rest of the UK Exports -Detail'!$A:$Q,O$6-2000,FALSE)),\"\"))","v":280},{"$f":"IF(AND($A88=TRUE,$C$2=1),(VLOOKUP($B88,'International Exports-Detailed'!$A:$Q,P$6-2000,FALSE)),IF(AND($A88=TRUE,$C$2=2),(VLOOKUP($B88,'Rest of the UK Exports -Detail'!$A:$Q,P$6-2000,FALSE)),\"\"))","v":290},{"$f":"IF(AND($A88=TRUE,$C$2=1),(VLOOKUP($B88,'International Exports-Detailed'!$A:$Q,Q$6-2000,FALSE)),IF(AND($A88=TRUE,$C$2=2),(VLOOKUP($B88,'Rest of the UK Exports -Detail'!$A:$Q,Q$6-2000,FALSE)),\"\"))","v":270},{"$f":"IF(AND($A88=TRUE,$C$2=1),(VLOOKUP($B88,'International Exports-Detailed'!$A:$Q,R$6-2000,FALSE)),IF(AND($A88=TRUE,$C$2=2),(VLOOKUP($B88,'Rest of the UK Exports -Detail'!$A:$Q,R$6-2000,FALSE)),\"\"))","v":235}]
[true,"Trade and Repair of Vehicles",{"$f":"IF(AND($A89=TRUE,$C$2=1),(VLOOKUP($B89,'International Exports-Detailed'!$A:$Q,C$6-2000,FALSE)),IF(AND($A89=TRUE,$C$2=2),(VLOOKUP($B89,'Rest of the UK Exports -Detail'!$A:$Q,C$6-2000,FALSE)),\"\"))","v":20},{"$f":"IF(AND($A89=TRUE,$C$2=1),(VLOOKUP($B89,'International Exports-Detailed'!$A:$Q,D$6-2000,FALSE)),IF(AND($A89=TRUE,$C$2=2),(VLOOKUP($B89,'Rest of the UK Exports -Detail'!$A:$Q,D$6-2000,FALSE)),\"\"))","v":15},{"$f":"IF(AND($A89=TRUE,$C$2=1),(VLOOKUP($B89,'International Exports-Detailed'!$A:$Q,E$6-2000,FALSE)),IF(AND($A89=TRUE,$C$2=2),(VLOOKUP($B89,'Rest of the UK Exports -Detail'!$A:$Q,E$6-2000,FALSE)),\"\"))","v":15},{"$f":"IF(AND($A89=TRUE,$C$2=1),(VLOOKUP($B89,'International Exports-Detailed'!$A:$Q,F$6-2000,FALSE)),IF(AND($A89=TRUE,$C$2=2),(VLOOKUP($B89,'Rest of the UK Exports -Detail'!$A:$Q,F$6-2000,FALSE)),\"\"))","v":20},{"$f":"IF(AND($A89=TRUE,$C$2=1),(VLOOKUP($B89,'International Exports-Detailed'!$A:$Q,G$6-2000,FALSE)),IF(AND($A89=TRUE,$C$2=2),(VLOOKUP($B89,'Rest of the UK Exports -Detail'!$A:$Q,G$6-2000,FALSE)),\"\"))","v":75},{"$f":"IF(AND($A89=TRUE,$C$2=1),(VLOOKUP($B89,'International Exports-Detailed'!$A:$Q,H$6-2000,FALSE)),IF(AND($A89=TRUE,$C$2=2),(VLOOKUP($B89,'Rest of the UK Exports -Detail'!$A:$Q,H$6-2000,FALSE)),\"\"))","v":45},{"$f":"IF(AND($A89=TRUE,$C$2=1),(VLOOKUP($B89,'International Exports-Detailed'!$A:$Q,I$6-2000,FALSE)),IF(AND($A89=TRUE,$C$2=2),(VLOOKUP($B89,'Rest of the UK Exports -Detail'!$A:$Q,I$6-2000,FALSE)),\"\"))","v":45},{"$f":"IF(AND($A89=TRUE,$C$2=1),(VLOOKUP($B89,'International Exports-Detailed'!$A:$Q,J$6-2000,FALSE)),IF(AND($A89=TRUE,$C$2=2),(VLOOKUP($B89,'Rest of the UK Exports -Detail'!$A:$Q,J$6-2000,FALSE)),\"\"))","v":45},{"$f":"IF(AND($A89=TRUE,$C$2=1),(VLOOKUP($B89,'International Exports-Detailed'!$A:$Q,K$6-2000,FALSE)),IF(AND($A89=TRUE,$C$2=2),(VLOOKUP($B89,'Rest of the UK Exports -Detail'!$A:$Q,K$6-2000,FALSE)),\"\"))","v":50},{"$f":"IF(AND($A89=TRUE,$C$2=1),(VLOOKUP($B89,'International Exports-Detailed'!$A:$Q,L$6-2000,FALSE)),IF(AND($A89=TRUE,$C$2=2),(VLOOKUP($B89,'Rest of the UK Exports -Detail'!$A:$Q,L$6-2000,FALSE)),\"\"))","v":65},{"$f":"IF(AND($A89=TRUE,$C$2=1),(VLOOKUP($B89,'International Exports-Detailed'!$A:$Q,M$6-2000,FALSE)),IF(AND($A89=TRUE,$C$2=2),(VLOOKUP($B89,'Rest of the UK Exports -Detail'!$A:$Q,M$6-2000,FALSE)),\"\"))","v":75},{"$f":"IF(AND($A89=TRUE,$C$2=1),(VLOOKUP($B89,'International Exports-Detailed'!$A:$Q,N$6-2000,FALSE)),IF(AND($A89=TRUE,$C$2=2),(VLOOKUP($B89,'Rest of the UK Exports -Detail'!$A:$Q,N$6-2000,FALSE)),\"\"))","v":45},{"$f":"IF(AND($A89=TRUE,$C$2=1),(VLOOKUP($B89,'International Exports-Detailed'!$A:$Q,O$6-2000,FALSE)),IF(AND($A89=TRUE,$C$2=2),(VLOOKUP($B89,'Rest of the UK Exports -Detail'!$A:$Q,O$6-2000,FALSE)),\"\"))","v":40},{"$f":"IF(AND($A89=TRUE,$C$2=1),(VLOOKUP($B89,'International Exports-Detailed'!$A:$Q,P$6-2000,FALSE)),IF(AND($A89=TRUE,$C$2=2),(VLOOKUP($B89,'Rest of the UK Exports -Detail'!$A:$Q,P$6-2000,FALSE)),\"\"))","v":45},{"$f":"IF(AND($A89=TRUE,$C$2=1),(VLOOKUP($B89,'International Exports-Detailed'!$A:$Q,Q$6-2000,FALSE)),IF(AND($A89=TRUE,$C$2=2),(VLOOKUP($B89,'Rest of the UK Exports -Detail'!$A:$Q,Q$6-2000,FALSE)),\"\"))","v":45},{"$f":"IF(AND($A89=TRUE,$C$2=1),(VLOOKUP($B89,'International Exports-Detailed'!$A:$Q,R$6-2000,FALSE)),IF(AND($A89=TRUE,$C$2=2),(VLOOKUP($B89,'Rest of the UK Exports -Detail'!$A:$Q,R$6-2000,FALSE)),\"\"))","v":50}]
[]
[null,"Transport and Storage Chart"]
[null,null,2002,2003,2004,2005,2006,2007,2008,2009,2010,2011,2012,2013,2014,2015,2016,2017]
[true,"Transportation and Storage",{"$f":"IF(AND($A93=TRUE,$C$2=1),(VLOOKUP($B93,'International Exports-Detailed'!$A:$Q,C$6-2000,FALSE)),IF(AND($A93=TRUE,$C$2=2),(VLOOKUP($B93,'Rest of the UK Exports -Detail'!$A:$Q,C$6-2000,FALSE)),\"\"))","v":570},{"$f":"IF(AND($A93=TRUE,$C$2=1),(VLOOKUP($B93,'International Exports-Detailed'!$A:$Q,D$6-2000,FALSE)),IF(AND($A93=TRUE,$C$2=2),(VLOOKUP($B93,'Rest of the UK Exports -Detail'!$A:$Q,D$6-2000,FALSE)),\"\"))","v":680},{"$f":"IF(AND($A93=TRUE,$C$2=1),(VLOOKUP($B93,'International Exports-Detailed'!$A:$Q,E$6-2000,FALSE)),IF(AND($A93=TRUE,$C$2=2),(VLOOKUP($B93,'Rest of the UK Exports -Detail'!$A:$Q,E$6-2000,FALSE)),\"\"))","v":745},{"$f":"IF(AND($A93=TRUE,$C$2=1),(VLOOKUP($B93,'International Exports-Detailed'!$A:$Q,F$6-2000,FALSE)),IF(AND($A93=TRUE,$C$2=2),(VLOOKUP($B93,'Rest of the UK Exports -Detail'!$A:$Q,F$6-2000,FALSE)),\"\"))","v":580},{"$f":"IF(AND($A93=TRUE,$C$2=1),(VLOOKUP($B93,'International Exports-Detailed'!$A:$Q,G$6-2000,FALSE)),IF(AND($A93=TRUE,$C$2=2),(VLOOKUP($B93,'Rest of the UK Exports -Detail'!$A:$Q,G$6-2000,FALSE)),\"\"))","v":695},{"$f":"IF(AND($A93=TRUE,$C$2=1),(VLOOKUP($B93,'International Exports-Detailed'!$A:$Q,H$6-2000,FALSE)),IF(AND($A93=TRUE,$C$2=2),(VLOOKUP($B93,'Rest of the UK Exports -Detail'!$A:$Q,H$6-2000,FALSE)),\"\"))","v":675},{"$f":"IF(AND($A93=TRUE,$C$2=1),(VLOOKUP($B93,'International Exports-Detailed'!$A:$Q,I$6-2000,FALSE)),IF(AND($A93=TRUE,$C$2=2),(VLOOKUP($B93,'Rest of the UK Exports -Detail'!$A:$Q,I$6-2000,FALSE)),\"\"))","v":900},{"$f":"IF(AND($A93=TRUE,$C$2=1),(VLOOKUP($B93,'International Exports-Detailed'!$A:$Q,J$6-2000,FALSE)),IF(AND($A93=TRUE,$C$2=2),(VLOOKUP($B93,'Rest of the UK Exports -Detail'!$A:$Q,J$6-2000,FALSE)),\"\"))","v":870},{"$f":"IF(AND($A93=TRUE,$C$2=1),(VLOOKUP($B93,'International Exports-Detailed'!$A:$Q,K$6-2000,FALSE)),IF(AND($A93=TRUE,$C$2=2),(VLOOKUP($B93,'Rest of the UK Exports -Detail'!$A:$Q,K$6-2000,FALSE)),\"\"))","v":785},{"$f":"IF(AND($A93=TRUE,$C$2=1),(VLOOKUP($B93,'International Exports-Detailed'!$A:$Q,L$6-2000,FALSE)),IF(AND($A93=TRUE,$C$2=2),(VLOOKUP($B93,'Rest of the UK Exports -Detail'!$A:$Q,L$6-2000,FALSE)),\"\"))","v":915},{"$f":"IF(AND($A93=TRUE,$C$2=1),(VLOOKUP($B93,'International Exports-Detailed'!$A:$Q,M$6-2000,FALSE)),IF(AND($A93=TRUE,$C$2=2),(VLOOKUP($B93,'Rest of the UK Exports -Detail'!$A:$Q,M$6-2000,FALSE)),\"\"))","v":835},{"$f":"IF(AND($A93=TRUE,$C$2=1),(VLOOKUP($B93,'International Exports-Detailed'!$A:$Q,N$6-2000,FALSE)),IF(AND($A93=TRUE,$C$2=2),(VLOOKUP($B93,'Rest of the UK Exports -Detail'!$A:$Q,N$6-2000,FALSE)),\"\"))","v":1055},{"$f":"IF(AND($A93=TRUE,$C$2=1),(VLOOKUP($B93,'International Exports-Detailed'!$A:$Q,O$6-2000,FALSE)),IF(AND($A93=TRUE,$C$2=2),(VLOOKUP($B93,'Rest of the UK Exports -Detail'!$A:$Q,O$6-2000,FALSE)),\"\"))","v":1135},{"$f":"IF(AND($A93=TRUE,$C$2=1),(VLOOKUP($B93,'International Exports-Detailed'!$A:$Q,P$6-2000,FALSE)),IF(AND($A93=TRUE,$C$2=2),(VLOOKUP($B93,'Rest of the UK Exports -Detail'!$A:$Q,P$6-2000,FALSE)),\"\"))","v":1000},{"$f":"IF(AND($A93=TRUE,$C$2=1),(VLOOKUP($B93,'International Exports-Detailed'!$A:$Q,Q$6-2000,FALSE)),IF(AND($A93=TRUE,$C$2=2),(VLOOKUP($B93,'Rest of the UK Exports -Detail'!$A:$Q,Q$6-2000,FALSE)),\"\"))","v":1245},{"$f":"IF(AND($A93=TRUE,$C$2=1),(VLOOKUP($B93,'International Exports-Detailed'!$A:$Q,R$6-2000,FALSE)),IF(AND($A93=TRUE,$C$2=2),(VLOOKUP($B93,'Rest of the UK Exports -Detail'!$A:$Q,R$6-2000,FALSE)),\"\"))","v":1175}]
[true,"Storage",{"$f":"IF(AND($A94=TRUE,$C$2=1),(VLOOKUP($B94,'International Exports-Detailed'!$A:$Q,C$6-2000,FALSE)),IF(AND($A94=TRUE,$C$2=2),(VLOOKUP($B94,'Rest of the UK Exports -Detail'!$A:$Q,C$6-2000,FALSE)),\"\"))","v":380},{"$f":"IF(AND($A94=TRUE,$C$2=1),(VLOOKUP($B94,'International Exports-Detailed'!$A:$Q,D$6-2000,FALSE)),IF(AND($A94=TRUE,$C$2=2),(VLOOKUP($B94,'Rest of the UK Exports -Detail'!$A:$Q,D$6-2000,FALSE)),\"\"))","v":480},{"$f":"IF(AND($A94=TRUE,$C$2=1),(VLOOKUP($B94,'International Exports-Detailed'!$A:$Q,E$6-2000,FALSE)),IF(AND($A94=TRUE,$C$2=2),(VLOOKUP($B94,'Rest of the UK Exports -Detail'!$A:$Q,E$6-2000,FALSE)),\"\"))","v":505},{"$f":"IF(AND($A94=TRUE,$C$2=1),(VLOOKUP($B94,'International Exports-Detailed'!$A:$Q,F$6-2000,FALSE)),IF(AND($A94=TRUE,$C$2=2),(VLOOKUP($B94,'Rest of the UK Exports -Detail'!$A:$Q,F$6-2000,FALSE)),\"\"))","v":330},{"$f":"IF(AND($A94=TRUE,$C$2=1),(VLOOKUP($B94,'International Exports-Detailed'!$A:$Q,G$6-2000,FALSE)),IF(AND($A94=TRUE,$C$2=2),(VLOOKUP($B94,'Rest of the UK Exports -Detail'!$A:$Q,G$6-2000,FALSE)),\"\"))","v":375},{"$f":"IF(AND($A94=TRUE,$C$2=1),(VLOOKUP($B94,'International Exports-Detailed'!$A:$Q,H$6-2000,FALSE)),IF(AND($A94=TRUE,$C$2=2),(VLOOKUP($B94,'Rest of the UK Exports -Detail'!$A:$Q,H$6-2000,FALSE)),\"\"))","v":315},{"$f":"IF(AND($A94=TRUE,$C$2=1),(VLOOKUP($B94,'International Exports-Detailed'!$A:$Q,I$6-2000,FALSE)),IF(AND($A94=TRUE,$C$2=2),(VLOOKUP($B94,'Rest of the UK Exports -Detail'!$A:$Q,I$6-2000,FALSE)),\"\"))","v":450},{"$f":"IF(AND($A94=TRUE,$C$2=1),(VLOOKUP($B94,'International Exports-Detailed'!$A:$Q,J$6-2000,FALSE)),IF(AND($A94=TRUE,$C$2=2),(VLOOKUP($B94,'Rest of the UK Exports -Detail'!$A:$Q,J$6-2000,FALSE)),\"\"))","v":385},{"$f":"IF(AND($A94=TRUE,$C$2=1),(VLOOKUP($B94,'International Exports-Detailed'!$A:$Q,K$6-2000,FALSE)),IF(AND($A94=TRUE,$C$2=2),(VLOOKUP($B94,'Rest of the UK Exports -Detail'!$A:$Q,K$6-2000,FALSE)),\"\"))","v":400},{"$f":"IF(AND($A94=TRUE,$C$2=1),(VLOOKUP($B94,'International Exports-Detailed'!$A:$Q,L$6-2000,FALSE)),IF(AND($A94=TRUE,$C$2=2),(VLOOKUP($B94,'Rest of the UK Exports -Detail'!$A:$Q,L$6-2000,FALSE)),\"\"))","v":560},{"$f":"IF(AND($A94=TRUE,$C$2=1),(VLOOKUP($B94,'International Exports-Detailed'!$A:$Q,M$6-2000,FALSE)),IF(AND($A94=TRUE,$C$2=2),(VLOOKUP($B94,'Rest of the UK Exports -Detail'!$A:$Q,M$6-2000,FALSE)),\"\"))","v":430},{"$f":"IF(AND($A94=TRUE,$C$2=1),(VLOOKUP($B94,'International Exports-Detailed'!$A:$Q,N$6-2000,FALSE)),IF(AND($A94=TRUE,$C$2=2),(VLOOKUP($B94,'Rest of the UK Exports -Detail'!$A:$Q,N$6-2000,FALSE)),\"\"))","v":715},{"$f":"IF(AND($A94=TRUE,$C$2=1),(VLOOKUP($B94,'International Exports-Detailed'!$A:$Q,O$6-2000,FALSE)),IF(AND($A94=TRUE,$C$2=2),(VLOOKUP($B94,'Rest of the UK Exports -Detail'!$A:$Q,O$6-2000,FALSE)),\"\"))","v":705},{"$f":"IF(AND($A94=TRUE,$C$2=1),(VLOOKUP($B94,'International Exports-Detailed'!$A:$Q,P$6-2000,FALSE)),IF(AND($A94=TRUE,$C$2=2),(VLOOKUP($B94,'Rest of the UK Exports -Detail'!$A:$Q,P$6-2000,FALSE)),\"\"))","v":735},{"$f":"IF(AND($A94=TRUE,$C$2=1),(VLOOKUP($B94,'International Exports-Detailed'!$A:$Q,Q$6-2000,FALSE)),IF(AND($A94=TRUE,$C$2=2),(VLOOKUP($B94,'Rest of the UK Exports -Detail'!$A:$Q,Q$6-2000,FALSE)),\"\"))","v":895},{"$f":"IF(AND($A94=TRUE,$C$2=1),(VLOOKUP($B94,'International Exports-Detailed'!$A:$Q,R$6-2000,FALSE)),IF(AND($A94=TRUE,$C$2=2),(VLOOKUP($B94,'Rest of the UK Exports -Detail'!$A:$Q,R$6-2000,FALSE)),\"\"))","v":890}]
[true,"Transportation",{"$f":"IF(AND($A95=TRUE,$C$2=1),(VLOOKUP($B95,'International Exports-Detailed'!$A:$Q,C$6-2000,FALSE)),IF(AND($A95=TRUE,$C$2=2),(VLOOKUP($B95,'Rest of the UK Exports -Detail'!$A:$Q,C$6-2000,FALSE)),\"\"))","v":195},{"$f":"IF(AND($A95=TRUE,$C$2=1),(VLOOKUP($B95,'International Exports-Detailed'!$A:$Q,D$6-2000,FALSE)),IF(AND($A95=TRUE,$C$2=2),(VLOOKUP($B95,'Rest of the UK Exports -Detail'!$A:$Q,D$6-2000,FALSE)),\"\"))","v":205},{"$f":"IF(AND($A95=TRUE,$C$2=1),(VLOOKUP($B95,'International Exports-Detailed'!$A:$Q,E$6-2000,FALSE)),IF(AND($A95=TRUE,$C$2=2),(VLOOKUP($B95,'Rest of the UK Exports -Detail'!$A:$Q,E$6-2000,FALSE)),\"\"))","v":240},{"$f":"IF(AND($A95=TRUE,$C$2=1),(VLOOKUP($B95,'International Exports-Detailed'!$A:$Q,F$6-2000,FALSE)),IF(AND($A95=TRUE,$C$2=2),(VLOOKUP($B95,'Rest of the UK Exports -Detail'!$A:$Q,F$6-2000,FALSE)),\"\"))","v":250},{"$f":"IF(AND($A95=TRUE,$C$2=1),(VLOOKUP($B95,'International Exports-Detailed'!$A:$Q,G$6-2000,FALSE)),IF(AND($A95=TRUE,$C$2=2),(VLOOKUP($B95,'Rest of the UK Exports -Detail'!$A:$Q,G$6-2000,FALSE)),\"\"))","v":325},{"$f":"IF(AND($A95=TRUE,$C$2=1),(VLOOKUP($B95,'International Exports-Detailed'!$A:$Q,H$6-2000,FALSE)),IF(AND($A95=TRUE,$C$2=2),(VLOOKUP($B95,'Rest of the UK Exports -Detail'!$A:$Q,H$6-2000,FALSE)),\"\"))","v":360},{"$f":"IF(AND($A95=TRUE,$C$2=1),(VLOOKUP($B95,'International Exports-Detailed'!$A:$Q,I$6-2000,FALSE)),IF(AND($A95=TRUE,$C$2=2),(VLOOKUP($B95,'Rest of the UK Exports -Detail'!$A:$Q,I$6-2000,FALSE)),\"\"))","v":450},{"$f":"IF(AND($A95=TRUE,$C$2=1),(VLOOKUP($B95,'International Exports-Detailed'!$A:$Q,J$6-2000,FALSE)),IF(AND($A95=TRUE,$C$2=2),(VLOOKUP($B95,'Rest of the UK Exports -Detail'!$A:$Q,J$6-2000,FALSE)),\"\"))","v":485},{"$f":"IF(AND($A95=TRUE,$C$2=1),(VLOOKUP($B95,'International Exports-Detailed'!$A:$Q,K$6-2000,FALSE)),IF(AND($A95=TRUE,$C$2=2),(VLOOKUP($B95,'Rest of the UK Exports -Detail'!$A:$Q,K$6-2000,FALSE)),\"\"))","v":385},{"$f":"IF(AND($A95=TRUE,$C$2=1),(VLOOKUP($B95,'International Exports-Detailed'!$A:$Q,L$6-2000,FALSE)),IF(AND($A95=TRUE,$C$2=2),(VLOOKUP($B95,'Rest of the UK Exports -Detail'!$A:$Q,L$6-2000,FALSE)),\"\"))","v":355},{"$f":"IF(AND($A95=TRUE,$C$2=1),(VLOOKUP($B95,'International Exports-Detailed'!$A:$Q,M$6-2000,FALSE)),IF(AND($A95=TRUE,$C$2=2),(VLOOKUP($B95,'Rest of the UK Exports -Detail'!$A:$Q,M$6-2000,FALSE)),\"\"))","v":405},{"$f":"IF(AND($A95=TRUE,$C$2=1),(VLOOKUP($B95,'International Exports-Detailed'!$A:$Q,N$6-2000,FALSE)),IF(AND($A95=TRUE,$C$2=2),(VLOOKUP($B95,'Rest of the UK Exports -Detail'!$A:$Q,N$6-2000,FALSE)),\"\"))","v":335},{"$f":"IF(AND($A95=TRUE,$C$2=1),(VLOOKUP($B95,'International Exports-Detailed'!$A:$Q,O$6-2000,FALSE)),IF(AND($A95=TRUE,$C$2=2),(VLOOKUP($B95,'Rest of the UK Exports -Detail'!$A:$Q,O$6-2000,FALSE)),\"\"))","v":430},{"$f":"IF(AND($A95=TRUE,$C$2=1),(VLOOKUP($B95,'International Exports-Detailed'!$A:$Q,P$6-2000,FALSE)),IF(AND($A95=TRUE,$C$2=2),(VLOOKUP($B95,'Rest of the UK Exports -Detail'!$A:$Q,P$6-2000,FALSE)),\"\"))","v":265},{"$f":"IF(AND($A95=TRUE,$C$2=1),(VLOOKUP($B95,'International Exports-Detailed'!$A:$Q,Q$6-2000,FALSE)),IF(AND($A95=TRUE,$C$2=2),(VLOOKUP($B95,'Rest of the UK Exports -Detail'!$A:$Q,Q$6-2000,FALSE)),\"\"))","v":350},{"$f":"IF(AND($A95=TRUE,$C$2=1),(VLOOKUP($B95,'International Exports-Detailed'!$A:$Q,R$6-2000,FALSE)),IF(AND($A95=TRUE,$C$2=2),(VLOOKUP($B95,'Rest of the UK Exports -Detail'!$A:$Q,R$6-2000,FALSE)),\"\"))","v":285}]
[]
[null,"Education Chart"]
[null,null,2002,2003,2004,2005,2006,2007,2008,2009,2010,2011,2012,2013,2014,2015,2016,2017]
[true,"Education",{"$f":"IF(AND($A99=TRUE,$C$2=1),(VLOOKUP($B99,'International Exports-Detailed'!$A:$Q,C$6-2000,FALSE)),IF(AND($A99=TRUE,$C$2=2),(VLOOKUP($B99,'Rest of the UK Exports -Detail'!$A:$Q,C$6-2000,FALSE)),\"\"))","v":170},{"$f":"IF(AND($A99=TRUE,$C$2=1),(VLOOKUP($B99,'International Exports-Detailed'!$A:$Q,D$6-2000,FALSE)),IF(AND($A99=TRUE,$C$2=2),(VLOOKUP($B99,'Rest of the UK Exports -Detail'!$A:$Q,D$6-2000,FALSE)),\"\"))","v":255},{"$f":"IF(AND($A99=TRUE,$C$2=1),(VLOOKUP($B99,'International Exports-Detailed'!$A:$Q,E$6-2000,FALSE)),IF(AND($A99=TRUE,$C$2=2),(VLOOKUP($B99,'Rest of the UK Exports -Detail'!$A:$Q,E$6-2000,FALSE)),\"\"))","v":255},{"$f":"IF(AND($A99=TRUE,$C$2=1),(VLOOKUP($B99,'International Exports-Detailed'!$A:$Q,F$6-2000,FALSE)),IF(AND($A99=TRUE,$C$2=2),(VLOOKUP($B99,'Rest of the UK Exports -Detail'!$A:$Q,F$6-2000,FALSE)),\"\"))","v":280},{"$f":"IF(AND($A99=TRUE,$C$2=1),(VLOOKUP($B99,'International Exports-Detailed'!$A:$Q,G$6-2000,FALSE)),IF(AND($A99=TRUE,$C$2=2),(VLOOKUP($B99,'Rest of the UK Exports -Detail'!$A:$Q,G$6-2000,FALSE)),\"\"))","v":305},{"$f":"IF(AND($A99=TRUE,$C$2=1),(VLOOKUP($B99,'International Exports-Detailed'!$A:$Q,H$6-2000,FALSE)),IF(AND($A99=TRUE,$C$2=2),(VLOOKUP($B99,'Rest of the UK Exports -Detail'!$A:$Q,H$6-2000,FALSE)),\"\"))","v":280},{"$f":"IF(AND($A99=TRUE,$C$2=1),(VLOOKUP($B99,'International Exports-Detailed'!$A:$Q,I$6-2000,FALSE)),IF(AND($A99=TRUE,$C$2=2),(VLOOKUP($B99,'Rest of the UK Exports -Detail'!$A:$Q,I$6-2000,FALSE)),\"\"))","v":330},{"$f":"IF(AND($A99=TRUE,$C$2=1),(VLOOKUP($B99,'International Exports-Detailed'!$A:$Q,J$6-2000,FALSE)),IF(AND($A99=TRUE,$C$2=2),(VLOOKUP($B99,'Rest of the UK Exports -Detail'!$A:$Q,J$6-2000,FALSE)),\"\"))","v":400},{"$f":"IF(AND($A99=TRUE,$C$2=1),(VLOOKUP($B99,'International Exports-Detailed'!$A:$Q,K$6-2000,FALSE)),IF(AND($A99=TRUE,$C$2=2),(VLOOKUP($B99,'Rest of the UK Exports -Detail'!$A:$Q,K$6-2000,FALSE)),\"\"))","v":440},{"$f":"IF(AND($A99=TRUE,$C$2=1),(VLOOKUP($B99,'International Exports-Detailed'!$A:$Q,L$6-2000,FALSE)),IF(AND($A99=TRUE,$C$2=2),(VLOOKUP($B99,'Rest of the UK Exports -Detail'!$A:$Q,L$6-2000,FALSE)),\"\"))","v":515},{"$f":"IF(AND($A99=TRUE,$C$2=1),(VLOOKUP($B99,'International Exports-Detailed'!$A:$Q,M$6-2000,FALSE)),IF(AND($A99=TRUE,$C$2=2),(VLOOKUP($B99,'Rest of the UK Exports -Detail'!$A:$Q,M$6-2000,FALSE)),\"\"))","v":560},{"$f":"IF(AND($A99=TRUE,$C$2=1),(VLOOKUP($B99,'International Exports-Detailed'!$A:$Q,N$6-2000,FALSE)),IF(AND($A99=TRUE,$C$2=2),(VLOOKUP($B99,'Rest of the UK Exports -Detail'!$A:$Q,N$6-2000,FALSE)),\"\"))","v":630},{"$f":"IF(AND($A99=TRUE,$C$2=1),(VLOOKUP($B99,'International Exports-Detailed'!$A:$Q,O$6-2000,FALSE)),IF(AND($A99=TRUE,$C$2=2),(VLOOKUP($B99,'Rest of the UK Exports -Detail'!$A:$Q,O$6-2000,FALSE)),\"\"))","v":700},{"$f":"IF(AND($A99=TRUE,$C$2=1),(VLOOKUP($B99,'International Exports-Detailed'!$A:$Q,P$6-2000,FALSE)),IF(AND($A99=TRUE,$C$2=2),(VLOOKUP($B99,'Rest of the UK Exports -Detail'!$A:$Q,P$6-2000,FALSE)),\"\"))","v":745},{"$f":"IF(AND($A99=TRUE,$C$2=1),(VLOOKUP($B99,'International Exports-Detailed'!$A:$Q,Q$6-2000,FALSE)),IF(AND($A99=TRUE,$C$2=2),(VLOOKUP($B99,'Rest of the UK Exports -Detail'!$A:$Q,Q$6-2000,FALSE)),\"\"))","v":770},{"$f":"IF(AND($A99=TRUE,$C$2=1),(VLOOKUP($B99,'International Exports-Detailed'!$A:$Q,R$6-2000,FALSE)),IF(AND($A99=TRUE,$C$2=2),(VLOOKUP($B99,'Rest of the UK Exports -Detail'!$A:$Q,R$6-2000,FALSE)),\"\"))","v":775}]
[]
[null,"Real Estate Chart"]
[null,null,2002,2003,2004,2005,2006,2007,2008,2009,2010,2011,2012,2013,2014,2015,2016,2017]
[true,"Real Estate",{"$f":"IF(AND($A103=TRUE,$C$2=1),(VLOOKUP($B103,'International Exports-Detailed'!$A:$Q,C$6-2000,FALSE)),IF(AND($A103=TRUE,$C$2=2),(VLOOKUP($B103,'Rest of the UK Exports -Detail'!$A:$Q,C$6-2000,FALSE)),\"\"))","v":20},{"$f":"IF(AND($A103=TRUE,$C$2=1),(VLOOKUP($B103,'International Exports-Detailed'!$A:$Q,D$6-2000,FALSE)),IF(AND($A103=TRUE,$C$2=2),(VLOOKUP($B103,'Rest of the UK Exports -Detail'!$A:$Q,D$6-2000,FALSE)),\"\"))","v":45},{"$f":"IF(AND($A103=TRUE,$C$2=1),(VLOOKUP($B103,'International Exports-Detailed'!$A:$Q,E$6-2000,FALSE)),IF(AND($A103=TRUE,$C$2=2),(VLOOKUP($B103,'Rest of the UK Exports -Detail'!$A:$Q,E$6-2000,FALSE)),\"\"))","v":20},{"$f":"IF(AND($A103=TRUE,$C$2=1),(VLOOKUP($B103,'International Exports-Detailed'!$A:$Q,F$6-2000,FALSE)),IF(AND($A103=TRUE,$C$2=2),(VLOOKUP($B103,'Rest of the UK Exports -Detail'!$A:$Q,F$6-2000,FALSE)),\"\"))","v":20},{"$f":"IF(AND($A103=TRUE,$C$2=1),(VLOOKUP($B103,'International Exports-Detailed'!$A:$Q,G$6-2000,FALSE)),IF(AND($A103=TRUE,$C$2=2),(VLOOKUP($B103,'Rest of the UK Exports -Detail'!$A:$Q,G$6-2000,FALSE)),\"\"))","v":35},{"$f":"IF(AND($A103=TRUE,$C$2=1),(VLOOKUP($B103,'International Exports-Detailed'!$A:$Q,H$6-2000,FALSE)),IF(AND($A103=TRUE,$C$2=2),(VLOOKUP($B103,'Rest of the UK Exports -Detail'!$A:$Q,H$6-2000,FALSE)),\"\"))","v":35},{"$f":"IF(AND($A103=TRUE,$C$2=1),(VLOOKUP($B103,'International Exports-Detailed'!$A:$Q,I$6-2000,FALSE)),IF(AND($A103=TRUE,$C$2=2),(VLOOKUP($B103,'Rest of the UK Exports -Detail'!$A:$Q,I$6-2000,FALSE)),\"\"))","v":45},{"$f":"IF(AND($A103=TRUE,$C$2=1),(VLOOKUP($B103,'International Exports-Detailed'!$A:$Q,J$6-2000,FALSE)),IF(AND($A103=TRUE,$C$2=2),(VLOOKUP($B103,'Rest of the UK Exports -Detail'!$A:$Q,J$6-2000,FALSE)),\"\"))","v":55},{"$f":"IF(AND($A103=TRUE,$C$2=1),(VLOOKUP($B103,'International Exports-Detailed'!$A:$Q,K$6-2000,FALSE)),IF(AND($A103=TRUE,$C$2=2),(VLOOKUP($B103,'Rest of the UK Exports -Detail'!$A:$Q,K$6-2000,FALSE)),\"\"))","v":50},{"$f":"IF(AND($A103=TRUE,$C$2=1),(VLOOKUP($B103,'International Exports-Detailed'!$A:$Q,L$6-2000,FALSE)),IF(AND($A103=TRUE,$C$2=2),(VLOOKUP($B103,'Rest of the UK Exports -Detail'!$A:$Q,L$6-2000,FALSE)),\"\"))","v":40},{"$f":"IF(AND($A103=TRUE,$C$2=1),(VLOOKUP($B103,'International Exports-Detailed'!$A:$Q,M$6-2000,FALSE)),IF(AND($A103=TRUE,$C$2=2),(VLOOKUP($B103,'Rest of the UK Exports -Detail'!$A:$Q,M$6-2000,FALSE)),\"\"))","v":40},{"$f":"IF(AND($A103=TRUE,$C$2=1),(VLOOKUP($B103,'International Exports-Detailed'!$A:$Q,N$6-2000,FALSE)),IF(AND($A103=TRUE,$C$2=2),(VLOOKUP($B103,'Rest of the UK Exports -Detail'!$A:$Q,N$6-2000,FALSE)),\"\"))","v":45},{"$f":"IF(AND($A103=TRUE,$C$2=1),(VLOOKUP($B103,'International Exports-Detailed'!$A:$Q,O$6-2000,FALSE)),IF(AND($A103=TRUE,$C$2=2),(VLOOKUP($B103,'Rest of the UK Exports -Detail'!$A:$Q,O$6-2000,FALSE)),\"\"))","v":65},{"$f":"IF(AND($A103=TRUE,$C$2=1),(VLOOKUP($B103,'International Exports-Detailed'!$A:$Q,P$6-2000,FALSE)),IF(AND($A103=TRUE,$C$2=2),(VLOOKUP($B103,'Rest of the UK Exports -Detail'!$A:$Q,P$6-2000,FALSE)),\"\"))","v":75},{"$f":"IF(AND($A103=TRUE,$C$2=1),(VLOOKUP($B103,'International Exports-Detailed'!$A:$Q,Q$6-2000,FALSE)),IF(AND($A103=TRUE,$C$2=2),(VLOOKUP($B103,'Rest of the UK Exports -Detail'!$A:$Q,Q$6-2000,FALSE)),\"\"))","v":50},{"$f":"IF(AND($A103=TRUE,$C$2=1),(VLOOKUP($B103,'International Exports-Detailed'!$A:$Q,R$6-2000,FALSE)),IF(AND($A103=TRUE,$C$2=2),(VLOOKUP($B103,'Rest of the UK Exports -Detail'!$A:$Q,R$6-2000,FALSE)),\"\"))","v":75}]
[]
[null,"Other Services and Accommodation Chart"]
[null,null,2002,2003,2004,2005,2006,2007,2008,2009,2010,2011,2012,2013,2014,2015,2016,2017]
[true,"Other Services and Accommodation",{"$f":"IF(AND($A107=TRUE,$C$2=1),(VLOOKUP($B107,'International Exports-Detailed'!$A:$Q,C$6-2000,FALSE)),IF(AND($A107=TRUE,$C$2=2),(VLOOKUP($B107,'Rest of the UK Exports -Detail'!$A:$Q,C$6-2000,FALSE)),\"\"))","v":140},{"$f":"IF(AND($A107=TRUE,$C$2=1),(VLOOKUP($B107,'International Exports-Detailed'!$A:$Q,D$6-2000,FALSE)),IF(AND($A107=TRUE,$C$2=2),(VLOOKUP($B107,'Rest of the UK Exports -Detail'!$A:$Q,D$6-2000,FALSE)),\"\"))","v":165},{"$f":"IF(AND($A107=TRUE,$C$2=1),(VLOOKUP($B107,'International Exports-Detailed'!$A:$Q,E$6-2000,FALSE)),IF(AND($A107=TRUE,$C$2=2),(VLOOKUP($B107,'Rest of the UK Exports -Detail'!$A:$Q,E$6-2000,FALSE)),\"\"))","v":195},{"$f":"IF(AND($A107=TRUE,$C$2=1),(VLOOKUP($B107,'International Exports-Detailed'!$A:$Q,F$6-2000,FALSE)),IF(AND($A107=TRUE,$C$2=2),(VLOOKUP($B107,'Rest of the UK Exports -Detail'!$A:$Q,F$6-2000,FALSE)),\"\"))","v":175},{"$f":"IF(AND($A107=TRUE,$C$2=1),(VLOOKUP($B107,'International Exports-Detailed'!$A:$Q,G$6-2000,FALSE)),IF(AND($A107=TRUE,$C$2=2),(VLOOKUP($B107,'Rest of the UK Exports -Detail'!$A:$Q,G$6-2000,FALSE)),\"\"))","v":170},{"$f":"IF(AND($A107=TRUE,$C$2=1),(VLOOKUP($B107,'International Exports-Detailed'!$A:$Q,H$6-2000,FALSE)),IF(AND($A107=TRUE,$C$2=2),(VLOOKUP($B107,'Rest of the UK Exports -Detail'!$A:$Q,H$6-2000,FALSE)),\"\"))","v":175},{"$f":"IF(AND($A107=TRUE,$C$2=1),(VLOOKUP($B107,'International Exports-Detailed'!$A:$Q,I$6-2000,FALSE)),IF(AND($A107=TRUE,$C$2=2),(VLOOKUP($B107,'Rest of the UK Exports -Detail'!$A:$Q,I$6-2000,FALSE)),\"\"))","v":245},{"$f":"IF(AND($A107=TRUE,$C$2=1),(VLOOKUP($B107,'International Exports-Detailed'!$A:$Q,J$6-2000,FALSE)),IF(AND($A107=TRUE,$C$2=2),(VLOOKUP($B107,'Rest of the UK Exports -Detail'!$A:$Q,J$6-2000,FALSE)),\"\"))","v":255},{"$f":"IF(AND($A107=TRUE,$C$2=1),(VLOOKUP($B107,'International Exports-Detailed'!$A:$Q,K$6-2000,FALSE)),IF(AND($A107=TRUE,$C$2=2),(VLOOKUP($B107,'Rest of the UK Exports -Detail'!$A:$Q,K$6-2000,FALSE)),\"\"))","v":175},{"$f":"IF(AND($A107=TRUE,$C$2=1),(VLOOKUP($B107,'International Exports-Detailed'!$A:$Q,L$6-2000,FALSE)),IF(AND($A107=TRUE,$C$2=2),(VLOOKUP($B107,'Rest of the UK Exports -Detail'!$A:$Q,L$6-2000,FALSE)),\"\"))","v":175},{"$f":"IF(AND($A107=TRUE,$C$2=1),(VLOOKUP($B107,'International Exports-Detailed'!$A:$Q,M$6-2000,FALSE)),IF(AND($A107=TRUE,$C$2=2),(VLOOKUP($B107,'Rest of the UK Exports -Detail'!$A:$Q,M$6-2000,FALSE)),\"\"))","v":195},{"$f":"IF(AND($A107=TRUE,$C$2=1),(VLOOKUP($B107,'International Exports-Detailed'!$A:$Q,N$6-2000,FALSE)),IF(AND($A107=TRUE,$C$2=2),(VLOOKUP($B107,'Rest of the UK Exports -Detail'!$A:$Q,N$6-2000,FALSE)),\"\"))","v":220},{"$f":"IF(AND($A107=TRUE,$C$2=1),(VLOOKUP($B107,'International Exports-Detailed'!$A:$Q,O$6-2000,FALSE)),IF(AND($A107=TRUE,$C$2=2),(VLOOKUP($B107,'Rest of the UK Exports -Detail'!$A:$Q,O$6-2000,FALSE)),\"\"))","v":195},{"$f":"IF(AND($A107=TRUE,$C$2=1),(VLOOKUP($B107,'International Exports-Detailed'!$A:$Q,P$6-2000,FALSE)),IF(AND($A107=TRUE,$C$2=2),(VLOOKUP($B107,'Rest of the UK Exports -Detail'!$A:$Q,P$6-2000,FALSE)),\"\"))","v":110},{"$f":"IF(AND($A107=TRUE,$C$2=1),(VLOOKUP($B107,'International Exports-Detailed'!$A:$Q,Q$6-2000,FALSE)),IF(AND($A107=TRUE,$C$2=2),(VLOOKUP($B107,'Rest of the UK Exports -Detail'!$A:$Q,Q$6-2000,FALSE)),\"\"))","v":125},{"$f":"IF(AND($A107=TRUE,$C$2=1),(VLOOKUP($B107,'International Exports-Detailed'!$A:$Q,R$6-2000,FALSE)),IF(AND($A107=TRUE,$C$2=2),(VLOOKUP($B107,'Rest of the UK Exports -Detail'!$A:$Q,R$6-2000,FALSE)),\"\"))","v":180}]
[]
[]
[]
["International Exports by SDI sectors, 2002 - 2016"]
["(£ million)"]
[null,2002,2003,2004,2005,2006,2007,2008,2009,2010,2011,2012,2013,2014,2015,2016,2017,"Chart control"]
["Engineering and Advanced Manufacturing",{"$f":"IF($R114=TRUE,VLOOKUP($A114,'International Exports - Table'!$A$3:$U$19,'Chart Data - Sectors'!B$113-2000,FALSE),\"\")","v":3580},{"$f":"IF($R114=TRUE,VLOOKUP($A114,'International Exports - Table'!$A$3:$U$19,'Chart Data - Sectors'!C$113-2000,FALSE),\"\")","v":3405},{"$f":"IF($R114=TRUE,VLOOKUP($A114,'International Exports - Table'!$A$3:$U$19,'Chart Data - Sectors'!D$113-2000,FALSE),\"\")","v":3400},{"$f":"IF($R114=TRUE,VLOOKUP($A114,'International Exports - Table'!$A$3:$U$19,'Chart Data - Sectors'!E$113-2000,FALSE),\"\")","v":3590},{"$f":"IF($R114=TRUE,VLOOKUP($A114,'International Exports - Table'!$A$3:$U$19,'Chart Data - Sectors'!F$113-2000,FALSE),\"\")","v":3780},{"$f":"IF($R114=TRUE,VLOOKUP($A114,'International Exports - Table'!$A$3:$U$19,'Chart Data - Sectors'!G$113-2000,FALSE),\"\")","v":4385},{"$f":"IF($R114=TRUE,VLOOKUP($A114,'International Exports - Table'!$A$3:$U$19,'Chart Data - Sectors'!H$113-2000,FALSE),\"\")","v":4760},{"$f":"IF($R114=TRUE,VLOOKUP($A114,'International Exports - Table'!$A$3:$U$19,'Chart Data - Sectors'!I$113-2000,FALSE),\"\")","v":4750},{"$f":"IF($R114=TRUE,VLOOKUP($A114,'International Exports - Table'!$A$3:$U$19,'Chart Data - Sectors'!J$113-2000,FALSE),\"\")","v":4755},{"$f":"IF($R114=TRUE,VLOOKUP($A114,'International Exports - Table'!$A$3:$U$19,'Chart Data - Sectors'!K$113-2000,FALSE),\"\")","v":4785},{"$f":"IF($R114=TRUE,VLOOKUP($A114,'International Exports - Table'!$A$3:$U$19,'Chart Data - Sectors'!L$113-2000,FALSE),\"\")","v":5525},{"$f":"IF($R114=TRUE,VLOOKUP($A114,'International Exports - Table'!$A$3:$U$19,'Chart Data - Sectors'!M$113-2000,FALSE),\"\")","v":6155},{"$f":"IF($R114=TRUE,VLOOKUP($A114,'International Exports - Table'!$A$3:$U$19,'Chart Data - Sectors'!N$113-2000,FALSE),\"\")","v":6260},{"$f":"IF($R114=TRUE,VLOOKUP($A114,'International Exports - Table'!$A$3:$U$19,'Chart Data - Sectors'!O$113-2000,FALSE),\"\")","v":5985},{"$f":"IF($R114=TRUE,VLOOKUP($A114,'International Exports - Table'!$A$3:$U$19,'Chart Data - Sectors'!P$113-2000,FALSE),\"\")","v":6115},{"$f":"IF($R114=TRUE,VLOOKUP($A114,'International Exports - Table'!$A$3:$U$19,'Chart Data - Sectors'!Q$113-2000,FALSE),\"\")","v":5700},true]
["Food and Drink",{"$f":"IF($R115=TRUE,VLOOKUP($A115,'International Exports - Table'!$A$3:$U$19,'Chart Data - Sectors'!B$113-2000,FALSE),\"\")","v":3095},{"$f":"IF($R115=TRUE,VLOOKUP($A115,'International Exports - Table'!$A$3:$U$19,'Chart Data - Sectors'!C$113-2000,FALSE),\"\")","v":3205},{"$f":"IF($R115=TRUE,VLOOKUP($A115,'International Exports - Table'!$A$3:$U$19,'Chart Data - Sectors'!D$113-2000,FALSE),\"\")","v":3140},{"$f":"IF($R115=TRUE,VLOOKUP($A115,'International Exports - Table'!$A$3:$U$19,'Chart Data - Sectors'!E$113-2000,FALSE),\"\")","v":3270},{"$f":"IF($R115=TRUE,VLOOKUP($A115,'International Exports - Table'!$A$3:$U$19,'Chart Data - Sectors'!F$113-2000,FALSE),\"\")","v":3305},{"$f":"IF($R115=TRUE,VLOOKUP($A115,'International Exports - Table'!$A$3:$U$19,'Chart Data - Sectors'!G$113-2000,FALSE),\"\")","v":3695},{"$f":"IF($R115=TRUE,VLOOKUP($A115,'International Exports - Table'!$A$3:$U$19,'Chart Data - Sectors'!H$113-2000,FALSE),\"\")","v":3995},{"$f":"IF($R115=TRUE,VLOOKUP($A115,'International Exports - Table'!$A$3:$U$19,'Chart Data - Sectors'!I$113-2000,FALSE),\"\")","v":4230},{"$f":"IF($R115=TRUE,VLOOKUP($A115,'International Exports - Table'!$A$3:$U$19,'Chart Data - Sectors'!J$113-2000,FALSE),\"\")","v":4680},{"$f":"IF($R115=TRUE,VLOOKUP($A115,'International Exports - Table'!$A$3:$U$19,'Chart Data - Sectors'!K$113-2000,FALSE),\"\")","v":5640},{"$f":"IF($R115=TRUE,VLOOKUP($A115,'International Exports - Table'!$A$3:$U$19,'Chart Data - Sectors'!L$113-2000,FALSE),\"\")","v":5805},{"$f":"IF($R115=TRUE,VLOOKUP($A115,'International Exports - Table'!$A$3:$U$19,'Chart Data - Sectors'!M$113-2000,FALSE),\"\")","v":5715},{"$f":"IF($R115=TRUE,VLOOKUP($A115,'International Exports - Table'!$A$3:$U$19,'Chart Data - Sectors'!N$113-2000,FALSE),\"\")","v":5560},{"$f":"IF($R115=TRUE,VLOOKUP($A115,'International Exports - Table'!$A$3:$U$19,'Chart Data - Sectors'!O$113-2000,FALSE),\"\")","v":5550},{"$f":"IF($R115=TRUE,VLOOKUP($A115,'International Exports - Table'!$A$3:$U$19,'Chart Data - Sectors'!P$113-2000,FALSE),\"\")","v":5780},{"$f":"IF($R115=TRUE,VLOOKUP($A115,'International Exports - Table'!$A$3:$U$19,'Chart Data - Sectors'!Q$113-2000,FALSE),\"\")","v":6345},true]
["Financial and Business Services",{"$f":"IF($R116=TRUE,VLOOKUP($A116,'International Exports - Table'!$A$3:$U$19,'Chart Data - Sectors'!B$113-2000,FALSE),\"\")","v":1600},{"$f":"IF($R116=TRUE,VLOOKUP($A116,'International Exports - Table'!$A$3:$U$19,'Chart Data - Sectors'!C$113-2000,FALSE),\"\")","v":1355},{"$f":"IF($R116=TRUE,VLOOKUP($A116,'International Exports - Table'!$A$3:$U$19,'Chart Data - Sectors'!D$113-2000,FALSE),\"\")","v":1615},{"$f":"IF($R116=TRUE,VLOOKUP($A116,'International Exports - Table'!$A$3:$U$19,'Chart Data - Sectors'!E$113-2000,FALSE),\"\")","v":1715},{"$f":"IF($R116=TRUE,VLOOKUP($A116,'International Exports - Table'!$A$3:$U$19,'Chart Data - Sectors'!F$113-2000,FALSE),\"\")","v":1915},{"$f":"IF($R116=TRUE,VLOOKUP($A116,'International Exports - Table'!$A$3:$U$19,'Chart Data - Sectors'!G$113-2000,FALSE),\"\")","v":1595},{"$f":"IF($R116=TRUE,VLOOKUP($A116,'International Exports - Table'!$A$3:$U$19,'Chart Data - Sectors'!H$113-2000,FALSE),\"\")","v":1835},{"$f":"IF($R116=TRUE,VLOOKUP($A116,'International Exports - Table'!$A$3:$U$19,'Chart Data - Sectors'!I$113-2000,FALSE),\"\")","v":2465},{"$f":"IF($R116=TRUE,VLOOKUP($A116,'International Exports - Table'!$A$3:$U$19,'Chart Data - Sectors'!J$113-2000,FALSE),\"\")","v":2515},{"$f":"IF($R116=TRUE,VLOOKUP($A116,'International Exports - Table'!$A$3:$U$19,'Chart Data - Sectors'!K$113-2000,FALSE),\"\")","v":2915},{"$f":"IF($R116=TRUE,VLOOKUP($A116,'International Exports - Table'!$A$3:$U$19,'Chart Data - Sectors'!L$113-2000,FALSE),\"\")","v":2880},{"$f":"IF($R116=TRUE,VLOOKUP($A116,'International Exports - Table'!$A$3:$U$19,'Chart Data - Sectors'!M$113-2000,FALSE),\"\")","v":3090},{"$f":"IF($R116=TRUE,VLOOKUP($A116,'International Exports - Table'!$A$3:$U$19,'Chart Data - Sectors'!N$113-2000,FALSE),\"\")","v":3235},{"$f":"IF($R116=TRUE,VLOOKUP($A116,'International Exports - Table'!$A$3:$U$19,'Chart Data - Sectors'!O$113-2000,FALSE),\"\")","v":3135},{"$f":"IF($R116=TRUE,VLOOKUP($A116,'International Exports - Table'!$A$3:$U$19,'Chart Data - Sectors'!P$113-2000,FALSE),\"\")","v":3285},{"$f":"IF($R116=TRUE,VLOOKUP($A116,'International Exports - Table'!$A$3:$U$19,'Chart Data - Sectors'!Q$113-2000,FALSE),\"\")","v":3355},true]
["Technology, Digital and Media",{"$f":"IF($R117=TRUE,VLOOKUP($A117,'International Exports - Table'!$A$3:$U$19,'Chart Data - Sectors'!B$113-2000,FALSE),\"\")","v":""},{"$f":"IF($R117=TRUE,VLOOKUP($A117,'International Exports - Table'!$A$3:$U$19,'Chart Data - Sectors'!C$113-2000,FALSE),\"\")","v":""},{"$f":"IF($R117=TRUE,VLOOKUP($A117,'International Exports - Table'!$A$3:$U$19,'Chart Data - Sectors'!D$113-2000,FALSE),\"\")","v":""},{"$f":"IF($R117=TRUE,VLOOKUP($A117,'International Exports - Table'!$A$3:$U$19,'Chart Data - Sectors'!E$113-2000,FALSE),\"\")","v":""},{"$f":"IF($R117=TRUE,VLOOKUP($A117,'International Exports - Table'!$A$3:$U$19,'Chart Data - Sectors'!F$113-2000,FALSE),\"\")","v":""},{"$f":"IF($R117=TRUE,VLOOKUP($A117,'International Exports - Table'!$A$3:$U$19,'Chart Data - Sectors'!G$113-2000,FALSE),\"\")","v":""},{"$f":"IF($R117=TRUE,VLOOKUP($A117,'International Exports - Table'!$A$3:$U$19,'Chart Data - Sectors'!H$113-2000,FALSE),\"\")","v":""},{"$f":"IF($R117=TRUE,VLOOKUP($A117,'International Exports - Table'!$A$3:$U$19,'Chart Data - Sectors'!I$113-2000,FALSE),\"\")","v":""},{"$f":"IF($R117=TRUE,VLOOKUP($A117,'International Exports - Table'!$A$3:$U$19,'Chart Data - Sectors'!J$113-2000,FALSE),\"\")","v":""},{"$f":"IF($R117=TRUE,VLOOKUP($A117,'International Exports - Table'!$A$3:$U$19,'Chart Data - Sectors'!K$113-2000,FALSE),\"\")","v":""},{"$f":"IF($R117=TRUE,VLOOKUP($A117,'International Exports - Table'!$A$3:$U$19,'Chart Data - Sectors'!L$113-2000,FALSE),\"\")","v":""},{"$f":"IF($R117=TRUE,VLOOKUP($A117,'International Exports - Table'!$A$3:$U$19,'Chart Data - Sectors'!M$113-2000,FALSE),\"\")","v":""},{"$f":"IF($R117=TRUE,VLOOKUP($A117,'International Exports - Table'!$A$3:$U$19,'Chart Data - Sectors'!N$113-2000,FALSE),\"\")","v":""},{"$f":"IF($R117=TRUE,VLOOKUP($A117,'International Exports - Table'!$A$3:$U$19,'Chart Data - Sectors'!O$113-2000,FALSE),\"\")","v":""},{"$f":"IF($R117=TRUE,VLOOKUP($A117,'International Exports - Table'!$A$3:$U$19,'Chart Data - Sectors'!P$113-2000,FALSE),\"\")","v":""},{"$f":"IF($R117=TRUE,VLOOKUP($A117,'International Exports - Table'!$A$3:$U$19,'Chart Data - Sectors'!Q$113-2000,FALSE),\"\")","v":""},false]
["Chemical Sciences",{"$f":"IF($R118=TRUE,VLOOKUP($A118,'International Exports - Table'!$A$3:$U$19,'Chart Data - Sectors'!B$113-2000,FALSE),\"\")","v":""},{"$f":"IF($R118=TRUE,VLOOKUP($A118,'International Exports - Table'!$A$3:$U$19,'Chart Data - Sectors'!C$113-2000,FALSE),\"\")","v":""},{"$f":"IF($R118=TRUE,VLOOKUP($A118,'International Exports - Table'!$A$3:$U$19,'Chart Data - Sectors'!D$113-2000,FALSE),\"\")","v":""},{"$f":"IF($R118=TRUE,VLOOKUP($A118,'International Exports - Table'!$A$3:$U$19,'Chart Data - Sectors'!E$113-2000,FALSE),\"\")","v":""},{"$f":"IF($R118=TRUE,VLOOKUP($A118,'International Exports - Table'!$A$3:$U$19,'Chart Data - Sectors'!F$113-2000,FALSE),\"\")","v":""},{"$f":"IF($R118=TRUE,VLOOKUP($A118,'International Exports - Table'!$A$3:$U$19,'Chart Data - Sectors'!G$113-2000,FALSE),\"\")","v":""},{"$f":"IF($R118=TRUE,VLOOKUP($A118,'International Exports - Table'!$A$3:$U$19,'Chart Data - Sectors'!H$113-2000,FALSE),\"\")","v":""},{"$f":"IF($R118=TRUE,VLOOKUP($A118,'International Exports - Table'!$A$3:$U$19,'Chart Data - Sectors'!I$113-2000,FALSE),\"\")","v":""},{"$f":"IF($R118=TRUE,VLOOKUP($A118,'International Exports - Table'!$A$3:$U$19,'Chart Data - Sectors'!J$113-2000,FALSE),\"\")","v":""},{"$f":"IF($R118=TRUE,VLOOKUP($A118,'International Exports - Table'!$A$3:$U$19,'Chart Data - Sectors'!K$113-2000,FALSE),\"\")","v":""},{"$f":"IF($R118=TRUE,VLOOKUP($A118,'International Exports - Table'!$A$3:$U$19,'Chart Data - Sectors'!L$113-2000,FALSE),\"\")","v":""},{"$f":"IF($R118=TRUE,VLOOKUP($A118,'International Exports - Table'!$A$3:$U$19,'Chart Data - Sectors'!M$113-2000,FALSE),\"\")","v":""},{"$f":"IF($R118=TRUE,VLOOKUP($A118,'International Exports - Table'!$A$3:$U$19,'Chart Data - Sectors'!N$113-2000,FALSE),\"\")","v":""},{"$f":"IF($R118=TRUE,VLOOKUP($A118,'International Exports - Table'!$A$3:$U$19,'Chart Data - Sectors'!O$113-2000,FALSE),\"\")","v":""},{"$f":"IF($R118=TRUE,VLOOKUP($A118,'International Exports - Table'!$A$3:$U$19,'Chart Data - Sectors'!P$113-2000,FALSE),\"\")","v":""},{"$f":"IF($R118=TRUE,VLOOKUP($A118,'International Exports - Table'!$A$3:$U$19,'Chart Data - Sectors'!Q$113-2000,FALSE),\"\")","v":""},false]
["Energy",{"$f":"IF($R119=TRUE,VLOOKUP($A119,'International Exports - Table'!$A$3:$U$19,'Chart Data - Sectors'!B$113-2000,FALSE),\"\")","v":745},{"$f":"IF($R119=TRUE,VLOOKUP($A119,'International Exports - Table'!$A$3:$U$19,'Chart Data - Sectors'!C$113-2000,FALSE),\"\")","v":675},{"$f":"IF($R119=TRUE,VLOOKUP($A119,'International Exports - Table'!$A$3:$U$19,'Chart Data - Sectors'!D$113-2000,FALSE),\"\")","v":810},{"$f":"IF($R119=TRUE,VLOOKUP($A119,'International Exports - Table'!$A$3:$U$19,'Chart Data - Sectors'!E$113-2000,FALSE),\"\")","v":965},{"$f":"IF($R119=TRUE,VLOOKUP($A119,'International Exports - Table'!$A$3:$U$19,'Chart Data - Sectors'!F$113-2000,FALSE),\"\")","v":1090},{"$f":"IF($R119=TRUE,VLOOKUP($A119,'International Exports - Table'!$A$3:$U$19,'Chart Data - Sectors'!G$113-2000,FALSE),\"\")","v":1435},{"$f":"IF($R119=TRUE,VLOOKUP($A119,'International Exports - Table'!$A$3:$U$19,'Chart Data - Sectors'!H$113-2000,FALSE),\"\")","v":1410},{"$f":"IF($R119=TRUE,VLOOKUP($A119,'International Exports - Table'!$A$3:$U$19,'Chart Data - Sectors'!I$113-2000,FALSE),\"\")","v":1820},{"$f":"IF($R119=TRUE,VLOOKUP($A119,'International Exports - Table'!$A$3:$U$19,'Chart Data - Sectors'!J$113-2000,FALSE),\"\")","v":2570},{"$f":"IF($R119=TRUE,VLOOKUP($A119,'International Exports - Table'!$A$3:$U$19,'Chart Data - Sectors'!K$113-2000,FALSE),\"\")","v":3080},{"$f":"IF($R119=TRUE,VLOOKUP($A119,'International Exports - Table'!$A$3:$U$19,'Chart Data - Sectors'!L$113-2000,FALSE),\"\")","v":3080},{"$f":"IF($R119=TRUE,VLOOKUP($A119,'International Exports - Table'!$A$3:$U$19,'Chart Data - Sectors'!M$113-2000,FALSE),\"\")","v":3135},{"$f":"IF($R119=TRUE,VLOOKUP($A119,'International Exports - Table'!$A$3:$U$19,'Chart Data - Sectors'!N$113-2000,FALSE),\"\")","v":3530},{"$f":"IF($R119=TRUE,VLOOKUP($A119,'International Exports - Table'!$A$3:$U$19,'Chart Data - Sectors'!O$113-2000,FALSE),\"\")","v":4130},{"$f":"IF($R119=TRUE,VLOOKUP($A119,'International Exports - Table'!$A$3:$U$19,'Chart Data - Sectors'!P$113-2000,FALSE),\"\")","v":3895},{"$f":"IF($R119=TRUE,VLOOKUP($A119,'International Exports - Table'!$A$3:$U$19,'Chart Data - Sectors'!Q$113-2000,FALSE),\"\")","v":3780},true]
["Wholesale and Retail Trade",{"$f":"IF($R120=TRUE,VLOOKUP($A120,'International Exports - Table'!$A$3:$U$19,'Chart Data - Sectors'!B$113-2000,FALSE),\"\")","v":""},{"$f":"IF($R120=TRUE,VLOOKUP($A120,'International Exports - Table'!$A$3:$U$19,'Chart Data - Sectors'!C$113-2000,FALSE),\"\")","v":""},{"$f":"IF($R120=TRUE,VLOOKUP($A120,'International Exports - Table'!$A$3:$U$19,'Chart Data - Sectors'!D$113-2000,FALSE),\"\")","v":""},{"$f":"IF($R120=TRUE,VLOOKUP($A120,'International Exports - Table'!$A$3:$U$19,'Chart Data - Sectors'!E$113-2000,FALSE),\"\")","v":""},{"$f":"IF($R120=TRUE,VLOOKUP($A120,'International Exports - Table'!$A$3:$U$19,'Chart Data - Sectors'!F$113-2000,FALSE),\"\")","v":""},{"$f":"IF($R120=TRUE,VLOOKUP($A120,'International Exports - Table'!$A$3:$U$19,'Chart Data - Sectors'!G$113-2000,FALSE),\"\")","v":""},{"$f":"IF($R120=TRUE,VLOOKUP($A120,'International Exports - Table'!$A$3:$U$19,'Chart Data - Sectors'!H$113-2000,FALSE),\"\")","v":""},{"$f":"IF($R120=TRUE,VLOOKUP($A120,'International Exports - Table'!$A$3:$U$19,'Chart Data - Sectors'!I$113-2000,FALSE),\"\")","v":""},{"$f":"IF($R120=TRUE,VLOOKUP($A120,'International Exports - Table'!$A$3:$U$19,'Chart Data - Sectors'!J$113-2000,FALSE),\"\")","v":""},{"$f":"IF($R120=TRUE,VLOOKUP($A120,'International Exports - Table'!$A$3:$U$19,'Chart Data - Sectors'!K$113-2000,FALSE),\"\")","v":""},{"$f":"IF($R120=TRUE,VLOOKUP($A120,'International Exports - Table'!$A$3:$U$19,'Chart Data - Sectors'!L$113-2000,FALSE),\"\")","v":""},{"$f":"IF($R120=TRUE,VLOOKUP($A120,'International Exports - Table'!$A$3:$U$19,'Chart Data - Sectors'!M$113-2000,FALSE),\"\")","v":""},{"$f":"IF($R120=TRUE,VLOOKUP($A120,'International Exports - Table'!$A$3:$U$19,'Chart Data - Sectors'!N$113-2000,FALSE),\"\")","v":""},{"$f":"IF($R120=TRUE,VLOOKUP($A120,'International Exports - Table'!$A$3:$U$19,'Chart Data - Sectors'!O$113-2000,FALSE),\"\")","v":""},{"$f":"IF($R120=TRUE,VLOOKUP($A120,'International Exports - Table'!$A$3:$U$19,'Chart Data - Sectors'!P$113-2000,FALSE),\"\")","v":""},{"$f":"IF($R120=TRUE,VLOOKUP($A120,'International Exports - Table'!$A$3:$U$19,'Chart Data - Sectors'!Q$113-2000,FALSE),\"\")","v":""},false]
["Transportation and Storage",{"$f":"IF($R121=TRUE,VLOOKUP($A121,'International Exports - Table'!$A$3:$U$19,'Chart Data - Sectors'!B$113-2000,FALSE),\"\")","v":""},{"$f":"IF($R121=TRUE,VLOOKUP($A121,'International Exports - Table'!$A$3:$U$19,'Chart Data - Sectors'!C$113-2000,FALSE),\"\")","v":""},{"$f":"IF($R121=TRUE,VLOOKUP($A121,'International Exports - Table'!$A$3:$U$19,'Chart Data - Sectors'!D$113-2000,FALSE),\"\")","v":""},{"$f":"IF($R121=TRUE,VLOOKUP($A121,'International Exports - Table'!$A$3:$U$19,'Chart Data - Sectors'!E$113-2000,FALSE),\"\")","v":""},{"$f":"IF($R121=TRUE,VLOOKUP($A121,'International Exports - Table'!$A$3:$U$19,'Chart Data - Sectors'!F$113-2000,FALSE),\"\")","v":""},{"$f":"IF($R121=TRUE,VLOOKUP($A121,'International Exports - Table'!$A$3:$U$19,'Chart Data - Sectors'!G$113-2000,FALSE),\"\")","v":""},{"$f":"IF($R121=TRUE,VLOOKUP($A121,'International Exports - Table'!$A$3:$U$19,'Chart Data - Sectors'!H$113-2000,FALSE),\"\")","v":""},{"$f":"IF($R121=TRUE,VLOOKUP($A121,'International Exports - Table'!$A$3:$U$19,'Chart Data - Sectors'!I$113-2000,FALSE),\"\")","v":""},{"$f":"IF($R121=TRUE,VLOOKUP($A121,'International Exports - Table'!$A$3:$U$19,'Chart Data - Sectors'!J$113-2000,FALSE),\"\")","v":""},{"$f":"IF($R121=TRUE,VLOOKUP($A121,'International Exports - Table'!$A$3:$U$19,'Chart Data - Sectors'!K$113-2000,FALSE),\"\")","v":""},{"$f":"IF($R121=TRUE,VLOOKUP($A121,'International Exports - Table'!$A$3:$U$19,'Chart Data - Sectors'!L$113-2000,FALSE),\"\")","v":""},{"$f":"IF($R121=TRUE,VLOOKUP($A121,'International Exports - Table'!$A$3:$U$19,'Chart Data - Sectors'!M$113-2000,FALSE),\"\")","v":""},{"$f":"IF($R121=TRUE,VLOOKUP($A121,'International Exports - Table'!$A$3:$U$19,'Chart Data - Sectors'!N$113-2000,FALSE),\"\")","v":""},{"$f":"IF($R121=TRUE,VLOOKUP($A121,'International Exports - Table'!$A$3:$U$19,'Chart Data - Sectors'!O$113-2000,FALSE),\"\")","v":""},{"$f":"IF($R121=TRUE,VLOOKUP($A121,'International Exports - Table'!$A$3:$U$19,'Chart Data - Sectors'!P$113-2000,FALSE),\"\")","v":""},{"$f":"IF($R121=TRUE,VLOOKUP($A121,'International Exports - Table'!$A$3:$U$19,'Chart Data - Sectors'!Q$113-2000,FALSE),\"\")","v":""},false]
["Life Sciences",{"$f":"IF($R122=TRUE,VLOOKUP($A122,'International Exports - Table'!$A$3:$U$19,'Chart Data - Sectors'!B$113-2000,FALSE),\"\")","v":""},{"$f":"IF($R122=TRUE,VLOOKUP($A122,'International Exports - Table'!$A$3:$U$19,'Chart Data - Sectors'!C$113-2000,FALSE),\"\")","v":""},{"$f":"IF($R122=TRUE,VLOOKUP($A122,'International Exports - Table'!$A$3:$U$19,'Chart Data - Sectors'!D$113-2000,FALSE),\"\")","v":""},{"$f":"IF($R122=TRUE,VLOOKUP($A122,'International Exports - Table'!$A$3:$U$19,'Chart Data - Sectors'!E$113-2000,FALSE),\"\")","v":""},{"$f":"IF($R122=TRUE,VLOOKUP($A122,'International Exports - Table'!$A$3:$U$19,'Chart Data - Sectors'!F$113-2000,FALSE),\"\")","v":""},{"$f":"IF($R122=TRUE,VLOOKUP($A122,'International Exports - Table'!$A$3:$U$19,'Chart Data - Sectors'!G$113-2000,FALSE),\"\")","v":""},{"$f":"IF($R122=TRUE,VLOOKUP($A122,'International Exports - Table'!$A$3:$U$19,'Chart Data - Sectors'!H$113-2000,FALSE),\"\")","v":""},{"$f":"IF($R122=TRUE,VLOOKUP($A122,'International Exports - Table'!$A$3:$U$19,'Chart Data - Sectors'!I$113-2000,FALSE),\"\")","v":""},{"$f":"IF($R122=TRUE,VLOOKUP($A122,'International Exports - Table'!$A$3:$U$19,'Chart Data - Sectors'!J$113-2000,FALSE),\"\")","v":""},{"$f":"IF($R122=TRUE,VLOOKUP($A122,'International Exports - Table'!$A$3:$U$19,'Chart Data - Sectors'!K$113-2000,FALSE),\"\")","v":""},{"$f":"IF($R122=TRUE,VLOOKUP($A122,'International Exports - Table'!$A$3:$U$19,'Chart Data - Sectors'!L$113-2000,FALSE),\"\")","v":""},{"$f":"IF($R122=TRUE,VLOOKUP($A122,'International Exports - Table'!$A$3:$U$19,'Chart Data - Sectors'!M$113-2000,FALSE),\"\")","v":""},{"$f":"IF($R122=TRUE,VLOOKUP($A122,'International Exports - Table'!$A$3:$U$19,'Chart Data - Sectors'!N$113-2000,FALSE),\"\")","v":""},{"$f":"IF($R122=TRUE,VLOOKUP($A122,'International Exports - Table'!$A$3:$U$19,'Chart Data - Sectors'!O$113-2000,FALSE),\"\")","v":""},{"$f":"IF($R122=TRUE,VLOOKUP($A122,'International Exports - Table'!$A$3:$U$19,'Chart Data - Sectors'!P$113-2000,FALSE),\"\")","v":""},{"$f":"IF($R122=TRUE,VLOOKUP($A122,'International Exports - Table'!$A$3:$U$19,'Chart Data - Sectors'!Q$113-2000,FALSE),\"\")","v":""},false]
["Construction",{"$f":"IF($R123=TRUE,VLOOKUP($A123,'International Exports - Table'!$A$3:$U$19,'Chart Data - Sectors'!B$113-2000,FALSE),\"\")","v":""},{"$f":"IF($R123=TRUE,VLOOKUP($A123,'International Exports - Table'!$A$3:$U$19,'Chart Data - Sectors'!C$113-2000,FALSE),\"\")","v":""},{"$f":"IF($R123=TRUE,VLOOKUP($A123,'International Exports - Table'!$A$3:$U$19,'Chart Data - Sectors'!D$113-2000,FALSE),\"\")","v":""},{"$f":"IF($R123=TRUE,VLOOKUP($A123,'International Exports - Table'!$A$3:$U$19,'Chart Data - Sectors'!E$113-2000,FALSE),\"\")","v":""},{"$f":"IF($R123=TRUE,VLOOKUP($A123,'International Exports - Table'!$A$3:$U$19,'Chart Data - Sectors'!F$113-2000,FALSE),\"\")","v":""},{"$f":"IF($R123=TRUE,VLOOKUP($A123,'International Exports - Table'!$A$3:$U$19,'Chart Data - Sectors'!G$113-2000,FALSE),\"\")","v":""},{"$f":"IF($R123=TRUE,VLOOKUP($A123,'International Exports - Table'!$A$3:$U$19,'Chart Data - Sectors'!H$113-2000,FALSE),\"\")","v":""},{"$f":"IF($R123=TRUE,VLOOKUP($A123,'International Exports - Table'!$A$3:$U$19,'Chart Data - Sectors'!I$113-2000,FALSE),\"\")","v":""},{"$f":"IF($R123=TRUE,VLOOKUP($A123,'International Exports - Table'!$A$3:$U$19,'Chart Data - Sectors'!J$113-2000,FALSE),\"\")","v":""},{"$f":"IF($R123=TRUE,VLOOKUP($A123,'International Exports - Table'!$A$3:$U$19,'Chart Data - Sectors'!K$113-2000,FALSE),\"\")","v":""},{"$f":"IF($R123=TRUE,VLOOKUP($A123,'International Exports - Table'!$A$3:$U$19,'Chart Data - Sectors'!L$113-2000,FALSE),\"\")","v":""},{"$f":"IF($R123=TRUE,VLOOKUP($A123,'International Exports - Table'!$A$3:$U$19,'Chart Data - Sectors'!M$113-2000,FALSE),\"\")","v":""},{"$f":"IF($R123=TRUE,VLOOKUP($A123,'International Exports - Table'!$A$3:$U$19,'Chart Data - Sectors'!N$113-2000,FALSE),\"\")","v":""},{"$f":"IF($R123=TRUE,VLOOKUP($A123,'International Exports - Table'!$A$3:$U$19,'Chart Data - Sectors'!O$113-2000,FALSE),\"\")","v":""},{"$f":"IF($R123=TRUE,VLOOKUP($A123,'International Exports - Table'!$A$3:$U$19,'Chart Data - Sectors'!P$113-2000,FALSE),\"\")","v":""},{"$f":"IF($R123=TRUE,VLOOKUP($A123,'International Exports - Table'!$A$3:$U$19,'Chart Data - Sectors'!Q$113-2000,FALSE),\"\")","v":""},false]
["Education",{"$f":"IF($R124=TRUE,VLOOKUP($A124,'International Exports - Table'!$A$3:$U$19,'Chart Data - Sectors'!B$113-2000,FALSE),\"\")","v":""},{"$f":"IF($R124=TRUE,VLOOKUP($A124,'International Exports - Table'!$A$3:$U$19,'Chart Data - Sectors'!C$113-2000,FALSE),\"\")","v":""},{"$f":"IF($R124=TRUE,VLOOKUP($A124,'International Exports - Table'!$A$3:$U$19,'Chart Data - Sectors'!D$113-2000,FALSE),\"\")","v":""},{"$f":"IF($R124=TRUE,VLOOKUP($A124,'International Exports - Table'!$A$3:$U$19,'Chart Data - Sectors'!E$113-2000,FALSE),\"\")","v":""},{"$f":"IF($R124=TRUE,VLOOKUP($A124,'International Exports - Table'!$A$3:$U$19,'Chart Data - Sectors'!F$113-2000,FALSE),\"\")","v":""},{"$f":"IF($R124=TRUE,VLOOKUP($A124,'International Exports - Table'!$A$3:$U$19,'Chart Data - Sectors'!G$113-2000,FALSE),\"\")","v":""},{"$f":"IF($R124=TRUE,VLOOKUP($A124,'International Exports - Table'!$A$3:$U$19,'Chart Data - Sectors'!H$113-2000,FALSE),\"\")","v":""},{"$f":"IF($R124=TRUE,VLOOKUP($A124,'International Exports - Table'!$A$3:$U$19,'Chart Data - Sectors'!I$113-2000,FALSE),\"\")","v":""},{"$f":"IF($R124=TRUE,VLOOKUP($A124,'International Exports - Table'!$A$3:$U$19,'Chart Data - Sectors'!J$113-2000,FALSE),\"\")","v":""},{"$f":"IF($R124=TRUE,VLOOKUP($A124,'International Exports - Table'!$A$3:$U$19,'Chart Data - Sectors'!K$113-2000,FALSE),\"\")","v":""},{"$f":"IF($R124=TRUE,VLOOKUP($A124,'International Exports - Table'!$A$3:$U$19,'Chart Data - Sectors'!L$113-2000,FALSE),\"\")","v":""},{"$f":"IF($R124=TRUE,VLOOKUP($A124,'International Exports - Table'!$A$3:$U$19,'Chart Data - Sectors'!M$113-2000,FALSE),\"\")","v":""},{"$f":"IF($R124=TRUE,VLOOKUP($A124,'International Exports - Table'!$A$3:$U$19,'Chart Data - Sectors'!N$113-2000,FALSE),\"\")","v":""},{"$f":"IF($R124=TRUE,VLOOKUP($A124,'International Exports - Table'!$A$3:$U$19,'Chart Data - Sectors'!O$113-2000,FALSE),\"\")","v":""},{"$f":"IF($R124=TRUE,VLOOKUP($A124,'International Exports - Table'!$A$3:$U$19,'Chart Data - Sectors'!P$113-2000,FALSE),\"\")","v":""},{"$f":"IF($R124=TRUE,VLOOKUP($A124,'International Exports - Table'!$A$3:$U$19,'Chart Data - Sectors'!Q$113-2000,FALSE),\"\")","v":""},false]
["Forest and Timber Technologies",{"$f":"IF($R125=TRUE,VLOOKUP($A125,'International Exports - Table'!$A$3:$U$19,'Chart Data - Sectors'!B$113-2000,FALSE),\"\")","v":""},{"$f":"IF($R125=TRUE,VLOOKUP($A125,'International Exports - Table'!$A$3:$U$19,'Chart Data - Sectors'!C$113-2000,FALSE),\"\")","v":""},{"$f":"IF($R125=TRUE,VLOOKUP($A125,'International Exports - Table'!$A$3:$U$19,'Chart Data - Sectors'!D$113-2000,FALSE),\"\")","v":""},{"$f":"IF($R125=TRUE,VLOOKUP($A125,'International Exports - Table'!$A$3:$U$19,'Chart Data - Sectors'!E$113-2000,FALSE),\"\")","v":""},{"$f":"IF($R125=TRUE,VLOOKUP($A125,'International Exports - Table'!$A$3:$U$19,'Chart Data - Sectors'!F$113-2000,FALSE),\"\")","v":""},{"$f":"IF($R125=TRUE,VLOOKUP($A125,'International Exports - Table'!$A$3:$U$19,'Chart Data - Sectors'!G$113-2000,FALSE),\"\")","v":""},{"$f":"IF($R125=TRUE,VLOOKUP($A125,'International Exports - Table'!$A$3:$U$19,'Chart Data - Sectors'!H$113-2000,FALSE),\"\")","v":""},{"$f":"IF($R125=TRUE,VLOOKUP($A125,'International Exports - Table'!$A$3:$U$19,'Chart Data - Sectors'!I$113-2000,FALSE),\"\")","v":""},{"$f":"IF($R125=TRUE,VLOOKUP($A125,'International Exports - Table'!$A$3:$U$19,'Chart Data - Sectors'!J$113-2000,FALSE),\"\")","v":""},{"$f":"IF($R125=TRUE,VLOOKUP($A125,'International Exports - Table'!$A$3:$U$19,'Chart Data - Sectors'!K$113-2000,FALSE),\"\")","v":""},{"$f":"IF($R125=TRUE,VLOOKUP($A125,'International Exports - Table'!$A$3:$U$19,'Chart Data - Sectors'!L$113-2000,FALSE),\"\")","v":""},{"$f":"IF($R125=TRUE,VLOOKUP($A125,'International Exports - Table'!$A$3:$U$19,'Chart Data - Sectors'!M$113-2000,FALSE),\"\")","v":""},{"$f":"IF($R125=TRUE,VLOOKUP($A125,'International Exports - Table'!$A$3:$U$19,'Chart Data - Sectors'!N$113-2000,FALSE),\"\")","v":""},{"$f":"IF($R125=TRUE,VLOOKUP($A125,'International Exports - Table'!$A$3:$U$19,'Chart Data - Sectors'!O$113-2000,FALSE),\"\")","v":""},{"$f":"IF($R125=TRUE,VLOOKUP($A125,'International Exports - Table'!$A$3:$U$19,'Chart Data - Sectors'!P$113-2000,FALSE),\"\")","v":""},{"$f":"IF($R125=TRUE,VLOOKUP($A125,'International Exports - Table'!$A$3:$U$19,'Chart Data - Sectors'!Q$113-2000,FALSE),\"\")","v":""},false]
["Textiles",{"$f":"IF($R126=TRUE,VLOOKUP($A126,'International Exports - Table'!$A$3:$U$19,'Chart Data - Sectors'!B$113-2000,FALSE),\"\")","v":""},{"$f":"IF($R126=TRUE,VLOOKUP($A126,'International Exports - Table'!$A$3:$U$19,'Chart Data - Sectors'!C$113-2000,FALSE),\"\")","v":""},{"$f":"IF($R126=TRUE,VLOOKUP($A126,'International Exports - Table'!$A$3:$U$19,'Chart Data - Sectors'!D$113-2000,FALSE),\"\")","v":""},{"$f":"IF($R126=TRUE,VLOOKUP($A126,'International Exports - Table'!$A$3:$U$19,'Chart Data - Sectors'!E$113-2000,FALSE),\"\")","v":""},{"$f":"IF($R126=TRUE,VLOOKUP($A126,'International Exports - Table'!$A$3:$U$19,'Chart Data - Sectors'!F$113-2000,FALSE),\"\")","v":""},{"$f":"IF($R126=TRUE,VLOOKUP($A126,'International Exports - Table'!$A$3:$U$19,'Chart Data - Sectors'!G$113-2000,FALSE),\"\")","v":""},{"$f":"IF($R126=TRUE,VLOOKUP($A126,'International Exports - Table'!$A$3:$U$19,'Chart Data - Sectors'!H$113-2000,FALSE),\"\")","v":""},{"$f":"IF($R126=TRUE,VLOOKUP($A126,'International Exports - Table'!$A$3:$U$19,'Chart Data - Sectors'!I$113-2000,FALSE),\"\")","v":""},{"$f":"IF($R126=TRUE,VLOOKUP($A126,'International Exports - Table'!$A$3:$U$19,'Chart Data - Sectors'!J$113-2000,FALSE),\"\")","v":""},{"$f":"IF($R126=TRUE,VLOOKUP($A126,'International Exports - Table'!$A$3:$U$19,'Chart Data - Sectors'!K$113-2000,FALSE),\"\")","v":""},{"$f":"IF($R126=TRUE,VLOOKUP($A126,'International Exports - Table'!$A$3:$U$19,'Chart Data - Sectors'!L$113-2000,FALSE),\"\")","v":""},{"$f":"IF($R126=TRUE,VLOOKUP($A126,'International Exports - Table'!$A$3:$U$19,'Chart Data - Sectors'!M$113-2000,FALSE),\"\")","v":""},{"$f":"IF($R126=TRUE,VLOOKUP($A126,'International Exports - Table'!$A$3:$U$19,'Chart Data - Sectors'!N$113-2000,FALSE),\"\")","v":""},{"$f":"IF($R126=TRUE,VLOOKUP($A126,'International Exports - Table'!$A$3:$U$19,'Chart Data - Sectors'!O$113-2000,FALSE),\"\")","v":""},{"$f":"IF($R126=TRUE,VLOOKUP($A126,'International Exports - Table'!$A$3:$U$19,'Chart Data - Sectors'!P$113-2000,FALSE),\"\")","v":""},{"$f":"IF($R126=TRUE,VLOOKUP($A126,'International Exports - Table'!$A$3:$U$19,'Chart Data - Sectors'!Q$113-2000,FALSE),\"\")","v":""},false]
["Sustainable Tourism",{"$f":"IF($R127=TRUE,VLOOKUP($A127,'International Exports - Table'!$A$3:$U$19,'Chart Data - Sectors'!B$113-2000,FALSE),\"\")","v":""},{"$f":"IF($R127=TRUE,VLOOKUP($A127,'International Exports - Table'!$A$3:$U$19,'Chart Data - Sectors'!C$113-2000,FALSE),\"\")","v":""},{"$f":"IF($R127=TRUE,VLOOKUP($A127,'International Exports - Table'!$A$3:$U$19,'Chart Data - Sectors'!D$113-2000,FALSE),\"\")","v":""},{"$f":"IF($R127=TRUE,VLOOKUP($A127,'International Exports - Table'!$A$3:$U$19,'Chart Data - Sectors'!E$113-2000,FALSE),\"\")","v":""},{"$f":"IF($R127=TRUE,VLOOKUP($A127,'International Exports - Table'!$A$3:$U$19,'Chart Data - Sectors'!F$113-2000,FALSE),\"\")","v":""},{"$f":"IF($R127=TRUE,VLOOKUP($A127,'International Exports - Table'!$A$3:$U$19,'Chart Data - Sectors'!G$113-2000,FALSE),\"\")","v":""},{"$f":"IF($R127=TRUE,VLOOKUP($A127,'International Exports - Table'!$A$3:$U$19,'Chart Data - Sectors'!H$113-2000,FALSE),\"\")","v":""},{"$f":"IF($R127=TRUE,VLOOKUP($A127,'International Exports - Table'!$A$3:$U$19,'Chart Data - Sectors'!I$113-2000,FALSE),\"\")","v":""},{"$f":"IF($R127=TRUE,VLOOKUP($A127,'International Exports - Table'!$A$3:$U$19,'Chart Data - Sectors'!J$113-2000,FALSE),\"\")","v":""},{"$f":"IF($R127=TRUE,VLOOKUP($A127,'International Exports - Table'!$A$3:$U$19,'Chart Data - Sectors'!K$113-2000,FALSE),\"\")","v":""},{"$f":"IF($R127=TRUE,VLOOKUP($A127,'International Exports - Table'!$A$3:$U$19,'Chart Data - Sectors'!L$113-2000,FALSE),\"\")","v":""},{"$f":"IF($R127=TRUE,VLOOKUP($A127,'International Exports - Table'!$A$3:$U$19,'Chart Data - Sectors'!M$113-2000,FALSE),\"\")","v":""},{"$f":"IF($R127=TRUE,VLOOKUP($A127,'International Exports - Table'!$A$3:$U$19,'Chart Data - Sectors'!N$113-2000,FALSE),\"\")","v":""},{"$f":"IF($R127=TRUE,VLOOKUP($A127,'International Exports - Table'!$A$3:$U$19,'Chart Data - Sectors'!O$113-2000,FALSE),\"\")","v":""},{"$f":"IF($R127=TRUE,VLOOKUP($A127,'International Exports - Table'!$A$3:$U$19,'Chart Data - Sectors'!P$113-2000,FALSE),\"\")","v":""},{"$f":"IF($R127=TRUE,VLOOKUP($A127,'International Exports - Table'!$A$3:$U$19,'Chart Data - Sectors'!Q$113-2000,FALSE),\"\")","v":""},false]
["Other Services and Accommodation",{"$f":"IF($R128=TRUE,VLOOKUP($A128,'International Exports - Table'!$A$3:$U$19,'Chart Data - Sectors'!B$113-2000,FALSE),\"\")","v":""},{"$f":"IF($R128=TRUE,VLOOKUP($A128,'International Exports - Table'!$A$3:$U$19,'Chart Data - Sectors'!C$113-2000,FALSE),\"\")","v":""},{"$f":"IF($R128=TRUE,VLOOKUP($A128,'International Exports - Table'!$A$3:$U$19,'Chart Data - Sectors'!D$113-2000,FALSE),\"\")","v":""},{"$f":"IF($R128=TRUE,VLOOKUP($A128,'International Exports - Table'!$A$3:$U$19,'Chart Data - Sectors'!E$113-2000,FALSE),\"\")","v":""},{"$f":"IF($R128=TRUE,VLOOKUP($A128,'International Exports - Table'!$A$3:$U$19,'Chart Data - Sectors'!F$113-2000,FALSE),\"\")","v":""},{"$f":"IF($R128=TRUE,VLOOKUP($A128,'International Exports - Table'!$A$3:$U$19,'Chart Data - Sectors'!G$113-2000,FALSE),\"\")","v":""},{"$f":"IF($R128=TRUE,VLOOKUP($A128,'International Exports - Table'!$A$3:$U$19,'Chart Data - Sectors'!H$113-2000,FALSE),\"\")","v":""},{"$f":"IF($R128=TRUE,VLOOKUP($A128,'International Exports - Table'!$A$3:$U$19,'Chart Data - Sectors'!I$113-2000,FALSE),\"\")","v":""},{"$f":"IF($R128=TRUE,VLOOKUP($A128,'International Exports - Table'!$A$3:$U$19,'Chart Data - Sectors'!J$113-2000,FALSE),\"\")","v":""},{"$f":"IF($R128=TRUE,VLOOKUP($A128,'International Exports - Table'!$A$3:$U$19,'Chart Data - Sectors'!K$113-2000,FALSE),\"\")","v":""},{"$f":"IF($R128=TRUE,VLOOKUP($A128,'International Exports - Table'!$A$3:$U$19,'Chart Data - Sectors'!L$113-2000,FALSE),\"\")","v":""},{"$f":"IF($R128=TRUE,VLOOKUP($A128,'International Exports - Table'!$A$3:$U$19,'Chart Data - Sectors'!M$113-2000,FALSE),\"\")","v":""},{"$f":"IF($R128=TRUE,VLOOKUP($A128,'International Exports - Table'!$A$3:$U$19,'Chart Data - Sectors'!N$113-2000,FALSE),\"\")","v":""},{"$f":"IF($R128=TRUE,VLOOKUP($A128,'International Exports - Table'!$A$3:$U$19,'Chart Data - Sectors'!O$113-2000,FALSE),\"\")","v":""},{"$f":"IF($R128=TRUE,VLOOKUP($A128,'International Exports - Table'!$A$3:$U$19,'Chart Data - Sectors'!P$113-2000,FALSE),\"\")","v":""},{"$f":"IF($R128=TRUE,VLOOKUP($A128,'International Exports - Table'!$A$3:$U$19,'Chart Data - Sectors'!Q$113-2000,FALSE),\"\")","v":""},false]
["Real Estate",{"$f":"IF($R129=TRUE,VLOOKUP($A129,'International Exports - Table'!$A$3:$U$19,'Chart Data - Sectors'!B$113-2000,FALSE),\"\")","v":""},{"$f":"IF($R129=TRUE,VLOOKUP($A129,'International Exports - Table'!$A$3:$U$19,'Chart Data - Sectors'!C$113-2000,FALSE),\"\")","v":""},{"$f":"IF($R129=TRUE,VLOOKUP($A129,'International Exports - Table'!$A$3:$U$19,'Chart Data - Sectors'!D$113-2000,FALSE),\"\")","v":""},{"$f":"IF($R129=TRUE,VLOOKUP($A129,'International Exports - Table'!$A$3:$U$19,'Chart Data - Sectors'!E$113-2000,FALSE),\"\")","v":""},{"$f":"IF($R129=TRUE,VLOOKUP($A129,'International Exports - Table'!$A$3:$U$19,'Chart Data - Sectors'!F$113-2000,FALSE),\"\")","v":""},{"$f":"IF($R129=TRUE,VLOOKUP($A129,'International Exports - Table'!$A$3:$U$19,'Chart Data - Sectors'!G$113-2000,FALSE),\"\")","v":""},{"$f":"IF($R129=TRUE,VLOOKUP($A129,'International Exports - Table'!$A$3:$U$19,'Chart Data - Sectors'!H$113-2000,FALSE),\"\")","v":""},{"$f":"IF($R129=TRUE,VLOOKUP($A129,'International Exports - Table'!$A$3:$U$19,'Chart Data - Sectors'!I$113-2000,FALSE),\"\")","v":""},{"$f":"IF($R129=TRUE,VLOOKUP($A129,'International Exports - Table'!$A$3:$U$19,'Chart Data - Sectors'!J$113-2000,FALSE),\"\")","v":""},{"$f":"IF($R129=TRUE,VLOOKUP($A129,'International Exports - Table'!$A$3:$U$19,'Chart Data - Sectors'!K$113-2000,FALSE),\"\")","v":""},{"$f":"IF($R129=TRUE,VLOOKUP($A129,'International Exports - Table'!$A$3:$U$19,'Chart Data - Sectors'!L$113-2000,FALSE),\"\")","v":""},{"$f":"IF($R129=TRUE,VLOOKUP($A129,'International Exports - Table'!$A$3:$U$19,'Chart Data - Sectors'!M$113-2000,FALSE),\"\")","v":""},{"$f":"IF($R129=TRUE,VLOOKUP($A129,'International Exports - Table'!$A$3:$U$19,'Chart Data - Sectors'!N$113-2000,FALSE),\"\")","v":""},{"$f":"IF($R129=TRUE,VLOOKUP($A129,'International Exports - Table'!$A$3:$U$19,'Chart Data - Sectors'!O$113-2000,FALSE),\"\")","v":""},{"$f":"IF($R129=TRUE,VLOOKUP($A129,'International Exports - Table'!$A$3:$U$19,'Chart Data - Sectors'!P$113-2000,FALSE),\"\")","v":""},{"$f":"IF($R129=TRUE,VLOOKUP($A129,'International Exports - Table'!$A$3:$U$19,'Chart Data - Sectors'!Q$113-2000,FALSE),\"\")","v":""},false]
[]
[]
[null,2002,2003,2004,2005,2006,2007,2008,2009,2010,2011,2012,2013,2014,2015,2016,2017,"Chart control"]
["Financial and Business Services",{"$f":"IF($R133=TRUE,VLOOKUP($A133,'Rest of the UK Exports - Table'!$A$3:$V$19,'Chart Data - Sectors'!B$113-2000,FALSE),\"\")","v":5995},{"$f":"IF($R133=TRUE,VLOOKUP($A133,'Rest of the UK Exports - Table'!$A$3:$V$19,'Chart Data - Sectors'!C$113-2000,FALSE),\"\")","v":7610},{"$f":"IF($R133=TRUE,VLOOKUP($A133,'Rest of the UK Exports - Table'!$A$3:$V$19,'Chart Data - Sectors'!D$113-2000,FALSE),\"\")","v":10120},{"$f":"IF($R133=TRUE,VLOOKUP($A133,'Rest of the UK Exports - Table'!$A$3:$V$19,'Chart Data - Sectors'!E$113-2000,FALSE),\"\")","v":8985},{"$f":"IF($R133=TRUE,VLOOKUP($A133,'Rest of the UK Exports - Table'!$A$3:$V$19,'Chart Data - Sectors'!F$113-2000,FALSE),\"\")","v":10415},{"$f":"IF($R133=TRUE,VLOOKUP($A133,'Rest of the UK Exports - Table'!$A$3:$V$19,'Chart Data - Sectors'!G$113-2000,FALSE),\"\")","v":13490},{"$f":"IF($R133=TRUE,VLOOKUP($A133,'Rest of the UK Exports - Table'!$A$3:$V$19,'Chart Data - Sectors'!H$113-2000,FALSE),\"\")","v":13165},{"$f":"IF($R133=TRUE,VLOOKUP($A133,'Rest of the UK Exports - Table'!$A$3:$V$19,'Chart Data - Sectors'!I$113-2000,FALSE),\"\")","v":11770},{"$f":"IF($R133=TRUE,VLOOKUP($A133,'Rest of the UK Exports - Table'!$A$3:$V$19,'Chart Data - Sectors'!J$113-2000,FALSE),\"\")","v":12285},{"$f":"IF($R133=TRUE,VLOOKUP($A133,'Rest of the UK Exports - Table'!$A$3:$V$19,'Chart Data - Sectors'!K$113-2000,FALSE),\"\")","v":10420},{"$f":"IF($R133=TRUE,VLOOKUP($A133,'Rest of the UK Exports - Table'!$A$3:$V$19,'Chart Data - Sectors'!L$113-2000,FALSE),\"\")","v":10185},{"$f":"IF($R133=TRUE,VLOOKUP($A133,'Rest of the UK Exports - Table'!$A$3:$V$19,'Chart Data - Sectors'!M$113-2000,FALSE),\"\")","v":10800},{"$f":"IF($R133=TRUE,VLOOKUP($A133,'Rest of the UK Exports - Table'!$A$3:$V$19,'Chart Data - Sectors'!N$113-2000,FALSE),\"\")","v":11635},{"$f":"IF($R133=TRUE,VLOOKUP($A133,'Rest of the UK Exports - Table'!$A$3:$V$19,'Chart Data - Sectors'!O$113-2000,FALSE),\"\")","v":11690},{"$f":"IF($R133=TRUE,VLOOKUP($A133,'Rest of the UK Exports - Table'!$A$3:$V$19,'Chart Data - Sectors'!P$113-2000,FALSE),\"\")","v":11905},{"$f":"IF($R133=TRUE,VLOOKUP($A133,'Rest of the UK Exports - Table'!$A$3:$V$19,'Chart Data - Sectors'!Q$113-2000,FALSE),\"\")","v":13230},true]
["Energy",{"$f":"IF($R134=TRUE,VLOOKUP($A134,'Rest of the UK Exports - Table'!$A$3:$V$19,'Chart Data - Sectors'!B$113-2000,FALSE),\"\")","v":2645},{"$f":"IF($R134=TRUE,VLOOKUP($A134,'Rest of the UK Exports - Table'!$A$3:$V$19,'Chart Data - Sectors'!C$113-2000,FALSE),\"\")","v":2775},{"$f":"IF($R134=TRUE,VLOOKUP($A134,'Rest of the UK Exports - Table'!$A$3:$V$19,'Chart Data - Sectors'!D$113-2000,FALSE),\"\")","v":3005},{"$f":"IF($R134=TRUE,VLOOKUP($A134,'Rest of the UK Exports - Table'!$A$3:$V$19,'Chart Data - Sectors'!E$113-2000,FALSE),\"\")","v":2795},{"$f":"IF($R134=TRUE,VLOOKUP($A134,'Rest of the UK Exports - Table'!$A$3:$V$19,'Chart Data - Sectors'!F$113-2000,FALSE),\"\")","v":3140},{"$f":"IF($R134=TRUE,VLOOKUP($A134,'Rest of the UK Exports - Table'!$A$3:$V$19,'Chart Data - Sectors'!G$113-2000,FALSE),\"\")","v":3300},{"$f":"IF($R134=TRUE,VLOOKUP($A134,'Rest of the UK Exports - Table'!$A$3:$V$19,'Chart Data - Sectors'!H$113-2000,FALSE),\"\")","v":3925},{"$f":"IF($R134=TRUE,VLOOKUP($A134,'Rest of the UK Exports - Table'!$A$3:$V$19,'Chart Data - Sectors'!I$113-2000,FALSE),\"\")","v":6155},{"$f":"IF($R134=TRUE,VLOOKUP($A134,'Rest of the UK Exports - Table'!$A$3:$V$19,'Chart Data - Sectors'!J$113-2000,FALSE),\"\")","v":6780},{"$f":"IF($R134=TRUE,VLOOKUP($A134,'Rest of the UK Exports - Table'!$A$3:$V$19,'Chart Data - Sectors'!K$113-2000,FALSE),\"\")","v":8375},{"$f":"IF($R134=TRUE,VLOOKUP($A134,'Rest of the UK Exports - Table'!$A$3:$V$19,'Chart Data - Sectors'!L$113-2000,FALSE),\"\")","v":8415},{"$f":"IF($R134=TRUE,VLOOKUP($A134,'Rest of the UK Exports - Table'!$A$3:$V$19,'Chart Data - Sectors'!M$113-2000,FALSE),\"\")","v":9135},{"$f":"IF($R134=TRUE,VLOOKUP($A134,'Rest of the UK Exports - Table'!$A$3:$V$19,'Chart Data - Sectors'!N$113-2000,FALSE),\"\")","v":8215},{"$f":"IF($R134=TRUE,VLOOKUP($A134,'Rest of the UK Exports - Table'!$A$3:$V$19,'Chart Data - Sectors'!O$113-2000,FALSE),\"\")","v":9910},{"$f":"IF($R134=TRUE,VLOOKUP($A134,'Rest of the UK Exports - Table'!$A$3:$V$19,'Chart Data - Sectors'!P$113-2000,FALSE),\"\")","v":7810},{"$f":"IF($R134=TRUE,VLOOKUP($A134,'Rest of the UK Exports - Table'!$A$3:$V$19,'Chart Data - Sectors'!Q$113-2000,FALSE),\"\")","v":7770},true]
["Wholesale and Retail Trade",{"$f":"IF($R135=TRUE,VLOOKUP($A135,'Rest of the UK Exports - Table'!$A$3:$V$19,'Chart Data - Sectors'!B$113-2000,FALSE),\"\")","v":4250},{"$f":"IF($R135=TRUE,VLOOKUP($A135,'Rest of the UK Exports - Table'!$A$3:$V$19,'Chart Data - Sectors'!C$113-2000,FALSE),\"\")","v":4670},{"$f":"IF($R135=TRUE,VLOOKUP($A135,'Rest of the UK Exports - Table'!$A$3:$V$19,'Chart Data - Sectors'!D$113-2000,FALSE),\"\")","v":6680},{"$f":"IF($R135=TRUE,VLOOKUP($A135,'Rest of the UK Exports - Table'!$A$3:$V$19,'Chart Data - Sectors'!E$113-2000,FALSE),\"\")","v":6080},{"$f":"IF($R135=TRUE,VLOOKUP($A135,'Rest of the UK Exports - Table'!$A$3:$V$19,'Chart Data - Sectors'!F$113-2000,FALSE),\"\")","v":5865},{"$f":"IF($R135=TRUE,VLOOKUP($A135,'Rest of the UK Exports - Table'!$A$3:$V$19,'Chart Data - Sectors'!G$113-2000,FALSE),\"\")","v":6395},{"$f":"IF($R135=TRUE,VLOOKUP($A135,'Rest of the UK Exports - Table'!$A$3:$V$19,'Chart Data - Sectors'!H$113-2000,FALSE),\"\")","v":5780},{"$f":"IF($R135=TRUE,VLOOKUP($A135,'Rest of the UK Exports - Table'!$A$3:$V$19,'Chart Data - Sectors'!I$113-2000,FALSE),\"\")","v":5485},{"$f":"IF($R135=TRUE,VLOOKUP($A135,'Rest of the UK Exports - Table'!$A$3:$V$19,'Chart Data - Sectors'!J$113-2000,FALSE),\"\")","v":5475},{"$f":"IF($R135=TRUE,VLOOKUP($A135,'Rest of the UK Exports - Table'!$A$3:$V$19,'Chart Data - Sectors'!K$113-2000,FALSE),\"\")","v":5970},{"$f":"IF($R135=TRUE,VLOOKUP($A135,'Rest of the UK Exports - Table'!$A$3:$V$19,'Chart Data - Sectors'!L$113-2000,FALSE),\"\")","v":5780},{"$f":"IF($R135=TRUE,VLOOKUP($A135,'Rest of the UK Exports - Table'!$A$3:$V$19,'Chart Data - Sectors'!M$113-2000,FALSE),\"\")","v":6055},{"$f":"IF($R135=TRUE,VLOOKUP($A135,'Rest of the UK Exports - Table'!$A$3:$V$19,'Chart Data - Sectors'!N$113-2000,FALSE),\"\")","v":6870},{"$f":"IF($R135=TRUE,VLOOKUP($A135,'Rest of the UK Exports - Table'!$A$3:$V$19,'Chart Data - Sectors'!O$113-2000,FALSE),\"\")","v":7000},{"$f":"IF($R135=TRUE,VLOOKUP($A135,'Rest of the UK Exports - Table'!$A$3:$V$19,'Chart Data - Sectors'!P$113-2000,FALSE),\"\")","v":6620},{"$f":"IF($R135=TRUE,VLOOKUP($A135,'Rest of the UK Exports - Table'!$A$3:$V$19,'Chart Data - Sectors'!Q$113-2000,FALSE),\"\")","v":6685},true]
["Engineering and Advanced Manufacturing",{"$f":"IF($R136=TRUE,VLOOKUP($A136,'Rest of the UK Exports - Table'!$A$3:$V$19,'Chart Data - Sectors'!B$113-2000,FALSE),\"\")","v":3760},{"$f":"IF($R136=TRUE,VLOOKUP($A136,'Rest of the UK Exports - Table'!$A$3:$V$19,'Chart Data - Sectors'!C$113-2000,FALSE),\"\")","v":3445},{"$f":"IF($R136=TRUE,VLOOKUP($A136,'Rest of the UK Exports - Table'!$A$3:$V$19,'Chart Data - Sectors'!D$113-2000,FALSE),\"\")","v":3475},{"$f":"IF($R136=TRUE,VLOOKUP($A136,'Rest of the UK Exports - Table'!$A$3:$V$19,'Chart Data - Sectors'!E$113-2000,FALSE),\"\")","v":3580},{"$f":"IF($R136=TRUE,VLOOKUP($A136,'Rest of the UK Exports - Table'!$A$3:$V$19,'Chart Data - Sectors'!F$113-2000,FALSE),\"\")","v":3700},{"$f":"IF($R136=TRUE,VLOOKUP($A136,'Rest of the UK Exports - Table'!$A$3:$V$19,'Chart Data - Sectors'!G$113-2000,FALSE),\"\")","v":4185},{"$f":"IF($R136=TRUE,VLOOKUP($A136,'Rest of the UK Exports - Table'!$A$3:$V$19,'Chart Data - Sectors'!H$113-2000,FALSE),\"\")","v":4475},{"$f":"IF($R136=TRUE,VLOOKUP($A136,'Rest of the UK Exports - Table'!$A$3:$V$19,'Chart Data - Sectors'!I$113-2000,FALSE),\"\")","v":4535},{"$f":"IF($R136=TRUE,VLOOKUP($A136,'Rest of the UK Exports - Table'!$A$3:$V$19,'Chart Data - Sectors'!J$113-2000,FALSE),\"\")","v":4865},{"$f":"IF($R136=TRUE,VLOOKUP($A136,'Rest of the UK Exports - Table'!$A$3:$V$19,'Chart Data - Sectors'!K$113-2000,FALSE),\"\")","v":4745},{"$f":"IF($R136=TRUE,VLOOKUP($A136,'Rest of the UK Exports - Table'!$A$3:$V$19,'Chart Data - Sectors'!L$113-2000,FALSE),\"\")","v":5380},{"$f":"IF($R136=TRUE,VLOOKUP($A136,'Rest of the UK Exports - Table'!$A$3:$V$19,'Chart Data - Sectors'!M$113-2000,FALSE),\"\")","v":5365},{"$f":"IF($R136=TRUE,VLOOKUP($A136,'Rest of the UK Exports - Table'!$A$3:$V$19,'Chart Data - Sectors'!N$113-2000,FALSE),\"\")","v":5760},{"$f":"IF($R136=TRUE,VLOOKUP($A136,'Rest of the UK Exports - Table'!$A$3:$V$19,'Chart Data - Sectors'!O$113-2000,FALSE),\"\")","v":6505},{"$f":"IF($R136=TRUE,VLOOKUP($A136,'Rest of the UK Exports - Table'!$A$3:$V$19,'Chart Data - Sectors'!P$113-2000,FALSE),\"\")","v":5175},{"$f":"IF($R136=TRUE,VLOOKUP($A136,'Rest of the UK Exports - Table'!$A$3:$V$19,'Chart Data - Sectors'!Q$113-2000,FALSE),\"\")","v":4745},true]
["Food and Drink",{"$f":"IF($R137=TRUE,VLOOKUP($A137,'Rest of the UK Exports - Table'!$A$3:$V$19,'Chart Data - Sectors'!B$113-2000,FALSE),\"\")","v":""},{"$f":"IF($R137=TRUE,VLOOKUP($A137,'Rest of the UK Exports - Table'!$A$3:$V$19,'Chart Data - Sectors'!C$113-2000,FALSE),\"\")","v":""},{"$f":"IF($R137=TRUE,VLOOKUP($A137,'Rest of the UK Exports - Table'!$A$3:$V$19,'Chart Data - Sectors'!D$113-2000,FALSE),\"\")","v":""},{"$f":"IF($R137=TRUE,VLOOKUP($A137,'Rest of the UK Exports - Table'!$A$3:$V$19,'Chart Data - Sectors'!E$113-2000,FALSE),\"\")","v":""},{"$f":"IF($R137=TRUE,VLOOKUP($A137,'Rest of the UK Exports - Table'!$A$3:$V$19,'Chart Data - Sectors'!F$113-2000,FALSE),\"\")","v":""},{"$f":"IF($R137=TRUE,VLOOKUP($A137,'Rest of the UK Exports - Table'!$A$3:$V$19,'Chart Data - Sectors'!G$113-2000,FALSE),\"\")","v":""},{"$f":"IF($R137=TRUE,VLOOKUP($A137,'Rest of the UK Exports - Table'!$A$3:$V$19,'Chart Data - Sectors'!H$113-2000,FALSE),\"\")","v":""},{"$f":"IF($R137=TRUE,VLOOKUP($A137,'Rest of the UK Exports - Table'!$A$3:$V$19,'Chart Data - Sectors'!I$113-2000,FALSE),\"\")","v":""},{"$f":"IF($R137=TRUE,VLOOKUP($A137,'Rest of the UK Exports - Table'!$A$3:$V$19,'Chart Data - Sectors'!J$113-2000,FALSE),\"\")","v":""},{"$f":"IF($R137=TRUE,VLOOKUP($A137,'Rest of the UK Exports - Table'!$A$3:$V$19,'Chart Data - Sectors'!K$113-2000,FALSE),\"\")","v":""},{"$f":"IF($R137=TRUE,VLOOKUP($A137,'Rest of the UK Exports - Table'!$A$3:$V$19,'Chart Data - Sectors'!L$113-2000,FALSE),\"\")","v":""},{"$f":"IF($R137=TRUE,VLOOKUP($A137,'Rest of the UK Exports - Table'!$A$3:$V$19,'Chart Data - Sectors'!M$113-2000,FALSE),\"\")","v":""},{"$f":"IF($R137=TRUE,VLOOKUP($A137,'Rest of the UK Exports - Table'!$A$3:$V$19,'Chart Data - Sectors'!N$113-2000,FALSE),\"\")","v":""},{"$f":"IF($R137=TRUE,VLOOKUP($A137,'Rest of the UK Exports - Table'!$A$3:$V$19,'Chart Data - Sectors'!O$113-2000,FALSE),\"\")","v":""},{"$f":"IF($R137=TRUE,VLOOKUP($A137,'Rest of the UK Exports - Table'!$A$3:$V$19,'Chart Data - Sectors'!P$113-2000,FALSE),\"\")","v":""},{"$f":"IF($R137=TRUE,VLOOKUP($A137,'Rest of the UK Exports - Table'!$A$3:$V$19,'Chart Data - Sectors'!Q$113-2000,FALSE),\"\")","v":""},false]
["Technology, Digital and Media",{"$f":"IF($R138=TRUE,VLOOKUP($A138,'Rest of the UK Exports - Table'!$A$3:$V$19,'Chart Data - Sectors'!B$113-2000,FALSE),\"\")","v":""},{"$f":"IF($R138=TRUE,VLOOKUP($A138,'Rest of the UK Exports - Table'!$A$3:$V$19,'Chart Data - Sectors'!C$113-2000,FALSE),\"\")","v":""},{"$f":"IF($R138=TRUE,VLOOKUP($A138,'Rest of the UK Exports - Table'!$A$3:$V$19,'Chart Data - Sectors'!D$113-2000,FALSE),\"\")","v":""},{"$f":"IF($R138=TRUE,VLOOKUP($A138,'Rest of the UK Exports - Table'!$A$3:$V$19,'Chart Data - Sectors'!E$113-2000,FALSE),\"\")","v":""},{"$f":"IF($R138=TRUE,VLOOKUP($A138,'Rest of the UK Exports - Table'!$A$3:$V$19,'Chart Data - Sectors'!F$113-2000,FALSE),\"\")","v":""},{"$f":"IF($R138=TRUE,VLOOKUP($A138,'Rest of the UK Exports - Table'!$A$3:$V$19,'Chart Data - Sectors'!G$113-2000,FALSE),\"\")","v":""},{"$f":"IF($R138=TRUE,VLOOKUP($A138,'Rest of the UK Exports - Table'!$A$3:$V$19,'Chart Data - Sectors'!H$113-2000,FALSE),\"\")","v":""},{"$f":"IF($R138=TRUE,VLOOKUP($A138,'Rest of the UK Exports - Table'!$A$3:$V$19,'Chart Data - Sectors'!I$113-2000,FALSE),\"\")","v":""},{"$f":"IF($R138=TRUE,VLOOKUP($A138,'Rest of the UK Exports - Table'!$A$3:$V$19,'Chart Data - Sectors'!J$113-2000,FALSE),\"\")","v":""},{"$f":"IF($R138=TRUE,VLOOKUP($A138,'Rest of the UK Exports - Table'!$A$3:$V$19,'Chart Data - Sectors'!K$113-2000,FALSE),\"\")","v":""},{"$f":"IF($R138=TRUE,VLOOKUP($A138,'Rest of the UK Exports - Table'!$A$3:$V$19,'Chart Data - Sectors'!L$113-2000,FALSE),\"\")","v":""},{"$f":"IF($R138=TRUE,VLOOKUP($A138,'Rest of the UK Exports - Table'!$A$3:$V$19,'Chart Data - Sectors'!M$113-2000,FALSE),\"\")","v":""},{"$f":"IF($R138=TRUE,VLOOKUP($A138,'Rest of the UK Exports - Table'!$A$3:$V$19,'Chart Data - Sectors'!N$113-2000,FALSE),\"\")","v":""},{"$f":"IF($R138=TRUE,VLOOKUP($A138,'Rest of the UK Exports - Table'!$A$3:$V$19,'Chart Data - Sectors'!O$113-2000,FALSE),\"\")","v":""},{"$f":"IF($R138=TRUE,VLOOKUP($A138,'Rest of the UK Exports - Table'!$A$3:$V$19,'Chart Data - Sectors'!P$113-2000,FALSE),\"\")","v":""},{"$f":"IF($R138=TRUE,VLOOKUP($A138,'Rest of the UK Exports - Table'!$A$3:$V$19,'Chart Data - Sectors'!Q$113-2000,FALSE),\"\")","v":""},false]
["Transportation and Storage",{"$f":"IF($R139=TRUE,VLOOKUP($A139,'Rest of the UK Exports - Table'!$A$3:$V$19,'Chart Data - Sectors'!B$113-2000,FALSE),\"\")","v":""},{"$f":"IF($R139=TRUE,VLOOKUP($A139,'Rest of the UK Exports - Table'!$A$3:$V$19,'Chart Data - Sectors'!C$113-2000,FALSE),\"\")","v":""},{"$f":"IF($R139=TRUE,VLOOKUP($A139,'Rest of the UK Exports - Table'!$A$3:$V$19,'Chart Data - Sectors'!D$113-2000,FALSE),\"\")","v":""},{"$f":"IF($R139=TRUE,VLOOKUP($A139,'Rest of the UK Exports - Table'!$A$3:$V$19,'Chart Data - Sectors'!E$113-2000,FALSE),\"\")","v":""},{"$f":"IF($R139=TRUE,VLOOKUP($A139,'Rest of the UK Exports - Table'!$A$3:$V$19,'Chart Data - Sectors'!F$113-2000,FALSE),\"\")","v":""},{"$f":"IF($R139=TRUE,VLOOKUP($A139,'Rest of the UK Exports - Table'!$A$3:$V$19,'Chart Data - Sectors'!G$113-2000,FALSE),\"\")","v":""},{"$f":"IF($R139=TRUE,VLOOKUP($A139,'Rest of the UK Exports - Table'!$A$3:$V$19,'Chart Data - Sectors'!H$113-2000,FALSE),\"\")","v":""},{"$f":"IF($R139=TRUE,VLOOKUP($A139,'Rest of the UK Exports - Table'!$A$3:$V$19,'Chart Data - Sectors'!I$113-2000,FALSE),\"\")","v":""},{"$f":"IF($R139=TRUE,VLOOKUP($A139,'Rest of the UK Exports - Table'!$A$3:$V$19,'Chart Data - Sectors'!J$113-2000,FALSE),\"\")","v":""},{"$f":"IF($R139=TRUE,VLOOKUP($A139,'Rest of the UK Exports - Table'!$A$3:$V$19,'Chart Data - Sectors'!K$113-2000,FALSE),\"\")","v":""},{"$f":"IF($R139=TRUE,VLOOKUP($A139,'Rest of the UK Exports - Table'!$A$3:$V$19,'Chart Data - Sectors'!L$113-2000,FALSE),\"\")","v":""},{"$f":"IF($R139=TRUE,VLOOKUP($A139,'Rest of the UK Exports - Table'!$A$3:$V$19,'Chart Data - Sectors'!M$113-2000,FALSE),\"\")","v":""},{"$f":"IF($R139=TRUE,VLOOKUP($A139,'Rest of the UK Exports - Table'!$A$3:$V$19,'Chart Data - Sectors'!N$113-2000,FALSE),\"\")","v":""},{"$f":"IF($R139=TRUE,VLOOKUP($A139,'Rest of the UK Exports - Table'!$A$3:$V$19,'Chart Data - Sectors'!O$113-2000,FALSE),\"\")","v":""},{"$f":"IF($R139=TRUE,VLOOKUP($A139,'Rest of the UK Exports - Table'!$A$3:$V$19,'Chart Data - Sectors'!P$113-2000,FALSE),\"\")","v":""},{"$f":"IF($R139=TRUE,VLOOKUP($A139,'Rest of the UK Exports - Table'!$A$3:$V$19,'Chart Data - Sectors'!Q$113-2000,FALSE),\"\")","v":""},false]
["Construction",{"$f":"IF($R140=TRUE,VLOOKUP($A140,'Rest of the UK Exports - Table'!$A$3:$V$19,'Chart Data - Sectors'!B$113-2000,FALSE),\"\")","v":""},{"$f":"IF($R140=TRUE,VLOOKUP($A140,'Rest of the UK Exports - Table'!$A$3:$V$19,'Chart Data - Sectors'!C$113-2000,FALSE),\"\")","v":""},{"$f":"IF($R140=TRUE,VLOOKUP($A140,'Rest of the UK Exports - Table'!$A$3:$V$19,'Chart Data - Sectors'!D$113-2000,FALSE),\"\")","v":""},{"$f":"IF($R140=TRUE,VLOOKUP($A140,'Rest of the UK Exports - Table'!$A$3:$V$19,'Chart Data - Sectors'!E$113-2000,FALSE),\"\")","v":""},{"$f":"IF($R140=TRUE,VLOOKUP($A140,'Rest of the UK Exports - Table'!$A$3:$V$19,'Chart Data - Sectors'!F$113-2000,FALSE),\"\")","v":""},{"$f":"IF($R140=TRUE,VLOOKUP($A140,'Rest of the UK Exports - Table'!$A$3:$V$19,'Chart Data - Sectors'!G$113-2000,FALSE),\"\")","v":""},{"$f":"IF($R140=TRUE,VLOOKUP($A140,'Rest of the UK Exports - Table'!$A$3:$V$19,'Chart Data - Sectors'!H$113-2000,FALSE),\"\")","v":""},{"$f":"IF($R140=TRUE,VLOOKUP($A140,'Rest of the UK Exports - Table'!$A$3:$V$19,'Chart Data - Sectors'!I$113-2000,FALSE),\"\")","v":""},{"$f":"IF($R140=TRUE,VLOOKUP($A140,'Rest of the UK Exports - Table'!$A$3:$V$19,'Chart Data - Sectors'!J$113-2000,FALSE),\"\")","v":""},{"$f":"IF($R140=TRUE,VLOOKUP($A140,'Rest of the UK Exports - Table'!$A$3:$V$19,'Chart Data - Sectors'!K$113-2000,FALSE),\"\")","v":""},{"$f":"IF($R140=TRUE,VLOOKUP($A140,'Rest of the UK Exports - Table'!$A$3:$V$19,'Chart Data - Sectors'!L$113-2000,FALSE),\"\")","v":""},{"$f":"IF($R140=TRUE,VLOOKUP($A140,'Rest of the UK Exports - Table'!$A$3:$V$19,'Chart Data - Sectors'!M$113-2000,FALSE),\"\")","v":""},{"$f":"IF($R140=TRUE,VLOOKUP($A140,'Rest of the UK Exports - Table'!$A$3:$V$19,'Chart Data - Sectors'!N$113-2000,FALSE),\"\")","v":""},{"$f":"IF($R140=TRUE,VLOOKUP($A140,'Rest of the UK Exports - Table'!$A$3:$V$19,'Chart Data - Sectors'!O$113-2000,FALSE),\"\")","v":""},{"$f":"IF($R140=TRUE,VLOOKUP($A140,'Rest of the UK Exports - Table'!$A$3:$V$19,'Chart Data - Sectors'!P$113-2000,FALSE),\"\")","v":""},{"$f":"IF($R140=TRUE,VLOOKUP($A140,'Rest of the UK Exports - Table'!$A$3:$V$19,'Chart Data - Sectors'!Q$113-2000,FALSE),\"\")","v":""},false]
["Chemical Sciences",{"$f":"IF($R141=TRUE,VLOOKUP($A141,'Rest of the UK Exports - Table'!$A$3:$V$19,'Chart Data - Sectors'!B$113-2000,FALSE),\"\")","v":""},{"$f":"IF($R141=TRUE,VLOOKUP($A141,'Rest of the UK Exports - Table'!$A$3:$V$19,'Chart Data - Sectors'!C$113-2000,FALSE),\"\")","v":""},{"$f":"IF($R141=TRUE,VLOOKUP($A141,'Rest of the UK Exports - Table'!$A$3:$V$19,'Chart Data - Sectors'!D$113-2000,FALSE),\"\")","v":""},{"$f":"IF($R141=TRUE,VLOOKUP($A141,'Rest of the UK Exports - Table'!$A$3:$V$19,'Chart Data - Sectors'!E$113-2000,FALSE),\"\")","v":""},{"$f":"IF($R141=TRUE,VLOOKUP($A141,'Rest of the UK Exports - Table'!$A$3:$V$19,'Chart Data - Sectors'!F$113-2000,FALSE),\"\")","v":""},{"$f":"IF($R141=TRUE,VLOOKUP($A141,'Rest of the UK Exports - Table'!$A$3:$V$19,'Chart Data - Sectors'!G$113-2000,FALSE),\"\")","v":""},{"$f":"IF($R141=TRUE,VLOOKUP($A141,'Rest of the UK Exports - Table'!$A$3:$V$19,'Chart Data - Sectors'!H$113-2000,FALSE),\"\")","v":""},{"$f":"IF($R141=TRUE,VLOOKUP($A141,'Rest of the UK Exports - Table'!$A$3:$V$19,'Chart Data - Sectors'!I$113-2000,FALSE),\"\")","v":""},{"$f":"IF($R141=TRUE,VLOOKUP($A141,'Rest of the UK Exports - Table'!$A$3:$V$19,'Chart Data - Sectors'!J$113-2000,FALSE),\"\")","v":""},{"$f":"IF($R141=TRUE,VLOOKUP($A141,'Rest of the UK Exports - Table'!$A$3:$V$19,'Chart Data - Sectors'!K$113-2000,FALSE),\"\")","v":""},{"$f":"IF($R141=TRUE,VLOOKUP($A141,'Rest of the UK Exports - Table'!$A$3:$V$19,'Chart Data - Sectors'!L$113-2000,FALSE),\"\")","v":""},{"$f":"IF($R141=TRUE,VLOOKUP($A141,'Rest of the UK Exports - Table'!$A$3:$V$19,'Chart Data - Sectors'!M$113-2000,FALSE),\"\")","v":""},{"$f":"IF($R141=TRUE,VLOOKUP($A141,'Rest of the UK Exports - Table'!$A$3:$V$19,'Chart Data - Sectors'!N$113-2000,FALSE),\"\")","v":""},{"$f":"IF($R141=TRUE,VLOOKUP($A141,'Rest of the UK Exports - Table'!$A$3:$V$19,'Chart Data - Sectors'!O$113-2000,FALSE),\"\")","v":""},{"$f":"IF($R141=TRUE,VLOOKUP($A141,'Rest of the UK Exports - Table'!$A$3:$V$19,'Chart Data - Sectors'!P$113-2000,FALSE),\"\")","v":""},{"$f":"IF($R141=TRUE,VLOOKUP($A141,'Rest of the UK Exports - Table'!$A$3:$V$19,'Chart Data - Sectors'!Q$113-2000,FALSE),\"\")","v":""},false]
["Other Services and Accommodation",{"$f":"IF($R142=TRUE,VLOOKUP($A142,'Rest of the UK Exports - Table'!$A$3:$V$19,'Chart Data - Sectors'!B$113-2000,FALSE),\"\")","v":""},{"$f":"IF($R142=TRUE,VLOOKUP($A142,'Rest of the UK Exports - Table'!$A$3:$V$19,'Chart Data - Sectors'!C$113-2000,FALSE),\"\")","v":""},{"$f":"IF($R142=TRUE,VLOOKUP($A142,'Rest of the UK Exports - Table'!$A$3:$V$19,'Chart Data - Sectors'!D$113-2000,FALSE),\"\")","v":""},{"$f":"IF($R142=TRUE,VLOOKUP($A142,'Rest of the UK Exports - Table'!$A$3:$V$19,'Chart Data - Sectors'!E$113-2000,FALSE),\"\")","v":""},{"$f":"IF($R142=TRUE,VLOOKUP($A142,'Rest of the UK Exports - Table'!$A$3:$V$19,'Chart Data - Sectors'!F$113-2000,FALSE),\"\")","v":""},{"$f":"IF($R142=TRUE,VLOOKUP($A142,'Rest of the UK Exports - Table'!$A$3:$V$19,'Chart Data - Sectors'!G$113-2000,FALSE),\"\")","v":""},{"$f":"IF($R142=TRUE,VLOOKUP($A142,'Rest of the UK Exports - Table'!$A$3:$V$19,'Chart Data - Sectors'!H$113-2000,FALSE),\"\")","v":""},{"$f":"IF($R142=TRUE,VLOOKUP($A142,'Rest of the UK Exports - Table'!$A$3:$V$19,'Chart Data - Sectors'!I$113-2000,FALSE),\"\")","v":""},{"$f":"IF($R142=TRUE,VLOOKUP($A142,'Rest of the UK Exports - Table'!$A$3:$V$19,'Chart Data - Sectors'!J$113-2000,FALSE),\"\")","v":""},{"$f":"IF($R142=TRUE,VLOOKUP($A142,'Rest of the UK Exports - Table'!$A$3:$V$19,'Chart Data - Sectors'!K$113-2000,FALSE),\"\")","v":""},{"$f":"IF($R142=TRUE,VLOOKUP($A142,'Rest of the UK Exports - Table'!$A$3:$V$19,'Chart Data - Sectors'!L$113-2000,FALSE),\"\")","v":""},{"$f":"IF($R142=TRUE,VLOOKUP($A142,'Rest of the UK Exports - Table'!$A$3:$V$19,'Chart Data - Sectors'!M$113-2000,FALSE),\"\")","v":""},{"$f":"IF($R142=TRUE,VLOOKUP($A142,'Rest of the UK Exports - Table'!$A$3:$V$19,'Chart Data - Sectors'!N$113-2000,FALSE),\"\")","v":""},{"$f":"IF($R142=TRUE,VLOOKUP($A142,'Rest of the UK Exports - Table'!$A$3:$V$19,'Chart Data - Sectors'!O$113-2000,FALSE),\"\")","v":""},{"$f":"IF($R142=TRUE,VLOOKUP($A142,'Rest of the UK Exports - Table'!$A$3:$V$19,'Chart Data - Sectors'!P$113-2000,FALSE),\"\")","v":""},{"$f":"IF($R142=TRUE,VLOOKUP($A142,'Rest of the UK Exports - Table'!$A$3:$V$19,'Chart Data - Sectors'!Q$113-2000,FALSE),\"\")","v":""},false]
["Forest and Timber Technologies",{"$f":"IF($R143=TRUE,VLOOKUP($A143,'Rest of the UK Exports - Table'!$A$3:$V$19,'Chart Data - Sectors'!B$113-2000,FALSE),\"\")","v":""},{"$f":"IF($R143=TRUE,VLOOKUP($A143,'Rest of the UK Exports - Table'!$A$3:$V$19,'Chart Data - Sectors'!C$113-2000,FALSE),\"\")","v":""},{"$f":"IF($R143=TRUE,VLOOKUP($A143,'Rest of the UK Exports - Table'!$A$3:$V$19,'Chart Data - Sectors'!D$113-2000,FALSE),\"\")","v":""},{"$f":"IF($R143=TRUE,VLOOKUP($A143,'Rest of the UK Exports - Table'!$A$3:$V$19,'Chart Data - Sectors'!E$113-2000,FALSE),\"\")","v":""},{"$f":"IF($R143=TRUE,VLOOKUP($A143,'Rest of the UK Exports - Table'!$A$3:$V$19,'Chart Data - Sectors'!F$113-2000,FALSE),\"\")","v":""},{"$f":"IF($R143=TRUE,VLOOKUP($A143,'Rest of the UK Exports - Table'!$A$3:$V$19,'Chart Data - Sectors'!G$113-2000,FALSE),\"\")","v":""},{"$f":"IF($R143=TRUE,VLOOKUP($A143,'Rest of the UK Exports - Table'!$A$3:$V$19,'Chart Data - Sectors'!H$113-2000,FALSE),\"\")","v":""},{"$f":"IF($R143=TRUE,VLOOKUP($A143,'Rest of the UK Exports - Table'!$A$3:$V$19,'Chart Data - Sectors'!I$113-2000,FALSE),\"\")","v":""},{"$f":"IF($R143=TRUE,VLOOKUP($A143,'Rest of the UK Exports - Table'!$A$3:$V$19,'Chart Data - Sectors'!J$113-2000,FALSE),\"\")","v":""},{"$f":"IF($R143=TRUE,VLOOKUP($A143,'Rest of the UK Exports - Table'!$A$3:$V$19,'Chart Data - Sectors'!K$113-2000,FALSE),\"\")","v":""},{"$f":"IF($R143=TRUE,VLOOKUP($A143,'Rest of the UK Exports - Table'!$A$3:$V$19,'Chart Data - Sectors'!L$113-2000,FALSE),\"\")","v":""},{"$f":"IF($R143=TRUE,VLOOKUP($A143,'Rest of the UK Exports - Table'!$A$3:$V$19,'Chart Data - Sectors'!M$113-2000,FALSE),\"\")","v":""},{"$f":"IF($R143=TRUE,VLOOKUP($A143,'Rest of the UK Exports - Table'!$A$3:$V$19,'Chart Data - Sectors'!N$113-2000,FALSE),\"\")","v":""},{"$f":"IF($R143=TRUE,VLOOKUP($A143,'Rest of the UK Exports - Table'!$A$3:$V$19,'Chart Data - Sectors'!O$113-2000,FALSE),\"\")","v":""},{"$f":"IF($R143=TRUE,VLOOKUP($A143,'Rest of the UK Exports - Table'!$A$3:$V$19,'Chart Data - Sectors'!P$113-2000,FALSE),\"\")","v":""},{"$f":"IF($R143=TRUE,VLOOKUP($A143,'Rest of the UK Exports - Table'!$A$3:$V$19,'Chart Data - Sectors'!Q$113-2000,FALSE),\"\")","v":""},false]
["Sustainable Tourism",{"$f":"IF($R144=TRUE,VLOOKUP($A144,'Rest of the UK Exports - Table'!$A$3:$V$19,'Chart Data - Sectors'!B$113-2000,FALSE),\"\")","v":""},{"$f":"IF($R144=TRUE,VLOOKUP($A144,'Rest of the UK Exports - Table'!$A$3:$V$19,'Chart Data - Sectors'!C$113-2000,FALSE),\"\")","v":""},{"$f":"IF($R144=TRUE,VLOOKUP($A144,'Rest of the UK Exports - Table'!$A$3:$V$19,'Chart Data - Sectors'!D$113-2000,FALSE),\"\")","v":""},{"$f":"IF($R144=TRUE,VLOOKUP($A144,'Rest of the UK Exports - Table'!$A$3:$V$19,'Chart Data - Sectors'!E$113-2000,FALSE),\"\")","v":""},{"$f":"IF($R144=TRUE,VLOOKUP($A144,'Rest of the UK Exports - Table'!$A$3:$V$19,'Chart Data - Sectors'!F$113-2000,FALSE),\"\")","v":""},{"$f":"IF($R144=TRUE,VLOOKUP($A144,'Rest of the UK Exports - Table'!$A$3:$V$19,'Chart Data - Sectors'!G$113-2000,FALSE),\"\")","v":""},{"$f":"IF($R144=TRUE,VLOOKUP($A144,'Rest of the UK Exports - Table'!$A$3:$V$19,'Chart Data - Sectors'!H$113-2000,FALSE),\"\")","v":""},{"$f":"IF($R144=TRUE,VLOOKUP($A144,'Rest of the UK Exports - Table'!$A$3:$V$19,'Chart Data - Sectors'!I$113-2000,FALSE),\"\")","v":""},{"$f":"IF($R144=TRUE,VLOOKUP($A144,'Rest of the UK Exports - Table'!$A$3:$V$19,'Chart Data - Sectors'!J$113-2000,FALSE),\"\")","v":""},{"$f":"IF($R144=TRUE,VLOOKUP($A144,'Rest of the UK Exports - Table'!$A$3:$V$19,'Chart Data - Sectors'!K$113-2000,FALSE),\"\")","v":""},{"$f":"IF($R144=TRUE,VLOOKUP($A144,'Rest of the UK Exports - Table'!$A$3:$V$19,'Chart Data - Sectors'!L$113-2000,FALSE),\"\")","v":""},{"$f":"IF($R144=TRUE,VLOOKUP($A144,'Rest of the UK Exports - Table'!$A$3:$V$19,'Chart Data - Sectors'!M$113-2000,FALSE),\"\")","v":""},{"$f":"IF($R144=TRUE,VLOOKUP($A144,'Rest of the UK Exports - Table'!$A$3:$V$19,'Chart Data - Sectors'!N$113-2000,FALSE),\"\")","v":""},{"$f":"IF($R144=TRUE,VLOOKUP($A144,'Rest of the UK Exports - Table'!$A$3:$V$19,'Chart Data - Sectors'!O$113-2000,FALSE),\"\")","v":""},{"$f":"IF($R144=TRUE,VLOOKUP($A144,'Rest of the UK Exports - Table'!$A$3:$V$19,'Chart Data - Sectors'!P$113-2000,FALSE),\"\")","v":""},{"$f":"IF($R144=TRUE,VLOOKUP($A144,'Rest of the UK Exports - Table'!$A$3:$V$19,'Chart Data - Sectors'!Q$113-2000,FALSE),\"\")","v":""},false]
["Education",{"$f":"IF($R145=TRUE,VLOOKUP($A145,'Rest of the UK Exports - Table'!$A$3:$V$19,'Chart Data - Sectors'!B$113-2000,FALSE),\"\")","v":""},{"$f":"IF($R145=TRUE,VLOOKUP($A145,'Rest of the UK Exports - Table'!$A$3:$V$19,'Chart Data - Sectors'!C$113-2000,FALSE),\"\")","v":""},{"$f":"IF($R145=TRUE,VLOOKUP($A145,'Rest of the UK Exports - Table'!$A$3:$V$19,'Chart Data - Sectors'!D$113-2000,FALSE),\"\")","v":""},{"$f":"IF($R145=TRUE,VLOOKUP($A145,'Rest of the UK Exports - Table'!$A$3:$V$19,'Chart Data - Sectors'!E$113-2000,FALSE),\"\")","v":""},{"$f":"IF($R145=TRUE,VLOOKUP($A145,'Rest of the UK Exports - Table'!$A$3:$V$19,'Chart Data - Sectors'!F$113-2000,FALSE),\"\")","v":""},{"$f":"IF($R145=TRUE,VLOOKUP($A145,'Rest of the UK Exports - Table'!$A$3:$V$19,'Chart Data - Sectors'!G$113-2000,FALSE),\"\")","v":""},{"$f":"IF($R145=TRUE,VLOOKUP($A145,'Rest of the UK Exports - Table'!$A$3:$V$19,'Chart Data - Sectors'!H$113-2000,FALSE),\"\")","v":""},{"$f":"IF($R145=TRUE,VLOOKUP($A145,'Rest of the UK Exports - Table'!$A$3:$V$19,'Chart Data - Sectors'!I$113-2000,FALSE),\"\")","v":""},{"$f":"IF($R145=TRUE,VLOOKUP($A145,'Rest of the UK Exports - Table'!$A$3:$V$19,'Chart Data - Sectors'!J$113-2000,FALSE),\"\")","v":""},{"$f":"IF($R145=TRUE,VLOOKUP($A145,'Rest of the UK Exports - Table'!$A$3:$V$19,'Chart Data - Sectors'!K$113-2000,FALSE),\"\")","v":""},{"$f":"IF($R145=TRUE,VLOOKUP($A145,'Rest of the UK Exports - Table'!$A$3:$V$19,'Chart Data - Sectors'!L$113-2000,FALSE),\"\")","v":""},{"$f":"IF($R145=TRUE,VLOOKUP($A145,'Rest of the UK Exports - Table'!$A$3:$V$19,'Chart Data - Sectors'!M$113-2000,FALSE),\"\")","v":""},{"$f":"IF($R145=TRUE,VLOOKUP($A145,'Rest of the UK Exports - Table'!$A$3:$V$19,'Chart Data - Sectors'!N$113-2000,FALSE),\"\")","v":""},{"$f":"IF($R145=TRUE,VLOOKUP($A145,'Rest of the UK Exports - Table'!$A$3:$V$19,'Chart Data - Sectors'!O$113-2000,FALSE),\"\")","v":""},{"$f":"IF($R145=TRUE,VLOOKUP($A145,'Rest of the UK Exports - Table'!$A$3:$V$19,'Chart Data - Sectors'!P$113-2000,FALSE),\"\")","v":""},{"$f":"IF($R145=TRUE,VLOOKUP($A145,'Rest of the UK Exports - Table'!$A$3:$V$19,'Chart Data - Sectors'!Q$113-2000,FALSE),\"\")","v":""},false]
["Textiles",{"$f":"IF($R146=TRUE,VLOOKUP($A146,'Rest of the UK Exports - Table'!$A$3:$V$19,'Chart Data - Sectors'!B$113-2000,FALSE),\"\")","v":""},{"$f":"IF($R146=TRUE,VLOOKUP($A146,'Rest of the UK Exports - Table'!$A$3:$V$19,'Chart Data - Sectors'!C$113-2000,FALSE),\"\")","v":""},{"$f":"IF($R146=TRUE,VLOOKUP($A146,'Rest of the UK Exports - Table'!$A$3:$V$19,'Chart Data - Sectors'!D$113-2000,FALSE),\"\")","v":""},{"$f":"IF($R146=TRUE,VLOOKUP($A146,'Rest of the UK Exports - Table'!$A$3:$V$19,'Chart Data - Sectors'!E$113-2000,FALSE),\"\")","v":""},{"$f":"IF($R146=TRUE,VLOOKUP($A146,'Rest of the UK Exports - Table'!$A$3:$V$19,'Chart Data - Sectors'!F$113-2000,FALSE),\"\")","v":""},{"$f":"IF($R146=TRUE,VLOOKUP($A146,'Rest of the UK Exports - Table'!$A$3:$V$19,'Chart Data - Sectors'!G$113-2000,FALSE),\"\")","v":""},{"$f":"IF($R146=TRUE,VLOOKUP($A146,'Rest of the UK Exports - Table'!$A$3:$V$19,'Chart Data - Sectors'!H$113-2000,FALSE),\"\")","v":""},{"$f":"IF($R146=TRUE,VLOOKUP($A146,'Rest of the UK Exports - Table'!$A$3:$V$19,'Chart Data - Sectors'!I$113-2000,FALSE),\"\")","v":""},{"$f":"IF($R146=TRUE,VLOOKUP($A146,'Rest of the UK Exports - Table'!$A$3:$V$19,'Chart Data - Sectors'!J$113-2000,FALSE),\"\")","v":""},{"$f":"IF($R146=TRUE,VLOOKUP($A146,'Rest of the UK Exports - Table'!$A$3:$V$19,'Chart Data - Sectors'!K$113-2000,FALSE),\"\")","v":""},{"$f":"IF($R146=TRUE,VLOOKUP($A146,'Rest of the UK Exports - Table'!$A$3:$V$19,'Chart Data - Sectors'!L$113-2000,FALSE),\"\")","v":""},{"$f":"IF($R146=TRUE,VLOOKUP($A146,'Rest of the UK Exports - Table'!$A$3:$V$19,'Chart Data - Sectors'!M$113-2000,FALSE),\"\")","v":""},{"$f":"IF($R146=TRUE,VLOOKUP($A146,'Rest of the UK Exports - Table'!$A$3:$V$19,'Chart Data - Sectors'!N$113-2000,FALSE),\"\")","v":""},{"$f":"IF($R146=TRUE,VLOOKUP($A146,'Rest of the UK Exports - Table'!$A$3:$V$19,'Chart Data - Sectors'!O$113-2000,FALSE),\"\")","v":""},{"$f":"IF($R146=TRUE,VLOOKUP($A146,'Rest of the UK Exports - Table'!$A$3:$V$19,'Chart Data - Sectors'!P$113-2000,FALSE),\"\")","v":""},{"$f":"IF($R146=TRUE,VLOOKUP($A146,'Rest of the UK Exports - Table'!$A$3:$V$19,'Chart Data - Sectors'!Q$113-2000,FALSE),\"\")","v":""},false]
["Life Sciences",{"$f":"IF($R147=TRUE,VLOOKUP($A147,'Rest of the UK Exports - Table'!$A$3:$V$19,'Chart Data - Sectors'!B$113-2000,FALSE),\"\")","v":""},{"$f":"IF($R147=TRUE,VLOOKUP($A147,'Rest of the UK Exports - Table'!$A$3:$V$19,'Chart Data - Sectors'!C$113-2000,FALSE),\"\")","v":""},{"$f":"IF($R147=TRUE,VLOOKUP($A147,'Rest of the UK Exports - Table'!$A$3:$V$19,'Chart Data - Sectors'!D$113-2000,FALSE),\"\")","v":""},{"$f":"IF($R147=TRUE,VLOOKUP($A147,'Rest of the UK Exports - Table'!$A$3:$V$19,'Chart Data - Sectors'!E$113-2000,FALSE),\"\")","v":""},{"$f":"IF($R147=TRUE,VLOOKUP($A147,'Rest of the UK Exports - Table'!$A$3:$V$19,'Chart Data - Sectors'!F$113-2000,FALSE),\"\")","v":""},{"$f":"IF($R147=TRUE,VLOOKUP($A147,'Rest of the UK Exports - Table'!$A$3:$V$19,'Chart Data - Sectors'!G$113-2000,FALSE),\"\")","v":""},{"$f":"IF($R147=TRUE,VLOOKUP($A147,'Rest of the UK Exports - Table'!$A$3:$V$19,'Chart Data - Sectors'!H$113-2000,FALSE),\"\")","v":""},{"$f":"IF($R147=TRUE,VLOOKUP($A147,'Rest of the UK Exports - Table'!$A$3:$V$19,'Chart Data - Sectors'!I$113-2000,FALSE),\"\")","v":""},{"$f":"IF($R147=TRUE,VLOOKUP($A147,'Rest of the UK Exports - Table'!$A$3:$V$19,'Chart Data - Sectors'!J$113-2000,FALSE),\"\")","v":""},{"$f":"IF($R147=TRUE,VLOOKUP($A147,'Rest of the UK Exports - Table'!$A$3:$V$19,'Chart Data - Sectors'!K$113-2000,FALSE),\"\")","v":""},{"$f":"IF($R147=TRUE,VLOOKUP($A147,'Rest of the UK Exports - Table'!$A$3:$V$19,'Chart Data - Sectors'!L$113-2000,FALSE),\"\")","v":""},{"$f":"IF($R147=TRUE,VLOOKUP($A147,'Rest of the UK Exports - Table'!$A$3:$V$19,'Chart Data - Sectors'!M$113-2000,FALSE),\"\")","v":""},{"$f":"IF($R147=TRUE,VLOOKUP($A147,'Rest of the UK Exports - Table'!$A$3:$V$19,'Chart Data - Sectors'!N$113-2000,FALSE),\"\")","v":""},{"$f":"IF($R147=TRUE,VLOOKUP($A147,'Rest of the UK Exports - Table'!$A$3:$V$19,'Chart Data - Sectors'!O$113-2000,FALSE),\"\")","v":""},{"$f":"IF($R147=TRUE,VLOOKUP($A147,'Rest of the UK Exports - Table'!$A$3:$V$19,'Chart Data - Sectors'!P$113-2000,FALSE),\"\")","v":""},{"$f":"IF($R147=TRUE,VLOOKUP($A147,'Rest of the UK Exports - Table'!$A$3:$V$19,'Chart Data - Sectors'!Q$113-2000,FALSE),\"\")","v":""},false]
["Real Estate",{"$f":"IF($R148=TRUE,VLOOKUP($A148,'Rest of the UK Exports - Table'!$A$3:$V$19,'Chart Data - Sectors'!B$113-2000,FALSE),\"\")","v":""},{"$f":"IF($R148=TRUE,VLOOKUP($A148,'Rest of the UK Exports - Table'!$A$3:$V$19,'Chart Data - Sectors'!C$113-2000,FALSE),\"\")","v":""},{"$f":"IF($R148=TRUE,VLOOKUP($A148,'Rest of the UK Exports - Table'!$A$3:$V$19,'Chart Data - Sectors'!D$113-2000,FALSE),\"\")","v":""},{"$f":"IF($R148=TRUE,VLOOKUP($A148,'Rest of the UK Exports - Table'!$A$3:$V$19,'Chart Data - Sectors'!E$113-2000,FALSE),\"\")","v":""},{"$f":"IF($R148=TRUE,VLOOKUP($A148,'Rest of the UK Exports - Table'!$A$3:$V$19,'Chart Data - Sectors'!F$113-2000,FALSE),\"\")","v":""},{"$f":"IF($R148=TRUE,VLOOKUP($A148,'Rest of the UK Exports - Table'!$A$3:$V$19,'Chart Data - Sectors'!G$113-2000,FALSE),\"\")","v":""},{"$f":"IF($R148=TRUE,VLOOKUP($A148,'Rest of the UK Exports - Table'!$A$3:$V$19,'Chart Data - Sectors'!H$113-2000,FALSE),\"\")","v":""},{"$f":"IF($R148=TRUE,VLOOKUP($A148,'Rest of the UK Exports - Table'!$A$3:$V$19,'Chart Data - Sectors'!I$113-2000,FALSE),\"\")","v":""},{"$f":"IF($R148=TRUE,VLOOKUP($A148,'Rest of the UK Exports - Table'!$A$3:$V$19,'Chart Data - Sectors'!J$113-2000,FALSE),\"\")","v":""},{"$f":"IF($R148=TRUE,VLOOKUP($A148,'Rest of the UK Exports - Table'!$A$3:$V$19,'Chart Data - Sectors'!K$113-2000,FALSE),\"\")","v":""},{"$f":"IF($R148=TRUE,VLOOKUP($A148,'Rest of the UK Exports - Table'!$A$3:$V$19,'Chart Data - Sectors'!L$113-2000,FALSE),\"\")","v":""},{"$f":"IF($R148=TRUE,VLOOKUP($A148,'Rest of the UK Exports - Table'!$A$3:$V$19,'Chart Data - Sectors'!M$113-2000,FALSE),\"\")","v":""},{"$f":"IF($R148=TRUE,VLOOKUP($A148,'Rest of the UK Exports - Table'!$A$3:$V$19,'Chart Data - Sectors'!N$113-2000,FALSE),\"\")","v":""},{"$f":"IF($R148=TRUE,VLOOKUP($A148,'Rest of the UK Exports - Table'!$A$3:$V$19,'Chart Data - Sectors'!O$113-2000,FALSE),\"\")","v":""},{"$f":"IF($R148=TRUE,VLOOKUP($A148,'Rest of the UK Exports - Table'!$A$3:$V$19,'Chart Data - Sectors'!P$113-2000,FALSE),\"\")","v":""},{"$f":"IF($R148=TRUE,VLOOKUP($A148,'Rest of the UK Exports - Table'!$A$3:$V$19,'Chart Data - Sectors'!Q$113-2000,FALSE),\"\")","v":""},false]
[]
[null,true]
[]
[]
["Engineering"]
["Food and Drink"]
["Financial and Business Services"]
["Digital Economy"]
["Chemical Sciences"]
["Energy"]
["Wholesale and Retail Trade"]
["Transportation and Storage"]
["Life Sciences"]
["Sustainable Construction"]
["Education"]
["Forest and Timber Technologies"]
["Textiles"]
["Sustainable Tourism"]
["Other Services and Accommodation"]
["Real Estate"]